{"text_format":"1","workbook":"xlsx","n_sheets":3,"sheets":["data","data1","Tabelle3"],"not_rendered":{"charts":0,"images":0,"macros":1,"external_links":0,"defined_names":1,"comments":0,"pivot_tables":0},"unopened":[],"bounds":{"document_bytes":16777216,"sheet_cells":100000,"rows_first":2000,"rows_last":500,"rows_between":2000,"halvings":0,"cell_chars":16384,"cell_head_chars":4096},"cells_cut":0,"cells_raw":0,"read":"whole","date_system":"1900"}

{"sheet":"data","index":0,"n_rows":107,"n_cols":5006,"rows_kept":15,"cut":true,"hidden":false,"merged":[[0,0,0,1]],"bounds":{"rows_first":7,"rows_last":1,"rows_between":7,"halvings":8}}
["Bootstrap",null,null,"© Michael Koch, ISWA Univ. Stuttgart"]
[null,"data",null,"Original data set",null,null,1,2,3,4,5,6,7,8,9,10,11,12,13,14,15,16,17,18,19,20,21,22,23,24,25,26,27,28,29,30,31,32,33,34,35,36,37,38,39,40,41,42,43,44,45,46,47,48,49,50,51,52,53,54,55,56,57,58,59,60,61,62,63,64,65,66,67,68,69,70,71,72,73,74,75,76,77,78,79,80,81,82,83,84,85,86,87,88,89,90,91,92,93,94,95,96,97,98,99,100,101,102,103,104,105,106,107,108,109,110,111,112,113,114,115,116,117,118,119,120,121,122,123,124,125,126,127,128,129,130,131,132,133,134,135,136,137,138,139,140,141,142,143,144,145,146,147,148,149,150,151,152,153,154,155,156,157,158,159,160,161,162,163,164,165,166,167,168,169,170,171,172,173,174,175,176,177,178,179,180,181,182,183,184,185,186,187,188,189,190,191,192,193,194,195,196,197,198,199,200,201,202,203,204,205,206,207,208,209,210,211,212,213,214,215,216,217,218,219,220,221,222,223,224,225,226,227,228,229,230,231,232,233,234,235,236,237,238,239,240,241,242,243,244,245,246,247,248,249,250,251,252,253,254,255,256,257,258,259,260,261,262,263,264,265,266,267,268,269,270,271,272,273,274,275,276,277,278,279,280,281,282,283,284,285,286,287,288,289,290,291,292,293,294,295,296,297,298,299,300,301,302,303,304,305,306,307,308,309,310,311,312,313,314,315,316,317,318,319,320,321,322,323,324,325,326,327,328,329,330,331,332,333,334,335,336,337,338,339,340,341,342,343,344,345,346,347,348,349,350,351,352,353,354,355,356,357,358,359,360,361,362,363,364,365,366,367,368,369,370,371,372,373,374,375,376,377,378,379,380,381,382,383,384,385,386,387,388,389,390,391,392,393,394,395,396,397,398,399,400,401,402,403,404,405,406,407,408,409,410,411,412,413,414,415,416,417,418,419,420,421,422,423,424,425,426,427,428,429,430,431,432,433,434,435,436,437,438,439,440,441,442,443,444,445,446,447,448,449,450,451,452,453,454,455,456,457,458,459,460,461,462,463,464,465,466,467,468,469,470,471,472,473,474,475,476,477,478,479,480,481,482,483,484,485,486,487,488,489,490,491,492,493,494,495,496,497,498,499,500,501,502,503,504,505,506,507,508,509,510,511,512,513,514,515,516,517,518,519,520,521,522,523,524,525,526,527,528,529,530,531,532,533,534,535,536,537,538,539,540,541,542,543,544,545,546,547,548,549,550,551,552,553,554,555,556,557,558,559,560,561,562,563,564,565,566,567,568,569,570,571,572,573,574,575,576,577,578,579,580,581,582,583,584,585,586,587,588,589,590,591,592,593,594,595,596,597,598,599,600,601,602,603,604,605,606,607,608,609,610,611,612,613,614,615,616,617,618,619,620,621,622,623,624,625,626,627,628,629,630,631,632,633,634,635,636,637,638,639,640,641,642,643,644,645,646,647,648,649,650,651,652,653,654,655,656,657,658,659,660,661,662,663,664,665,666,667,668,669,670,671,672,673,674,675,676,677,678,679,680,681,682,683,684,685,686,687,688,689,690,691,692,693,694,695,696,697,698,699,700,701,702,703,704,705,706,707,708,709,710,711,712,713,714,715,716,717,718,719,720,721,722,723,724,725,726,727,728,729,730,731,732,733,734,735,736,737,738,739,740,741,742,743,744,745,746,747,748,749,750,751,752,753,754,755,756,757,758,759,760,761,762,763,764,765,766,767,768,769,770,771,772,773,774,775,776,777,778,779,780,781,782,783,784,785,786,787,788,789,790,791,792,793,794,795,796,797,798,799,800,801,802,803,804,805,806,807,808,809,810,811,812,813,814,815,816,817,818,819,820,821,822,823,824,825,826,827,828,829,830,831,832,833,834,835,836,837,838,839,840,841,842,843,844,845,846,847,848,849,850,851,852,853,854,855,856,857,858,859,860,861,862,863,864,865,866,867,868,869,870,871,872,873,874,875,876,877,878,879,880,881,882,883,884,885,886,887,888,889,890,891,892,893,894,895,896,897,898,899,900,901,902,903,904,905,906,907,908,909,910,911,912,913,914,915,916,917,918,919,920,921,922,923,924,925,926,927,928,929,930,931,932,933,934,935,936,937,938,939,940,941,942,943,944,945,946,947,948,949,950,951,952,953,954,955,956,957,958,959,960,961,962,963,964,965,966,967,968,969,970,971,972,973,974,975,976,977,978,979,980,981,982,983,984,985,986,987,988,989,990,991,992,993,994,995,996,997,998,999,1000,1001,1002,1003,1004,1005,1006,1007,1008,1009,1010,1011,1012,1013,1014,1015,1016,1017,1018,1019,1020,1021,1022,1023,1024,1025,1026,1027,1028,1029,1030,1031,1032,1033,1034,1035,1036,1037,1038,1039,1040,1041,1042,1043,1044,1045,1046,1047,1048,1049,1050,1051,1052,1053,1054,1055,1056,1057,1058,1059,1060,1061,1062,1063,1064,1065,1066,1067,1068,1069,1070,1071,1072,1073,1074,1075,1076,1077,1078,1079,1080,1081,1082,1083,1084,1085,1086,1087,1088,1089,1090,1091,1092,1093,1094,1095,1096,1097,1098,1099,1100,1101,1102,1103,1104,1105,1106,1107,1108,1109,1110,1111,1112,1113,1114,1115,1116,1117,1118,1119,1120,1121,1122,1123,1124,1125,1126,1127,1128,1129,1130,1131,1132,1133,1134,1135,1136,1137,1138,1139,1140,1141,1142,1143,1144,1145,1146,1147,1148,1149,1150,1151,1152,1153,1154,1155,1156,1157,1158,1159,1160,1161,1162,1163,1164,1165,1166,1167,1168,1169,1170,1171,1172,1173,1174,1175,1176,1177,1178,1179,1180,1181,1182,1183,1184,1185,1186,1187,1188,1189,1190,1191,1192,1193,1194,1195,1196,1197,1198,1199,1200,1201,1202,1203,1204,1205,1206,1207,1208,1209,1210,1211,1212,1213,1214,1215,1216,1217,1218,1219,1220,1221,1222,1223,1224,1225,1226,1227,1228,1229,1230,1231,1232,1233,1234,1235,1236,1237,1238,1239,1240,1241,1242,1243,1244,1245,1246,1247,1248,1249,1250,1251,1252,1253,1254,1255,1256,1257,1258,1259,1260,1261,1262,1263,1264,1265,1266,1267,1268,1269,1270,1271,1272,1273,1274,1275,1276,1277,1278,1279,1280,1281,1282,1283,1284,1285,1286,1287,1288,1289,1290,1291,1292,1293,1294,1295,1296,1297,1298,1299,1300,1301,1302,1303,1304,1305,1306,1307,1308,1309,1310,1311,1312,1313,1314,1315,1316,1317,1318,1319,1320,1321,1322,1323,1324,1325,1326,1327,1328,1329,1330,1331,1332,1333,1334,1335,1336,1337,1338,1339,1340,1341,1342,1343,1344,1345,1346,1347,1348,1349,1350,1351,1352,1353,1354,1355,1356,1357,1358,1359,1360,1361,1362,1363,1364,1365,1366,1367,1368,1369,1370,1371,1372,1373,1374,1375,1376,1377,1378,1379,1380,1381,1382,1383,1384,1385,1386,1387,1388,1389,1390,1391,1392,1393,1394,1395,1396,1397,1398,1399,1400,1401,1402,1403,1404,1405,1406,1407,1408,1409,1410,1411,1412,1413,1414,1415,1416,1417,1418,1419,1420,1421,1422,1423,1424,1425,1426,1427,1428,1429,1430,1431,1432,1433,1434,1435,1436,1437,1438,1439,1440,1441,1442,1443,1444,1445,1446,1447,1448,1449,1450,1451,1452,1453,1454,1455,1456,1457,1458,1459,1460,1461,1462,1463,1464,1465,1466,1467,1468,1469,1470,1471,1472,1473,1474,1475,1476,1477,1478,1479,1480,1481,1482,1483,1484,1485,1486,1487,1488,1489,1490,1491,1492,1493,1494,1495,1496,1497,1498,1499,1500,1501,1502,1503,1504,1505,1506,1507,1508,1509,1510,1511,1512,1513,1514,1515,1516,1517,1518,1519,1520,1521,1522,1523,1524,1525,1526,1527,1528,1529,1530,1531,1532,1533,1534,1535,1536,1537,1538,1539,1540,1541,1542,1543,1544,1545,1546,1547,1548,1549,1550,1551,1552,1553,1554,1555,1556,1557,1558,1559,1560,1561,1562,1563,1564,1565,1566,1567,1568,1569,1570,1571,1572,1573,1574,1575,1576,1577,1578,1579,1580,1581,1582,1583,1584,1585,1586,1587,1588,1589,1590,1591,1592,1593,1594,1595,1596,1597,1598,1599,1600,1601,1602,1603,1604,1605,1606,1607,1608,1609,1610,1611,1612,1613,1614,1615,1616,1617,1618,1619,1620,1621,1622,1623,1624,1625,1626,1627,1628,1629,1630,1631,1632,1633,1634,1635,1636,1637,1638,1639,1640,1641,1642,1643,1644,1645,1646,1647,1648,1649,1650,1651,1652,1653,1654,1655,1656,1657,1658,1659,1660,1661,1662,1663,1664,1665,1666,1667,1668,1669,1670,1671,1672,1673,1674,1675,1676,1677,1678,1679,1680,1681,1682,1683,1684,1685,1686,1687,1688,1689,1690,1691,1692,1693,1694,1695,1696,1697,1698,1699,1700,1701,1702,1703,1704,1705,1706,1707,1708,1709,1710,1711,1712,1713,1714,1715,1716,1717,1718,1719,1720,1721,1722,1723,1724,1725,1726,1727,1728,1729,1730,1731,1732,1733,1734,1735,1736,1737,1738,1739,1740,1741,1742,1743,1744,1745,1746,1747,1748,1749,1750,1751,1752,1753,1754,1755,1756,1757,1758,1759,1760,1761,1762,1763,1764,1765,1766,1767,1768,1769,1770,1771,1772,1773,1774,1775,1776,1777,1778,1779,1780,1781,1782,1783,1784,1785,1786,1787,1788,1789,1790,1791,1792,1793,1794,1795,1796,1797,1798,1799,1800,1801,1802,1803,1804,1805,1806,1807,1808,1809,1810,1811,1812,1813,1814,1815,1816,1817,1818,1819,1820,1821,1822,1823,1824,1825,1826,1827,1828,1829,1830,1831,1832,1833,1834,1835,1836,1837,1838,1839,1840,1841,1842,1843,1844,1845,1846,1847,1848,1849,1850,1851,1852,1853,1854,1855,1856,1857,1858,1859,1860,1861,1862,1863,1864,1865,1866,1867,1868,1869,1870,1871,1872,1873,1874,1875,1876,1877,1878,1879,1880,1881,1882,1883,1884,1885,1886,1887,1888,1889,1890,1891,1892,1893,1894,1895,1896,1897,1898,1899,1900,1901,1902,1903,1904,1905,1906,1907,1908,1909,1910,1911,1912,1913,1914,1915,1916,1917,1918,1919,1920,1921,1922,1923,1924,1925,1926,1927,1928,1929,1930,1931,1932,1933,1934,1935,1936,1937,1938,1939,1940,1941,1942,1943,1944,1945,1946,1947,1948,1949,1950,1951,1952,1953,1954,1955,1956,1957,1958,1959,1960,1961,1962,1963,1964,1965,1966,1967,1968,1969,1970,1971,1972,1973,1974,1975,1976,1977,1978,1979,1980,1981,1982,1983,1984,1985,1986,1987,1988,1989,1990,1991,1992,1993,1994,1995,1996,1997,1998,1999,2000,2001,2002,2003,2004,2005,2006,2007,2008,2009,2010,2011,2012,2013,2014,2015,2016,2017,2018,2019,2020,2021,2022,2023,2024,2025,2026,2027,2028,2029,2030,2031,2032,2033,2034,2035,2036,2037,2038,2039,2040,2041,2042,2043,2044,2045,2046,2047,2048,2049,2050,2051,2052,2053,2054,2055,2056,2057,2058,2059,2060,2061,2062,2063,2064,2065,2066,2067,2068,2069,2070,2071,2072,2073,2074,2075,2076,2077,2078,2079,2080,2081,2082,2083,2084,2085,2086,2087,2088,2089,2090,2091,2092,2093,2094,2095,2096,2097,2098,2099,2100,2101,2102,2103,2104,2105,2106,2107,2108,2109,2110,2111,2112,2113,2114,2115,2116,2117,2118,2119,2120,2121,2122,2123,2124,2125,2126,2127,2128,2129,2130,2131,2132,2133,2134,2135,2136,2137,2138,2139,2140,2141,2142,2143,2144,2145,2146,2147,2148,2149,2150,2151,2152,2153,2154,2155,2156,2157,2158,2159,2160,2161,2162,2163,2164,2165,2166,2167,2168,2169,2170,2171,2172,2173,2174,2175,2176,2177,2178,2179,2180,2181,2182,2183,2184,2185,2186,2187,2188,2189,2190,2191,2192,2193,2194,2195,2196,2197,2198,2199,2200,2201,2202,2203,2204,2205,2206,2207,2208,2209,2210,2211,2212,2213,2214,2215,2216,2217,2218,2219,2220,2221,2222,2223,2224,2225,2226,2227,2228,2229,2230,2231,2232,2233,2234,2235,2236,2237,2238,2239,2240,2241,2242,2243,2244,2245,2246,2247,2248,2249,2250,2251,2252,2253,2254,2255,2256,2257,2258,2259,2260,2261,2262,2263,2264,2265,2266,2267,2268,2269,2270,2271,2272,2273,2274,2275,2276,2277,2278,2279,2280,2281,2282,2283,2284,2285,2286,2287,2288,2289,2290,2291,2292,2293,2294,2295,2296,2297,2298,2299,2300,2301,2302,2303,2304,2305,2306,2307,2308,2309,2310,2311,2312,2313,2314,2315,2316,2317,2318,2319,2320,2321,2322,2323,2324,2325,2326,2327,2328,2329,2330,2331,2332,2333,2334,2335,2336,2337,2338,2339,2340,2341,2342,2343,2344,2345,2346,2347,2348,2349,2350,2351,2352,2353,2354,2355,2356,2357,2358,2359,2360,2361,2362,2363,2364,2365,2366,2367,2368,2369,2370,2371,2372,2373,2374,2375,2376,2377,2378,2379,2380,2381,2382,2383,2384,2385,2386,2387,2388,2389,2390,2391,2392,2393,2394,2395,2396,2397,2398,2399,2400,2401,2402,2403,2404,2405,2406,2407,2408,2409,2410,2411,2412,2413,2414,2415,2416,2417,2418,2419,2420,2421,2422,2423,2424,2425,2426,2427,2428,2429,2430,2431,2432,2433,2434,2435,2436,2437,2438,2439,2440,2441,2442,2443,2444,2445,2446,2447,2448,2449,2450,2451,2452,2453,2454,2455,2456,2457,2458,2459,2460,2461,2462,2463,2464,2465,2466,2467,2468,2469,2470,2471,2472,2473,2474,2475,2476,2477,2478,2479,2480,2481,2482,2483,2484,2485,2486,2487,2488,2489,2490,2491,2492,2493,2494,2495,2496,2497,2498,2499,2500,2501,2502,2503,2504,2505,2506,2507,2508,2509,2510,2511,2512,2513,2514,2515,2516,2517,2518,2519,2520,2521,2522,2523,2524,2525,2526,2527,2528,2529,2530,2531,2532,2533,2534,2535,2536,2537,2538,2539,2540,2541,2542,2543,2544,2545,2546,2547,2548,2549,2550,2551,2552,2553,2554,2555,2556,2557,2558,2559,2560,2561,2562,2563,2564,2565,2566,2567,2568,2569,2570,2571,2572,2573,2574,2575,2576,2577,2578,2579,2580,2581,2582,2583,2584,2585,2586,2587,2588,2589,2590,2591,2592,2593,2594,2595,2596,2597,2598,2599,2600,2601,2602,2603,2604,2605,2606,2607,2608,2609,2610,2611,2612,2613,2614,2615,2616,2617,2618,2619,2620,2621,2622,2623,2624,2625,2626,2627,2628,2629,2630,2631,2632,2633,2634,2635,2636,2637,2638,2639,2640,2641,2642,2643,2644,2645,2646,2647,2648,2649,2650,2651,2652,2653,2654,2655,2656,2657,2658,2659,2660,2661,2662,2663,2664,2665,2666,2667,2668,2669,2670,2671,2672,2673,2674,2675,2676,2677,2678,2679,2680,2681,2682,2683,2684,2685,2686,2687,2688,2689,2690,2691,2692,2693,2694,2695,2696,2697,2698,2699,2700,2701,2702,2703,2704,2705,2706,2707,2708,2709,2710,2711,2712,2713,2714,2715,2716,2717,2718,2719,2720,2721,2722,2723,2724,2725,2726,2727,2728,2729,2730,2731,2732,2733,2734,2735,2736,2737,2738,2739,2740,2741,2742,2743,2744,2745,2746,2747,2748,2749,2750,2751,2752,2753,2754,2755,2756,2757,2758,2759,2760,2761,2762,2763,2764,2765,2766,2767,2768,2769,2770,2771,2772,2773,2774,2775,2776,2777,2778,2779,2780,2781,2782,2783,2784,2785,2786,2787,2788,2789,2790,2791,2792,2793,2794,2795,2796,2797,2798,2799,2800,2801,2802,2803,2804,2805,2806,2807,2808,2809,2810,2811,2812,2813,2814,2815,2816,2817,2818,2819,2820,2821,2822,2823,2824,2825,2826,2827,2828,2829,2830,2831,2832,2833,2834,2835,2836,2837,2838,2839,2840,2841,2842,2843,2844,2845,2846,2847,2848,2849,2850,2851,2852,2853,2854,2855,2856,2857,2858,2859,2860,2861,2862,2863,2864,2865,2866,2867,2868,2869,2870,2871,2872,2873,2874,2875,2876,2877,2878,2879,2880,2881,2882,2883,2884,2885,2886,2887,2888,2889,2890,2891,2892,2893,2894,2895,2896,2897,2898,2899,2900,2901,2902,2903,2904,2905,2906,2907,2908,2909,2910,2911,2912,2913,2914,2915,2916,2917,2918,2919,2920,2921,2922,2923,2924,2925,2926,2927,2928,2929,2930,2931,2932,2933,2934,2935,2936,2937,2938,2939,2940,2941,2942,2943,2944,2945,2946,2947,2948,2949,2950,2951,2952,2953,2954,2955,2956,2957,2958,2959,2960,2961,2962,2963,2964,2965,2966,2967,2968,2969,2970,2971,2972,2973,2974,2975,2976,2977,2978,2979,2980,2981,2982,2983,2984,2985,2986,2987,2988,2989,2990,2991,2992,2993,2994,2995,2996,2997,2998,2999,3000,3001,3002,3003,3004,3005,3006,3007,3008,3009,3010,3011,3012,3013,3014,3015,3016,3017,3018,3019,3020,3021,3022,3023,3024,3025,3026,3027,3028,3029,3030,3031,3032,3033,3034,3035,3036,3037,3038,3039,3040,3041,3042,3043,3044,3045,3046,3047,3048,3049,3050,3051,3052,3053,3054,3055,3056,3057,3058,3059,3060,3061,3062,3063,3064,3065,3066,3067,3068,3069,3070,3071,3072,3073,3074,3075,3076,3077,3078,3079,3080,3081,3082,3083,3084,3085,3086,3087,3088,3089,3090,3091,3092,3093,3094,3095,3096,3097,3098,3099,3100,3101,3102,3103,3104,3105,3106,3107,3108,3109,3110,3111,3112,3113,3114,3115,3116,3117,3118,3119,3120,3121,3122,3123,3124,3125,3126,3127,3128,3129,3130,3131,3132,3133,3134,3135,3136,3137,3138,3139,3140,3141,3142,3143,3144,3145,3146,3147,3148,3149,3150,3151,3152,3153,3154,3155,3156,3157,3158,3159,3160,3161,3162,3163,3164,3165,3166,3167,3168,3169,3170,3171,3172,3173,3174,3175,3176,3177,3178,3179,3180,3181,3182,3183,3184,3185,3186,3187,3188,3189,3190,3191,3192,3193,3194,3195,3196,3197,3198,3199,3200,3201,3202,3203,3204,3205,3206,3207,3208,3209,3210,3211,3212,3213,3214,3215,3216,3217,3218,3219,3220,3221,3222,3223,3224,3225,3226,3227,3228,3229,3230,3231,3232,3233,3234,3235,3236,3237,3238,3239,3240,3241,3242,3243,3244,3245,3246,3247,3248,3249,3250,3251,3252,3253,3254,3255,3256,3257,3258,3259,3260,3261,3262,3263,3264,3265,3266,3267,3268,3269,3270,3271,3272,3273,3274,3275,3276,3277,3278,3279,3280,3281,3282,3283,3284,3285,3286,3287,3288,3289,3290,3291,3292,3293,3294,3295,3296,3297,3298,3299,3300,3301,3302,3303,3304,3305,3306,3307,3308,3309,3310,3311,3312,3313,3314,3315,3316,3317,3318,3319,3320,3321,3322,3323,3324,3325,3326,3327,3328,3329,3330,3331,3332,3333,3334,3335,3336,3337,3338,3339,3340,3341,3342,3343,3344,3345,3346,3347,3348,3349,3350,3351,3352,3353,3354,3355,3356,3357,3358,3359,3360,3361,3362,3363,3364,3365,3366,3367,3368,3369,3370,3371,3372,3373,3374,3375,3376,3377,3378,3379,3380,3381,3382,3383,3384,3385,3386,3387,3388,3389,3390,3391,3392,3393,3394,3395,3396,3397,3398,3399,3400,3401,3402,3403,3404,3405,3406,3407,3408,3409,3410,3411,3412,3413,3414,3415,3416,3417,3418,3419,3420,3421,3422,3423,3424,3425,3426,3427,3428,3429,3430,3431,3432,3433,3434,3435,3436,3437,3438,3439,3440,3441,3442,3443,3444,3445,3446,3447,3448,3449,3450,3451,3452,3453,3454,3455,3456,3457,3458,3459,3460,3461,3462,3463,3464,3465,3466,3467,3468,3469,3470,3471,3472,3473,3474,3475,3476,3477,3478,3479,3480,3481,3482,3483,3484,3485,3486,3487,3488,3489,3490,3491,3492,3493,3494,3495,3496,3497,3498,3499,3500,3501,3502,3503,3504,3505,3506,3507,3508,3509,3510,3511,3512,3513,3514,3515,3516,3517,3518,3519,3520,3521,3522,3523,3524,3525,3526,3527,3528,3529,3530,3531,3532,3533,3534,3535,3536,3537,3538,3539,3540,3541,3542,3543,3544,3545,3546,3547,3548,3549,3550,3551,3552,3553,3554,3555,3556,3557,3558,3559,3560,3561,3562,3563,3564,3565,3566,3567,3568,3569,3570,3571,3572,3573,3574,3575,3576,3577,3578,3579,3580,3581,3582,3583,3584,3585,3586,3587,3588,3589,3590,3591,3592,3593,3594,3595,3596,3597,3598,3599,3600,3601,3602,3603,3604,3605,3606,3607,3608,3609,3610,3611,3612,3613,3614,3615,3616,3617,3618,3619,3620,3621,3622,3623,3624,3625,3626,3627,3628,3629,3630,3631,3632,3633,3634,3635,3636,3637,3638,3639,3640,3641,3642,3643,3644,3645,3646,3647,3648,3649,3650,3651,3652,3653,3654,3655,3656,3657,3658,3659,3660,3661,3662,3663,3664,3665,3666,3667,3668,3669,3670,3671,3672,3673,3674,3675,3676,3677,3678,3679,3680,3681,3682,3683,3684,3685,3686,3687,3688,3689,3690,3691,3692,3693,3694,3695,3696,3697,3698,3699,3700,3701,3702,3703,3704,3705,3706,3707,3708,3709,3710,3711,3712,3713,3714,3715,3716,3717,3718,3719,3720,3721,3722,3723,3724,3725,3726,3727,3728,3729,3730,3731,3732,3733,3734,3735,3736,3737,3738,3739,3740,3741,3742,3743,3744,3745,3746,3747,3748,3749,3750,3751,3752,3753,3754,3755,3756,3757,3758,3759,3760,3761,3762,3763,3764,3765,3766,3767,3768,3769,3770,3771,3772,3773,3774,3775,3776,3777,3778,3779,3780,3781,3782,3783,3784,3785,3786,3787,3788,3789,3790,3791,3792,3793,3794,3795,3796,3797,3798,3799,3800,3801,3802,3803,3804,3805,3806,3807,3808,3809,3810,3811,3812,3813,3814,3815,3816,3817,3818,3819,3820,3821,3822,3823,3824,3825,3826,3827,3828,3829,3830,3831,3832,3833,3834,3835,3836,3837,3838,3839,3840,3841,3842,3843,3844,3845,3846,3847,3848,3849,3850,3851,3852,3853,3854,3855,3856,3857,3858,3859,3860,3861,3862,3863,3864,3865,3866,3867,3868,3869,3870,3871,3872,3873,3874,3875,3876,3877,3878,3879,3880,3881,3882,3883,3884,3885,3886,3887,3888,3889,3890,3891,3892,3893,3894,3895,3896,3897,3898,3899,3900,3901,3902,3903,3904,3905,3906,3907,3908,3909,3910,3911,3912,3913,3914,3915,3916,3917,3918,3919,3920,3921,3922,3923,3924,3925,3926,3927,3928,3929,3930,3931,3932,3933,3934,3935,3936,3937,3938,3939,3940,3941,3942,3943,3944,3945,3946,3947,3948,3949,3950,3951,3952,3953,3954,3955,3956,3957,3958,3959,3960,3961,3962,3963,3964,3965,3966,3967,3968,3969,3970,3971,3972,3973,3974,3975,3976,3977,3978,3979,3980,3981,3982,3983,3984,3985,3986,3987,3988,3989,3990,3991,3992,3993,3994,3995,3996,3997,3998,3999,4000,4001,4002,4003,4004,4005,4006,4007,4008,4009,4010,4011,4012,4013,4014,4015,4016,4017,4018,4019,4020,4021,4022,4023,4024,4025,4026,4027,4028,4029,4030,4031,4032,4033,4034,4035,4036,4037,4038,4039,4040,4041,4042,4043,4044,4045,4046,4047,4048,4049,4050,4051,4052,4053,4054,4055,4056,4057,4058,4059,4060,4061,4062,4063,4064,4065,4066,4067,4068,4069,4070,4071,4072,4073,4074,4075,4076,4077,4078,4079,4080,4081,4082,4083,4084,4085,4086,4087,4088,4089,4090,4091,4092,4093,4094,4095,4096,4097,4098,4099,4100,4101,4102,4103,4104,4105,4106,4107,4108,4109,4110,4111,4112,4113,4114,4115,4116,4117,4118,4119,4120,4121,4122,4123,4124,4125,4126,4127,4128,4129,4130,4131,4132,4133,4134,4135,4136,4137,4138,4139,4140,4141,4142,4143,4144,4145,4146,4147,4148,4149,4150,4151,4152,4153,4154,4155,4156,4157,4158,4159,4160,4161,4162,4163,4164,4165,4166,4167,4168,4169,4170,4171,4172,4173,4174,4175,4176,4177,4178,4179,4180,4181,4182,4183,4184,4185,4186,4187,4188,4189,4190,4191,4192,4193,4194,4195,4196,4197,4198,4199,4200,4201,4202,4203,4204,4205,4206,4207,4208,4209,4210,4211,4212,4213,4214,4215,4216,4217,4218,4219,4220,4221,4222,4223,4224,4225,4226,4227,4228,4229,4230,4231,4232,4233,4234,4235,4236,4237,4238,4239,4240,4241,4242,4243,4244,4245,4246,4247,4248,4249,4250,4251,4252,4253,4254,4255,4256,4257,4258,4259,4260,4261,4262,4263,4264,4265,4266,4267,4268,4269,4270,4271,4272,4273,4274,4275,4276,4277,4278,4279,4280,4281,4282,4283,4284,4285,4286,4287,4288,4289,4290,4291,4292,4293,4294,4295,4296,4297,4298,4299,4300,4301,4302,4303,4304,4305,4306,4307,4308,4309,4310,4311,4312,4313,4314,4315,4316,4317,4318,4319,4320,4321,4322,4323,4324,4325,4326,4327,4328,4329,4330,4331,4332,4333,4334,4335,4336,4337,4338,4339,4340,4341,4342,4343,4344,4345,4346,4347,4348,4349,4350,4351,4352,4353,4354,4355,4356,4357,4358,4359,4360,4361,4362,4363,4364,4365,4366,4367,4368,4369,4370,4371,4372,4373,4374,4375,4376,4377,4378,4379,4380,4381,4382,4383,4384,4385,4386,4387,4388,4389,4390,4391,4392,4393,4394,4395,4396,4397,4398,4399,4400,4401,4402,4403,4404,4405,4406,4407,4408,4409,4410,4411,4412,4413,4414,4415,4416,4417,4418,4419,4420,4421,4422,4423,4424,4425,4426,4427,4428,4429,4430,4431,4432,4433,4434,4435,4436,4437,4438,4439,4440,4441,4442,4443,4444,4445,4446,4447,4448,4449,4450,4451,4452,4453,4454,4455,4456,4457,4458,4459,4460,4461,4462,4463,4464,4465,4466,4467,4468,4469,4470,4471,4472,4473,4474,4475,4476,4477,4478,4479,4480,4481,4482,4483,4484,4485,4486,4487,4488,4489,4490,4491,4492,4493,4494,4495,4496,4497,4498,4499,4500,4501,4502,4503,4504,4505,4506,4507,4508,4509,4510,4511,4512,4513,4514,4515,4516,4517,4518,4519,4520,4521,4522,4523,4524,4525,4526,4527,4528,4529,4530,4531,4532,4533,4534,4535,4536,4537,4538,4539,4540,4541,4542,4543,4544,4545,4546,4547,4548,4549,4550,4551,4552,4553,4554,4555,4556,4557,4558,4559,4560,4561,4562,4563,4564,4565,4566,4567,4568,4569,4570,4571,4572,4573,4574,4575,4576,4577,4578,4579,4580,4581,4582,4583,4584,4585,4586,4587,4588,4589,4590,4591,4592,4593,4594,4595,4596,4597,4598,4599,4600,4601,4602,4603,4604,4605,4606,4607,4608,4609,4610,4611,4612,4613,4614,4615,4616,4617,4618,4619,4620,4621,4622,4623,4624,4625,4626,4627,4628,4629,4630,4631,4632,4633,4634,4635,4636,4637,4638,4639,4640,4641,4642,4643,4644,4645,4646,4647,4648,4649,4650,4651,4652,4653,4654,4655,4656,4657,4658,4659,4660,4661,4662,4663,4664,4665,4666,4667,4668,4669,4670,4671,4672,4673,4674,4675,4676,4677,4678,4679,4680,4681,4682,4683,4684,4685,4686,4687,4688,4689,4690,4691,4692,4693,4694,4695,4696,4697,4698,4699,4700,4701,4702,4703,4704,4705,4706,4707,4708,4709,4710,4711,4712,4713,4714,4715,4716,4717,4718,4719,4720,4721,4722,4723,4724,4725,4726,4727,4728,4729,4730,4731,4732,4733,4734,4735,4736,4737,4738,4739,4740,4741,4742,4743,4744,4745,4746,4747,4748,4749,4750,4751,4752,4753,4754,4755,4756,4757,4758,4759,4760,4761,4762,4763,4764,4765,4766,4767,4768,4769,4770,4771,4772,4773,4774,4775,4776,4777,4778,4779,4780,4781,4782,4783,4784,4785,4786,4787,4788,4789,4790,4791,4792,4793,4794,4795,4796,4797,4798,4799,4800,4801,4802,4803,4804,4805,4806,4807,4808,4809,4810,4811,4812,4813,4814,4815,4816,4817,4818,4819,4820,4821,4822,4823,4824,4825,4826,4827,4828,4829,4830,4831,4832,4833,4834,4835,4836,4837,4838,4839,4840,4841,4842,4843,4844,4845,4846,4847,4848,4849,4850,4851,4852,4853,4854,4855,4856,4857,4858,4859,4860,4861,4862,4863,4864,4865,4866,4867,4868,4869,4870,4871,4872,4873,4874,4875,4876,4877,4878,4879,4880,4881,4882,4883,4884,4885,4886,4887,4888,4889,4890,4891,4892,4893,4894,4895,4896,4897,4898,4899,4900,4901,4902,4903,4904,4905,4906,4907,4908,4909,4910,4911,4912,4913,4914,4915,4916,4917,4918,4919,4920,4921,4922,4923,4924,4925,4926,4927,4928,4929,4930,4931,4932,4933,4934,4935,4936,4937,4938,4939,4940,4941,4942,4943,4944,4945,4946,4947,4948,4949,4950,4951,4952,4953,4954,4955,4956,4957,4958,4959,4960,4961,4962,4963,4964,4965,4966,4967,4968,4969,4970,4971,4972,4973,4974,4975,4976,4977,4978,4979,4980,4981,4982,4983,4984,4985,4986,4987,4988,4989,4990,4991,4992,4993,4994,4995,4996,4997,4998,4999,5000]
[1,45,null,"mean",{"$f":"AVERAGE(B3:B102)","v":55.705882352941174},null,{"$f":"IF($B3<>\"\",INDEX($B$3:$B$102,COUNT($B$3:$B$102)*RAND()+1),\"\")","v":57},{"$f":"IF($B3<>\"\",INDEX($B$3:$B$102,COUNT($B$3:$B$102)*RAND()+1),\"\")","v":36},{"$f":"IF($B3<>\"\",INDEX($B$3:$B$102,COUNT($B$3:$B$102)*RAND()+1),\"\")","v":69},69,58,69,45,70,7,68,46,70,58,68,68,36,68,69,45,57,58,68,47,70,57,68,79,36,68,79,68,57,68,46,36,57,68,57,69,58,68,69,7,46,69,57,79,69,68,69,36,47,46,46,68,58,7,47,79,57,36,69,57,68,69,36,{"$f":"IF($B3<>\"\",INDEX($B$3:$B$102,COUNT($B$3:$B$102)*RAND()+1),\"\")","v":68},45,57,36,57,68,36,7,7,58,58,68,7,47,68,45,70,57,45,70,69,69,68,57,68,58,46,46,46,58,58,79,46,46,46,47,47,69,46,58,7,68,46,68,68,68,69,7,69,7,79,47,69,68,57,7,68,46,57,57,46,36,69,57,{"$f":"IF($B3<>\"\",INDEX($B$3:$B$102,COUNT($B$3:$B$102)*RAND()+1),\"\")","v":68},68,68,68,7,57,58,68,45,36,36,58,57,68,58,45,7,36,46,69,69,46,46,69,57,57,57,7,57,36,68,57,46,57,45,7,58,70,7,70,69,36,46,70,68,68,46,70,68,7,79,46,70,57,70,36,58,70,70,7,68,69,68,68,{"$f":"IF($B3<>\"\",INDEX($B$3:$B$102,COUNT($B$3:$B$102)*RAND()+1),\"\")","v":47},47,57,68,69,68,79,36,69,57,7,57,58,46,46,46,68,45,7,69,46,57,7,68,57,47,46,68,7,68,47,57,47,57,70,68,57,46,46,58,68,70,57,68,57,69,68,57,7,45,58,70,68,68,58,70,57,68,57,57,68,57,69,79,{"$f":"IF($B3<>\"\",INDEX($B$3:$B$102,COUNT($B$3:$B$102)*RAND()+1),\"\")","v":69},46,69,46,70,69,68,68,57,68,57,58,58,69,79,46,68,46,79,57,69,69,79,46,36,57,46,46,58,47,68,57,58,46,47,69,57,69,46,68,57,79,36,45,68,46,79,68,57,68,68,47,45,36,58,46,36,57,57,69,68,57,69,7,{"$f":"IF($B3<>\"\",INDEX($B$3:$B$102,COUNT($B$3:$B$102)*RAND()+1),\"\")","v":68},69,70,58,57,57,7,7,79,36,36,45,57,79,45,68,57,79,68,57,70,70,46,68,47,79,69,57,79,46,57,46,58,36,45,45,69,46,69,57,58,58,58,69,7,57,69,69,46,7,58,57,47,79,69,68,45,69,46,58,46,45,79,68,{"$f":"IF($B3<>\"\",INDEX($B$3:$B$102,COUNT($B$3:$B$102)*RAND()+1),\"\")","v":68},36,36,57,69,79,57,45,68,36,47,58,69,69,58,68,69,46,47,47,68,7,68,79,57,46,7,68,47,47,57,68,57,46,46,57,69,69,57,57,70,7,70,79,70,70,68,68,69,68,68,36,46,45,7,47,57,57,47,57,70,79,57,68,{"$f":"IF($B3<>\"\",INDEX($B$3:$B$102,COUNT($B$3:$B$102)*RAND()+1),\"\")","v":45},57,47,46,7,79,47,68,68,68,46,57,69,46,47,36,69,36,36,69,68,45,69,57,57,47,7,68,45,45,36,58,68,69,68,57,79,45,57,7,58,70,58,45,46,68,46,46,69,46,57,57,68,45,57,69,79,57,70,68,7,57,68,57,{"$f":"IF($B3<>\"\",INDEX($B$3:$B$102,COUNT($B$3:$B$102)*RAND()+1),\"\")","v":46},46,70,57,36,58,57,57,68,45,46,7,69,57,57,70,58,57,46,68,46,36,58,45,79,58,70,57,47,46,47,57,68,57,36,68,70,68,69,57,57,36,57,58,57,57,46,57,46,46,68,68,46,58,46,46,36,57,58,79,68,57,46,46,{"$f":"IF($B3<>\"\",INDEX($B$3:$B$102,COUNT($B$3:$B$102)*RAND()+1),\"\")","v":57},69,70,47,69,36,79,70,70,68,57,69,69,57,70,47,46,46,36,69,70,68,36,36,69,58,58,57,68,36,57,57,68,79,70,36,57,68,7,79,46,70,70,57,7,79,70,69,57,69,46,57,69,69,58,46,68,7,69,7,69,45,68,68,{"$f":"IF($B3<>\"\",INDEX($B$3:$B$102,COUNT($B$3:$B$102)*RAND()+1),\"\")","v":46},79,7,58,47,70,46,70,69,69,57,58,46,46,68,46,69,69,58,7,69,79,57,68,57,57,57,7,68,36,45,68,46,47,68,45,68,36,47,68,57,69,57,46,69,68,46,57,70,68,70,69,58,7,45,47,58,46,46,68,57,69,45,57,{"$f":"IF($B3<>\"\",INDEX($B$3:$B$102,COUNT($B$3:$B$102)*RAND()+1),\"\")","v":69},46,46,36,45,57,36,70,68,68,57,68,69,69,45,45,79,57,47,70,47,57,58,45,36,36,46,36,57,68,46,68,79,58,68,46,79,46,69,47,79,68,57,68,46,45,47,70,47,68,69,68,69,57,47,58,58,68,79,45,57,68,58,46,{"$f":"IF($B3<>\"\",INDEX($B$3:$B$102,COUNT($B$3:$B$102)*RAND()+1),\"\")","v":70},57,47,68,69,46,79,68,70,79,79,68,57,70,36,7,47,45,79,45,79,68,45,46,57,68,68,45,68,69,68,36,36,7,57,46,68,57,7,57,45,47,7,7,57,69,79,47,68,45,45,46,69,69,70,68,68,57,7,57,7,45,57,70,{"$f":"IF($B3<>\"\",INDEX($B$3:$B$102,COUNT($B$3:$B$102)*RAND()+1),\"\")","v":70},58,57,68,68,57,68,57,46,57,57,46,36,47,57,69,79,7,69,7,7,68,68,68,46,79,57,7,46,45,69,57,7,36,57,58,68,36,69,68,68,45,69,69,46,68,68,45,69,46,58,58,68,70,70,45,69,69,7,57,69,46,45,46,{"$f":"IF($B3<>\"\",INDEX($B$3:$B$102,COUNT($B$3:$B$102)*RAND()+1),\"\")","v":69},36,47,69,57,68,70,68,7,68,57,47,7,36,36,68,79,57,68,36,36,36,36,57,68,45,7,68,57,68,58,57,69,69,47,57,68,68,47,7,69,79,69,46,46,57,68,57,7,57,57,70,69,68,68,46,45,58,36,69,68,69,46,57,{"$f":"IF($B3<>\"\",INDEX($B$3:$B$102,COUNT($B$3:$B$102)*RAND()+1),\"\")","v":57},68,68,46,7,68,46,68,45,79,45,68,68,68,79,58,57,79,69,7,68,57,79,7,57,69,70,68,70,69,57,79,69,68,46,46,57,68,{"$f":"IF($B3<>\"\",INDEX($B$3:$B$102,COUNT($B$3:$B$102)*RAND()+1),\"\")","v":68},45,47,68,46,57,68,46,69,46,7,68,69,57,57,7,57,7,47,47,57,57,79,47,70,58,68,46,7,57,69,68,58,45,45,58,69,68,57,58,68,57,69,57,58,68,47,46,47,46,46,7,57,70,57,47,47,79,46,46,57,36,58,68,{"$f":"IF($B3<>\"\",INDEX($B$3:$B$102,COUNT($B$3:$B$102)*RAND()+1),\"\")","v":58},79,57,69,57,45,57,69,57,46,57,46,7,46,68,46,57,69,69,46,46,58,79,68,70,47,57,36,79,70,69,70,68,58,69,36,57,46,57,57,47,79,69,68,45,58,47,46,79,7,46,70,45,7,36,58,68,57,57,68,68,68,46,46,{"$f":"IF($B3<>\"\",INDEX($B$3:$B$102,COUNT($B$3:$B$102)*RAND()+1),\"\")","v":68},7,70,7,68,46,36,57,69,47,7,79,47,47,47,46,58,68,47,69,46,36,70,69,57,68,57,70,7,69,7,47,7,68,79,68,58,79,45,46,36,69,68,57,70,79,79,57,46,57,45,69,46,70,46,45,69,58,68,79,46,57,36,79,{"$f":"IF($B3<>\"\",INDEX($B$3:$B$102,COUNT($B$3:$B$102)*RAND()+1),\"\")","v":46},36,68,7,57,68,68,69,68,57,68,70,46,47,46,68,57,46,47,58,36,46,79,46,57,45,58,70,69,46,46,69,7,68,68,46,46,69,47,36,46,68,68,46,68,47,36,47,57,46,68,68,46,68,36,45,68,46,36,58,36,68,7,7,{"$f":"IF($B3<>\"\",INDEX($B$3:$B$102,COUNT($B$3:$B$102)*RAND()+1),\"\")","v":46},68,47,47,45,69,58,68,7,47,68,69,7,69,69,68,7,46,7,68,57,57,68,69,69,57,58,46,7,70,68,36,57,70,36,7,69,57,69,79,70,79,68,68,58,46,57,57,58,68,69,68,36,47,45,68,70,46,57,57,57,46,69,45,{"$f":"IF($B3<>\"\",INDEX($B$3:$B$102,COUNT($B$3:$B$102)*RAND()+1),\"\")","v":57},47,46,47,68,45,68,57,68,57,69,46,46,7,57,79,7,79,68,57,68,47,68,70,68,57,46,69,47,79,47,69,69,68,69,58,36,68,70,46,57,79,57,69,79,58,58,36,70,46,68,68,68,46,68,58,45,36,46,45,36,70,57,79,{"$f":"IF($B3<>\"\",INDEX($B$3:$B$102,COUNT($B$3:$B$102)*RAND()+1),\"\")","v":58},70,36,57,57,46,46,69,45,57,58,68,7,79,68,46,45,45,57,7,68,7,68,58,57,70,70,46,79,58,68,45,45,69,69,46,57,46,57,79,57,57,47,68,57,70,69,57,36,68,7,47,57,57,57,68,69,57,36,46,57,70,7,57,{"$f":"IF($B3<>\"\",INDEX($B$3:$B$102,COUNT($B$3:$B$102)*RAND()+1),\"\")","v":57},70,57,46,7,68,57,68,57,69,57,69,69,57,45,68,45,70,57,57,36,46,70,57,45,7,46,69,58,57,47,69,46,46,79,68,36,7,57,68,58,68,7,46,36,68,68,57,79,46,79,36,46,46,46,7,45,57,57,79,47,57,68,79,{"$f":"IF($B3<>\"\",INDEX($B$3:$B$102,COUNT($B$3:$B$102)*RAND()+1),\"\")","v":45},68,70,69,36,70,79,47,58,68,79,68,47,68,45,47,36,7,45,7,68,47,46,46,57,45,46,68,68,57,45,45,57,57,69,57,69,69,46,57,58,69,57,68,58,68,68,36,70,68,68,57,69,79,47,46,69,46,68,69,57,68,57,58,{"$f":"IF($B3<>\"\",INDEX($B$3:$B$102,COUNT($B$3:$B$102)*RAND()+1),\"\")","v":46},57,36,47,46,69,46,79,68,46,45,68,69,58,68,36,7,46,79,57,69,47,69,69,47,68,57,69,7,68,68,69,57,45,46,45,45,7,69,68,36,57,68,46,69,36,46,69,79,68,68,70,57,57,69,36,57,46,36,69,68,47,57,57,{"$f":"IF($B3<>\"\",INDEX($B$3:$B$102,COUNT($B$3:$B$102)*RAND()+1),\"\")","v":47},68,57,69,57,57,46,57,57,46,7,45,36,7,69,70,68,57,57,36,47,47,45,47,46,69,68,57,57,58,79,79,36,46,46,57,46,68,47,57,70,68,36,58,46,45,69,7,68,57,57,69,68,68,57,46,68,58,68,45,7,70,57,7,{"$f":"IF($B3<>\"\",INDEX($B$3:$B$102,COUNT($B$3:$B$102)*RAND()+1),\"\")","v":69},57,46,68,68,7,68,46,69,46,68,70,46,7,58,57,47,58,46,7,68,69,68,58,57,46,79,46,57,57,58,79,79,69,58,57,79,45,47,57,36,58,57,68,70,69,69,68,69,46,68,58,57,46,57,36,68,68,57,45,68,36,68,58,{"$f":"IF($B3<>\"\",INDEX($B$3:$B$102,COUNT($B$3:$B$102)*RAND()+1),\"\")","v":7},68,68,47,69,69,70,68,7,57,70,57,7,69,47,69,58,57,69,58,47,58,57,57,68,70,69,36,58,7,57,69,57,68,69,69,79,58,69,57,58,57,70,58,58,7,70,57,46,46,70,7,45,68,79,45,68,57,57,45,69,70,47,46,{"$f":"IF($B3<>\"\",INDEX($B$3:$B$102,COUNT($B$3:$B$102)*RAND()+1),\"\")","v":68},46,79,69,79,68,57,79,46,7,58,69,58,70,68,68,46,58,57,45,7,58,45,79,70,69,7,47,79,68,36,47,69,58,45,68,47,57,7,7,47,45,36,57,46,68,47,36,57,45,58,58,47,68,7,70,46,57,69,68,36,68,46,36,{"$f":"IF($B3<>\"\",INDEX($B$3:$B$102,COUNT($B$3:$B$102)*RAND()+1),\"\")","v":46},36,47,7,68,36,69,79,58,68,7,70,69,70,68,79,46,57,57,47,57,45,57,57,57,47,46,36,36,45,57,46,7,68,69,58,36,58,47,68,68,79,68,46,68,57,46,69,46,70,36,68,57,7,70,57,7,70,69,47,58,45,79,68,{"$f":"IF($B3<>\"\",INDEX($B$3:$B$102,COUNT($B$3:$B$102)*RAND()+1),\"\")","v":57},36,36,79,36,47,47,57,45,57,36,69,79,7,58,36,46,57,69,69,69,57,68,58,47,57,45,58,69,46,57,70,45,68,68,57,70,68,47,68,57,36,45,68,57,57,68,68,58,45,69,57,68,68,7,68,36,46,70,69,7,69,68,36,{"$f":"IF($B3<>\"\",INDEX($B$3:$B$102,COUNT($B$3:$B$102)*RAND()+1),\"\")","v":68},7,7,46,57,68,57,70,68,68,69,57,69,47,68,46,7,57,7,57,68,45,47,57,57,57,68,69,46,47,57,57,69,68,70,7,68,68,36,45,7,57,36,57,79,69,68,36,46,46,57,45,46,57,58,69,68,58,68,47,69,69,7,68,{"$f":"IF($B3<>\"\",INDEX($B$3:$B$102,COUNT($B$3:$B$102)*RAND()+1),\"\")","v":58},7,70,47,57,36,69,68,57,69,46,69,47,58,47,58,57,69,57,69,7,69,47,46,36,46,46,57,7,46,69,69,68,46,46,46,68,57,47,57,79,79,36,46,57,68,47,36,68,68,57,69,47,68,57,57,46,57,45,70,57,58,68,46,{"$f":"IF($B3<>\"\",INDEX($B$3:$B$102,COUNT($B$3:$B$102)*RAND()+1),\"\")","v":68},47,57,69,69,47,45,69,69,36,68,68,57,57,46,46,45,57,68,69,70,68,69,57,69,70,46,46,36,68,79,57,69,7,36,46,57,79,7,68,46,68,69,58,68,58,7,47,70,57,68,70,68,57,46,58,46,69,46,57,36,68,46,69,{"$f":"IF($B3<>\"\",INDEX($B$3:$B$102,COUNT($B$3:$B$102)*RAND()+1),\"\")","v":57},47,68,79,46,58,46,57,46,57,68,57,68,69,46,7,69,68,57,68,68,57,46,47,68,45,68,7,7,57,47,57,46,70,7,46,69,46,57,57,46,57,68,79,68,36,68,46,47,68,45,79,45,46,79,47,46,45,57,69,70,69,57,46,{"$f":"IF($B3<>\"\",INDEX($B$3:$B$102,COUNT($B$3:$B$102)*RAND()+1),\"\")","v":68},7,69,68,68,57,68,46,58,70,58,45,47,70,68,45,68,46,58,47,69,58,57,68,69,79,58,45,69,69,68,57,58,57,68,57,46,69,36,70,36,7,57,68,57,79,68,57,36,46,46,58,36,7,68,46,36,69,46,70,58,46,7,68,{"$f":"IF($B3<>\"\",INDEX($B$3:$B$102,COUNT($B$3:$B$102)*RAND()+1),\"\")","v":57},68,69,36,47,68,69,57,69,45,68,57,79,46,47,46,47,70,69,58,45,57,69,57,7,69,46,68,69,45,57,69,68,57,68,68,46,57,57,79,57,7,45,46,79,57,69,47,57,68,45,45,57,69,46,45,58,47,47,7,7,57,79,68,{"$f":"IF($B3<>\"\",INDEX($B$3:$B$102,COUNT($B$3:$B$102)*RAND()+1),\"\")","v":57},69,69,69,68,69,57,46,79,57,58,69,36,57,68,57,57,69,46,70,68,57,57,57,47,57,45,68,69,57,46,68,57,58,79,70,47,69,45,46,46,69,79,46,79,46,69,57,47,57,68,57,57,57,36,69,47,68,7,68,68,36,45,46,{"$f":"IF($B3<>\"\",INDEX($B$3:$B$102,COUNT($B$3:$B$102)*RAND()+1),\"\")","v":68},57,57,57,69,68,46,57,7,46,68,68,79,70,57,57,69,57,57,79,68,69,69,79,70,79,69,46,57,70,68,47,79,47,7,69,46,69,68,70,69,57,68,68,68,46,70,57,58,47,36,69,79,69,36,69,70,57,45,68,68,68,47,57,{"$f":"IF($B3<>\"\",INDEX($B$3:$B$102,COUNT($B$3:$B$102)*RAND()+1),\"\")","v":68},69,57,69,68,57,45,79,57,57,7,58,46,69,68,47,57,68,68,69,57,58,57,57,45,46,69,47,45,46,46,68,70,7,36,47,68,68,68,57,68,69,57,47,57,68,70,47,70,7,47,70,68,58,46,69,57,69,57,68,47,46,7,57,{"$f":"IF($B3<>\"\",INDEX($B$3:$B$102,COUNT($B$3:$B$102)*RAND()+1),\"\")","v":58},46,68,45,57,57,46,46,46,46,68,58,47,69,58,68,69,36,58,68,57,68,68,70,68,57,45,58,7,36,68,57,69,36,68,79,70,57,69,45,70,68,57,46,45,58,69,47,45,7,58,57,57,68,57,47,68,57,7,47,47,57,57,68,{"$f":"IF($B3<>\"\",INDEX($B$3:$B$102,COUNT($B$3:$B$102)*RAND()+1),\"\")","v":57},57,57,46,68,7,68,46,79,45,68,46,45,57,7,57,57,45,46,79,46,57,68,46,46,57,70,45,57,45,36,57,46,58,68,70,68,69,45,46,46,58,46,46,46,57,69,7,36,46,79,68,46,79,68,70,57,45,79,69,47,57,68,57,{"$f":"IF($B3<>\"\",INDEX($B$3:$B$102,COUNT($B$3:$B$102)*RAND()+1),\"\")","v":57},57,68,57,45,57,68,58,47,7,36,45,68,45,47,69,68,57,68,58,57,46,7,57,46,7,68,57,70,69,46,46,69,79,57,68,7,46,36,69,68,69,58,68,70,79,70,46,68,45,69,69,70,70,45,57,69,7,46,57,68,45,57,45,{"$f":"IF($B3<>\"\",INDEX($B$3:$B$102,COUNT($B$3:$B$102)*RAND()+1),\"\")","v":68},46,68,36,68,47,7,46,69,68,58,68,69,46,46,47,57,46,7,45,69,46,46,7,58,36,68,46,68,47,68,69,69,57,7,47,58,79,57,68,36,57,47,68,58,47,7,69,47,57,69,57,58,47,45,58,70,46,57,36,57,68,58,70,{"$f":"IF($B3<>\"\",INDEX($B$3:$B$102,COUNT($B$3:$B$102)*RAND()+1),\"\")","v":46},57,69,57,68,68,57,36,69,68,70,36,46,68,69,46,57,79,69,69,68,57,45,7,79,79,57,69,68,7,7,58,47,69,68,68,7,68,57,7,68,68,58,58,68,57,69,47,69,68,45,47,68,45,69,79,7,68,46,45,46,7,45,70,{"$f":"IF($B3<>\"\",INDEX($B$3:$B$102,COUNT($B$3:$B$102)*RAND()+1),\"\")","v":57},7,47,68,68,68,57,57,47,46,70,45,68,57,69,36,36,47,58,46,68,57,69,58,57,57,69,46,46,68,57,46,69,68,36,58,57,36,68,45,36,36,69,57,7,70,79,68,79,69,70,45,46,68,45,36,36,46,69,69,57,7,36,68,{"$f":"IF($B3<>\"\",INDEX($B$3:$B$102,COUNT($B$3:$B$102)*RAND()+1),\"\")","v":69},57,46,45,79,69,36,68,69,7,70,68,68,57,68,68,68,7,7,46,70,57,70,45,57,7,46,47,58,36,57,68,69,57,69,46,57,68,69,45,68,57,70,69,69,58,45,58,46,58,57,68,69,46,70,68,36,69,68,46,45,69,57,36,{"$f":"IF($B3<>\"\",INDEX($B$3:$B$102,COUNT($B$3:$B$102)*RAND()+1),\"\")","v":57},7,46,58,69,69,58,45,57,7,57,68,69,57,58,57,69,68,46,46,47,57,45,70,79,57,7,45,45,47,46,46,57,57,58,68,57,70,57,46,79,46,57,68,45,70,58,68,68,7,45,57,57,58,68,69,46,68,36,58,58,79,45,36,{"$f":"IF($B3<>\"\",INDEX($B$3:$B$102,COUNT($B$3:$B$102)*RAND()+1),\"\")","v":58},36,68,46,57,45,57,45,70,57,69,36,68,79,58,58,69,58,46,69,79,69,47,58,57,68,68,57,68,47,57,68,45,79,7,69,46,70,70,69,46,57,36,57,69,36,58,57,36,68,46,36,68,57,69,57,46,47,69,36,79,47,47,36,{"$f":"IF($B3<>\"\",INDEX($B$3:$B$102,COUNT($B$3:$B$102)*RAND()+1),\"\")","v":79},46,57,69,68,46,68,68,79,57,36,69,68,57,46,69,69,58,36,57,57,68,68,69,45,58,46,68,79,46,36,58,79,46,68,70,57,45,68,45,7,68,45,69,69,47,68,69,57,57,79,68,47,69,45,7,46,69,57,57,57,69,46,46,{"$f":"IF($B3<>\"\",INDEX($B$3:$B$102,COUNT($B$3:$B$102)*RAND()+1),\"\")","v":58},68,58,68,7,69,68,68,7,69,57,45,45,57,68,68,36,36,58,36,7,69,57,58,7,7,79,79,68,46,36,46,57,57,70,47,68,68,46,79,47,68,57,46,68,70,68,57,69,57,57,68,36,79,58,36,70,68,68,57,57,79,57,79,{"$f":"IF($B3<>\"\",INDEX($B$3:$B$102,COUNT($B$3:$B$102)*RAND()+1),\"\")","v":70},58,68,57,57,57,69,58,70,57,69,57,7,58,47,47,57,70,46,68,68,46,68,57,68,58,68,69,68,45,46,57,46,68,79,7,46,70,7,58,36,46,46,57,68,68,69,68,70,57,36,68,68,69,68,57,45,79,69,70,79,57,47,46,{"$f":"IF($B3<>\"\",INDEX($B$3:$B$102,COUNT($B$3:$B$102)*RAND()+1),\"\")","v":79},47,68,68,68,46,69,68,57,68,47,46,7,68,70,47,7,68,58,7,70,68,46,68,46,57,36,47,45,45,68,68,57,68,79,36,79,70,68,68,68,69,68,68,68,68,7,57,79,36,69,45,57,46,57,7,57,46,68,46,68,46,57,7,{"$f":"IF($B3<>\"\",INDEX($B$3:$B$102,COUNT($B$3:$B$102)*RAND()+1),\"\")","v":7},45,69,45,46,57,57,68,46,46,58,70,57,46,68,7,68,68,70,68,69,69,57,7,57,7,57,46,46,68,58,46,57,57,57,79,58,70,36,57,36,46,46,46,68,69,70,68,58,58,69,68,70,57,57,58,46,68,46,7,68,57,46,36,{"$f":"IF($B3<>\"\",INDEX($B$3:$B$102,COUNT($B$3:$B$102)*RAND()+1),\"\")","v":70},70,69,69,68,36,68,70,45,70,70,57,69,57,57,57,69,46,47,57,58,79,57,57,69,68,57,46,46,68,68,68,58,69,45,69,57,69,68,57,68,69,69,79,69,46,57,58,69,57,69,68,68,57,57,47,69,46,46,58,7,69,68,45,{"$f":"IF($B3<>\"\",INDEX($B$3:$B$102,COUNT($B$3:$B$102)*RAND()+1),\"\")","v":69},57,45,46,45,7,70,69,57,46,68,57,57,57,46,45,57,69,69,69,69,69,57,58,68,68,47,68,79,58,68,57,7,7,69,46,68,68,36,57,7,57,70,58,45,70,70,68,68,45,68,70,58,68,69,69,46,57,47,57,70,7,79,70,{"$f":"IF($B3<>\"\",INDEX($B$3:$B$102,COUNT($B$3:$B$102)*RAND()+1),\"\")","v":46},69,46,47,46,68,57,45,36,46,79,57,36,58,57,36,68,46,79,46,68,45,57,68,69,36,57,68,36,57,7,46,70,69,58,70,57,57,36,57,79,47,79,57,46,68,7,68,70,68,69,58,69,79,68,70,57,46,46,7,57,57,45,46,{"$f":"IF($B3<>\"\",INDEX($B$3:$B$102,COUNT($B$3:$B$102)*RAND()+1),\"\")","v":68},69,47,58,47,57,68,68,46,46,79,68,45,46,46,70,58,69,57,68,57,70,36,45,69,69,69,46,79,57,36,68,57,58,79,69,46,57,57,46,68,68,69,47,79,57,79,57,70,36,57,47,70,70,68,58,70,79,47,46,70,69,69,57,{"$f":"IF($B3<>\"\",INDEX($B$3:$B$102,COUNT($B$3:$B$102)*RAND()+1),\"\")","v":68},68,70,68,58,68,69,57,45,79,36,45,7,68,69,69,68,46,58,45,45,45,57,47,57,70,68,68,68,79,68,45,70,68,47,70,70,57,36,45,57,7,58,69,46,79,70,46,70,47,57,68,58,68,46,36,58,7,45,70,46,45,69,68,{"$f":"IF($B3<>\"\",INDEX($B$3:$B$102,COUNT($B$3:$B$102)*RAND()+1),\"\")","v":70},47,46,69,46,79,36,46,36,69,68,70,57,36,68,57,68,57,70,47,47,70,79,36,68,57,68,70,58,46,7,69,57,46,46,57,68,45,57,79,79,70,36,46,57,57,47,79,7,57,79,69,46,79,57,57,57,7,68,68,57,47,68,45,{"$f":"IF($B3<>\"\",INDEX($B$3:$B$102,COUNT($B$3:$B$102)*RAND()+1),\"\")","v":57},69,7,7,36,57,57,45,46,46,68,57,57,69,57,70,57,70,58,69,69,69,68,46,69,68,46,68,7,57,70,45,68,57,58,58,69,68,36,68,68,79,46,47,68,36,79,68,68,68,79,57,58,79,69,46,57,57,36,68,57,47,69,57,{"$f":"IF($B3<>\"\",INDEX($B$3:$B$102,COUNT($B$3:$B$102)*RAND()+1),\"\")","v":69},68,47,79,57,69,68,69,57,69,45,70,47,68,68,69,79,57,46,45,46,36,68,69,46,58,47,57,46,69,36,57,57,58,57,69,57,57,57,68,68,57,69,57,47,57,58,46,46,45,57,47,70,46,79,58,68,45,7,36,47,68,57,68,{"$f":"IF($B3<>\"\",INDEX($B$3:$B$102,COUNT($B$3:$B$102)*RAND()+1),\"\")","v":46},68,69,79,46,46,47,57,70,57,79,46,68,45,7,68,70,57,68,7,57,45,7,46,68,68,69,7,57,70,46,68,68,79,57,36,58,57,69,36,58,68,36,79,7,46,7,69,46,70,69,47,58,68,68,57,68,70,47,7,58,79,46,45,{"$f":"IF($B3<>\"\",INDEX($B$3:$B$102,COUNT($B$3:$B$102)*RAND()+1),\"\")","v":36},58,58,57,47,57,7,7,57,69,79,45,36,69,69,69,68,58,46,57,57,69,47,46,69,36,46,69,7,58,45,68,45,36,68,79,45,69,68,57,69,69,57,58,68,68,57,46,70,69,36,46,68,68,45,68,47,46,68,79,57,68,68,57,{"$f":"IF($B3<>\"\",INDEX($B$3:$B$102,COUNT($B$3:$B$102)*RAND()+1),\"\")","v":7},69,79,7,45,45,7,69,70,57,7,68,46,69,46,79,7,36,57,46,57,57,7,70,36,68,70,69,69,58,68,70,57,57,79,68,57,79,7,46,46,57,70,46,68,7,68,57,45,68,68,79,69,69,70,69,57,45,7,57,57,36,68,46,{"$f":"IF($B3<>\"\",INDEX($B$3:$B$102,COUNT($B$3:$B$102)*RAND()+1),\"\")","v":79},46,69,70,47,68,46,36,69,68,57,45,70,46,58,58,69,68,79,58,46,57,46,36,7,47,7,58,45,45,57,46,58,68,57,47,57,69,36,57,68,79,7,46,46,58,7,46,47,46,45,69,58,68,79,47,57,46,45,47,46,47,70,70,{"$f":"IF($B3<>\"\",INDEX($B$3:$B$102,COUNT($B$3:$B$102)*RAND()+1),\"\")","v":68},68,47,58,36,7,7,58,45,57,57,68,36,46,58,46,57,7,7,57,7,47,68,57,69,69,68,57,36,68,46,69,45,57,7,58,57,57,68,46,58,68,68,57,68,69,70,68,7,69,45,68,69,47,69,70,58,57,46,57,68,69,69,68,{"$f":"IF($B3<>\"\",INDEX($B$3:$B$102,COUNT($B$3:$B$102)*RAND()+1),\"\")","v":79},46,69,68,79,70,57,58,79,36,69,46,46,79,57,69,68,79,69,7,68,7,47,46,7,58,36,57,45,69,7,69,7,36,57,69,45,7,7,45,46,46,46,69,46,45,36,46,79,58,57,69,58,45,47,7,57,58,7,68,70,69,69,68,{"$f":"IF($B3<>\"\",INDEX($B$3:$B$102,COUNT($B$3:$B$102)*RAND()+1),\"\")","v":79},36,79,69,57,36,7,68,57,57,68,58,79,70,45,70,46,79,57,68,45,58,47,57,58,69,46,79,46,46,69,46,68,70,36,47,47,57,7,57,57,46,70,57,79,46,46,36,58,70,46,45,57,46,7,69,46,69,47,69,36,58,68,68,{"$f":"IF($B3<>\"\",INDEX($B$3:$B$102,COUNT($B$3:$B$102)*RAND()+1),\"\")","v":47},47,57,69,58,79,45,46,70,68,79,46,70,46,69,58,57,68,57,46,7,46,68,46,46,45,70,68,57,57,36,45,46,57,45,46,45,46,7,46,46,57,57,45,68,57,69,58,68,7,57,57,7,46,46,79,45,36,57,57,58,69,79,68,{"$f":"IF($B3<>\"\",INDEX($B$3:$B$102,COUNT($B$3:$B$102)*RAND()+1),\"\")","v":68},68,46,79,57,58,46,68,7,57,58,69,7,46,57,45,68,7,45,70,68,68,57,68,46,69,69,57,68,45,68,68,68,58,57,79,36,47,79,7,57,68,68,57,36,45,69,45,68,69,68,68,68,7,46,68,45,57,58,46,46,68,79,70,{"$f":"IF($B3<>\"\",INDEX($B$3:$B$102,COUNT($B$3:$B$102)*RAND()+1),\"\")","v":70},57,47,57,68,36,36,70,79,68,68,7,79,68,69,70,68,69,68,69,69,57,58,57,46,69,47,36,69,69,46,7,7,70,46,46,46,68,57,45,69,68,69,68,58,45,57,70,69,46,69,68,36,46,57,36,47,69,68,79,46,57,46,69,{"$f":"IF($B3<>\"\",INDEX($B$3:$B$102,COUNT($B$3:$B$102)*RAND()+1),\"\")","v":79},45,70,45,68,7,57,68,70,68,69,57,36,68,79,68,36,68,7,58,79,46,58,57,36,68,47,69,68,58,36,58,79,68,57,58,58,47,47,7,69,57,57,79,68,57,58,45,58,46,57,69,47,47,45,57,46,79,36,70,47,57,57,58,{"$f":"IF($B3<>\"\",INDEX($B$3:$B$102,COUNT($B$3:$B$102)*RAND()+1),\"\")","v":57},58,68,57,7,45,57,79,45,46,57,69,69,47,68,57,58,69,57,69,57,68,68,47,70,79,69,69,7,46,70,69,7,69,46,46,7,57,58,79,68,46,57,68,45,57,57,47,69,57,58,68,45,70,57,57,69,57,57,46,68,68,79,68,{"$f":"IF($B3<>\"\",INDEX($B$3:$B$102,COUNT($B$3:$B$102)*RAND()+1),\"\")","v":46},69,57,69,46,69,46,79,68,46,68,36,68,58,57,7,45,68,68,68,69,70,57,68,58,57,7,68,58,36,47,45,79,45,57,57,7,46,7,46,70,68,57,79,36,57,58,70,58,70,58,45,46,7,68,70,46,46,68,68,7,7,7,58,{"$f":"IF($B3<>\"\",INDEX($B$3:$B$102,COUNT($B$3:$B$102)*RAND()+1),\"\")","v":58},57,68,45,69,45,58,69,79,68,68,79,70,69,69,57,46,79,57,46,57,47,57,46,57,46,57,69,45,79,58,70,46,46,58,57,36,68,7,46,70,47,36,68,69,57,57,57,7,36,68,70,79,68,47,69,58,68,57,45,46,46,70,70,{"$f":"IF($B3<>\"\",INDEX($B$3:$B$102,COUNT($B$3:$B$102)*RAND()+1),\"\")","v":68},58,57,69,57,46,68,57,57,70,7,68,57,68,45,45,69,7,68,46,7,7,68,45,57,7,68,79,69,36,68,7,46,46,57,79,46,46,68,69,68,68,68,79,45,7,57,79,58,58,70,58,46,58,70,58,70,57,68,79,69,57,57,36,{"$f":"IF($B3<>\"\",INDEX($B$3:$B$102,COUNT($B$3:$B$102)*RAND()+1),\"\")","v":69},69,68,45,57,45,68,57,46,46,68,68,57,68,46,47,68,69,46,68,58,57,68,46,69,47,46,57,46,45,57,69]
[2,47,null,"SE mean",{"$f":"STDEV(B3:B102)/SQRT(COUNT(B3:B102))","v":4.1584116611096347},null,{"$f":"IF($B4<>\"\",INDEX($B$3:$B$102,COUNT($B$3:$B$102)*RAND()+1),\"\")","v":57},57,46,68,58,57,57,36,69,68,57,68,57,79,36,68,36,70,57,69,57,68,79,79,68,47,45,46,57,69,57,69,69,69,57,46,58,69,46,69,57,57,7,69,68,79,57,57,45,46,58,68,69,58,68,69,45,57,36,57,46,69,68,36,57,47,45,36,57,47,70,70,57,57,57,68,57,46,79,46,57,58,46,57,68,57,68,57,69,79,79,79,45,57,68,46,7,7,57,45,68,57,57,58,68,57,68,69,57,69,69,45,46,68,68,79,58,69,69,69,57,68,69,57,46,57,68,79,57,7,68,57,47,46,69,7,47,45,68,69,70,69,58,7,46,58,68,47,68,68,68,36,47,68,7,69,69,47,45,79,58,7,36,69,7,46,68,70,57,46,79,68,36,57,70,58,47,68,68,45,69,69,68,7,58,69,58,46,79,69,68,47,70,47,57,57,7,57,57,68,68,69,57,68,57,69,46,7,58,79,69,68,47,46,68,68,46,46,68,68,46,58,57,57,79,45,46,69,68,47,79,45,58,57,70,58,69,45,46,79,36,79,57,70,70,36,46,69,69,68,68,57,68,47,7,68,69,68,47,68,46,46,79,7,70,57,45,70,46,58,47,68,46,69,68,57,46,79,69,46,57,57,36,70,69,68,69,57,57,47,57,57,36,57,46,57,69,57,58,36,46,46,47,46,57,69,47,68,69,70,69,45,57,68,68,57,68,70,57,57,46,47,68,46,79,36,68,45,69,46,57,57,57,57,68,57,69,57,68,69,68,68,69,79,46,36,69,70,70,57,58,57,36,68,46,46,57,7,79,57,57,58,47,7,57,46,36,47,57,57,47,57,57,47,70,70,57,45,68,47,47,36,58,57,68,70,47,70,46,58,57,79,45,57,68,46,70,46,69,57,46,68,45,57,69,70,68,7,57,70,57,46,79,57,57,68,45,7,46,69,57,46,68,57,68,69,68,68,68,69,57,68,57,69,47,69,57,36,57,58,69,36,68,45,69,68,68,57,57,57,57,46,57,46,46,68,36,68,69,69,36,69,57,57,47,57,68,68,69,46,57,57,45,7,70,69,46,47,57,70,57,68,79,79,68,7,47,68,36,70,47,68,47,36,46,46,70,79,68,68,57,70,69,68,79,68,57,7,70,69,57,57,68,46,46,68,57,57,57,70,7,57,46,68,47,69,68,47,58,47,46,47,46,69,68,57,36,46,68,68,57,68,7,47,7,57,36,79,7,68,45,57,69,79,79,68,79,69,68,46,46,57,46,45,58,68,57,57,46,46,45,58,69,70,69,36,7,70,47,45,69,46,79,70,68,57,46,46,68,7,46,70,45,46,57,57,46,57,58,57,46,47,70,46,46,47,47,7,68,7,57,46,36,36,69,57,68,47,57,36,57,46,36,7,57,68,69,68,69,36,79,46,68,68,68,57,57,68,46,79,68,57,79,69,46,57,45,46,69,46,45,46,57,57,79,69,46,68,46,7,69,57,57,70,68,46,46,70,47,57,7,70,57,68,57,36,36,79,57,57,36,57,57,70,68,7,68,46,79,68,57,57,68,69,69,79,57,69,79,68,57,69,69,69,45,47,70,45,70,46,45,68,58,69,57,57,68,58,57,79,69,7,57,7,57,68,70,46,7,47,57,36,7,69,58,68,57,69,58,79,47,36,79,69,57,7,7,68,45,70,7,68,7,57,46,57,58,58,58,69,79,57,69,36,45,68,57,45,69,36,57,57,68,79,79,57,46,36,68,70,57,69,79,45,68,69,57,47,57,68,68,68,68,79,45,68,79,79,69,45,79,70,68,57,45,47,68,45,57,45,7,58,57,45,57,36,58,57,57,58,69,46,47,47,69,68,58,45,68,69,68,69,7,58,57,58,57,57,46,69,46,68,46,68,7,47,47,58,45,57,79,57,68,57,57,36,57,58,57,57,58,58,45,46,79,57,68,57,68,70,36,79,46,68,68,69,68,57,79,57,68,46,57,57,57,57,7,69,7,57,7,69,7,7,79,46,57,69,69,70,7,7,68,68,36,57,45,68,57,36,7,70,46,68,70,46,7,58,57,68,46,46,45,57,45,57,68,47,36,69,68,57,68,57,68,46,46,46,68,57,68,68,79,68,57,45,7,68,36,47,69,57,68,7,68,68,68,68,58,58,68,45,58,69,46,69,57,57,79,58,68,46,47,46,79,46,69,68,79,57,57,79,47,57,57,46,57,68,69,46,69,36,70,47,79,68,45,36,69,57,68,69,58,57,68,7,69,70,57,46,7,7,70,7,58,57,57,70,46,45,57,57,57,57,68,57,36,46,79,68,68,68,47,69,79,46,69,57,46,68,46,46,46,45,47,47,58,68,68,47,47,68,57,58,7,70,69,69,36,45,46,46,46,46,68,79,69,79,47,46,45,46,45,7,70,58,68,7,46,7,57,58,46,58,46,36,69,46,70,46,69,7,58,68,69,36,36,58,58,79,68,70,69,57,68,57,7,47,57,69,69,79,70,79,46,47,79,36,7,68,45,57,69,57,57,46,79,7,36,79,57,58,57,69,68,58,46,68,79,69,57,68,45,58,45,46,68,47,57,70,68,70,47,36,36,58,57,69,57,68,46,57,7,46,68,47,46,79,69,69,68,57,69,36,7,68,69,70,7,36,45,36,57,68,58,57,57,36,36,46,57,68,45,68,69,79,57,68,79,7,58,68,58,69,69,7,7,36,69,68,7,46,46,69,36,57,68,79,68,57,45,79,79,57,46,47,36,68,68,45,68,68,7,58,68,46,70,36,69,68,46,57,46,69,70,79,70,46,47,69,7,69,57,7,79,68,68,57,36,57,36,79,68,46,68,68,7,70,7,36,46,47,69,68,69,58,69,68,57,36,57,46,36,68,69,7,79,58,57,57,57,45,57,68,36,57,46,58,70,68,58,46,36,68,57,7,36,69,69,68,45,46,45,46,70,47,46,70,69,58,57,69,57,47,57,46,47,70,79,7,79,7,68,57,70,57,70,68,36,58,36,46,70,69,7,57,68,57,68,68,46,45,69,69,69,46,36,47,68,58,70,45,69,69,36,58,36,46,57,68,45,68,46,45,36,79,58,46,47,46,57,47,79,79,45,79,57,57,68,36,68,68,68,57,70,57,69,79,36,46,69,70,57,68,7,68,69,57,70,68,70,57,79,46,57,45,46,68,57,36,36,46,58,46,57,79,69,70,46,7,69,46,58,46,68,69,57,46,36,58,36,58,68,68,57,57,58,79,57,47,79,57,79,57,57,58,47,47,7,7,45,58,68,68,69,46,58,46,57,68,69,57,36,45,57,36,58,79,47,57,57,68,47,57,45,70,57,68,70,69,58,68,47,58,46,58,68,58,70,58,36,46,36,57,45,57,46,57,68,68,70,57,70,69,57,69,47,79,69,70,47,69,68,69,79,36,7,47,57,68,69,57,68,69,57,70,69,69,70,46,57,69,46,68,7,57,69,69,57,68,47,68,69,69,68,36,36,46,69,68,46,70,68,57,46,57,58,58,79,70,47,69,68,68,57,70,69,68,7,57,68,7,68,79,79,70,57,58,57,46,57,45,69,57,58,47,57,69,7,57,69,7,57,69,47,57,7,68,70,46,79,47,36,46,57,69,70,79,57,69,68,69,57,69,46,7,7,7,46,69,47,57,79,70,46,68,69,79,47,68,47,47,36,45,47,36,45,58,58,36,58,79,79,58,68,57,68,57,7,68,7,68,69,57,69,70,7,68,69,68,47,36,57,68,68,69,68,68,69,69,46,70,79,45,47,57,46,45,68,68,46,57,7,57,45,79,69,57,69,69,57,68,36,46,57,69,46,57,45,68,79,46,68,70,57,46,58,69,70,45,57,70,57,47,58,57,70,36,69,57,69,69,7,36,57,47,7,68,79,47,69,58,69,45,58,57,7,68,68,57,79,69,46,68,45,46,68,46,68,57,57,36,79,46,7,69,58,46,46,57,47,69,69,69,7,69,57,57,7,68,68,36,57,70,7,36,69,69,69,45,58,70,58,69,57,47,69,57,68,57,7,45,7,79,57,46,69,68,57,57,57,47,57,70,57,68,7,57,69,58,7,46,36,69,36,70,58,7,68,47,46,7,57,45,58,36,57,69,69,47,57,79,68,69,79,57,57,7,45,45,68,57,69,45,70,57,57,46,57,79,57,79,68,36,57,46,69,68,7,46,68,47,68,7,79,57,69,68,57,58,57,68,70,46,70,69,47,68,58,58,7,68,79,69,69,57,46,7,46,45,68,69,69,58,57,58,57,69,36,57,46,69,46,68,69,57,46,46,57,68,79,36,69,47,7,68,57,7,45,47,79,58,58,58,47,46,58,45,69,46,57,46,46,45,68,79,45,58,46,70,57,68,7,57,7,68,57,57,57,46,57,7,47,69,69,7,47,36,58,47,46,68,36,70,57,70,57,46,79,46,68,36,47,79,46,57,58,57,7,68,46,7,47,46,69,7,36,47,68,68,57,68,36,68,57,69,57,57,7,58,46,69,46,70,7,57,68,47,46,69,69,46,68,58,70,57,57,58,69,36,46,57,68,47,57,68,57,46,45,46,69,68,45,69,68,57,47,69,57,57,57,46,68,57,68,68,68,70,57,69,7,79,70,68,45,57,68,69,57,46,57,68,79,69,57,69,69,57,58,45,69,70,58,36,7,58,57,46,69,58,7,68,70,46,58,68,47,68,57,7,47,57,79,58,57,69,46,46,46,46,68,58,57,70,69,57,47,45,7,46,46,68,7,69,68,57,69,68,36,45,79,45,58,68,7,57,58,69,69,79,57,58,68,58,57,46,68,79,46,69,79,7,46,57,70,69,68,46,68,69,57,57,58,68,68,79,58,69,68,57,70,57,46,68,68,69,68,70,7,68,47,57,7,36,47,57,79,46,57,47,46,68,57,58,68,57,47,79,57,68,57,68,68,68,68,70,69,36,57,69,58,70,57,57,45,47,7,45,46,68,68,47,70,69,47,68,58,58,57,45,45,46,45,58,68,57,7,57,79,68,57,7,58,57,79,68,68,47,46,7,46,68,46,68,68,7,47,46,69,79,57,68,47,45,58,68,45,57,36,70,36,79,70,46,79,68,45,58,69,45,57,46,47,45,46,69,46,46,70,45,36,7,45,69,36,79,45,68,46,70,47,69,57,68,45,46,58,70,57,68,57,68,46,36,7,79,46,79,57,79,7,57,57,68,68,57,68,36,45,47,46,57,57,68,57,57,68,46,57,57,57,79,36,68,69,46,57,58,69,79,69,36,69,57,57,58,57,45,57,70,7,57,7,7,57,58,7,7,70,69,70,7,68,57,57,68,69,46,58,57,57,68,47,69,7,57,57,57,70,68,7,79,45,47,57,36,36,47,46,47,46,79,57,69,46,68,68,45,68,46,68,46,68,45,57,7,69,45,68,58,57,36,46,68,36,57,58,58,68,69,58,58,58,46,7,69,46,68,58,79,57,68,69,57,70,57,46,69,57,7,57,45,70,58,68,58,57,7,69,36,69,70,68,69,7,68,36,79,79,7,79,69,68,79,46,46,57,79,46,69,46,36,36,57,46,46,58,45,68,57,57,36,68,46,47,58,68,68,79,70,36,7,7,47,57,79,36,7,7,57,7,68,46,36,68,69,57,46,57,57,79,57,57,69,57,70,46,7,57,7,47,79,57,46,69,47,68,45,45,47,46,69,57,58,68,70,57,69,46,68,69,57,7,46,57,46,68,70,57,7,46,68,46,47,68,70,57,57,69,45,7,79,57,69,79,69,79,68,68,68,69,69,36,58,45,46,46,7,68,7,70,45,7,57,58,70,70,58,45,47,46,58,70,68,68,46,68,46,45,58,45,58,69,57,46,68,47,7,79,69,69,57,47,57,70,68,68,36,45,57,57,45,7,57,79,69,58,46,68,68,46,69,68,69,57,36,79,57,46,46,79,69,57,7,46,68,7,69,58,68,45,68,46,57,57,57,46,7,7,36,79,69,68,46,57,79,69,68,58,68,68,68,70,46,47,36,7,7,46,36,68,57,45,57,57,57,68,46,57,57,47,46,46,58,57,68,58,68,57,58,68,57,70,57,7,45,70,57,58,58,79,57,45,68,69,68,68,69,46,45,68,79,69,69,57,36,7,57,57,58,70,36,68,46,46,45,57,36,46,69,68,70,70,68,70,57,68,70,57,58,68,68,79,47,68,7,57,47,57,57,46,69,57,46,57,7,45,7,79,68,69,69,69,46,79,46,69,58,69,47,70,57,57,57,7,69,68,57,47,68,57,57,57,57,68,70,45,36,7,58,79,58,70,46,68,57,47,46,68,36,46,68,45,69,68,47,46,69,70,58,7,45,70,57,36,36,57,57,45,46,69,68,68,69,69,68,36,68,69,70,7,69,47,79,46,57,46,36,46,47,79,68,68,45,45,46,70,58,68,45,57,57,69,68,70,69,68,58,57,68,45,79,70,70,69,69,57,46,36,47,7,7,69,46,47,57,57,46,58,47,36,69,68,57,79,45,69,57,36,69,69,57,57,69,45,46,68,68,45,45,57,70,68,57,46,46,68,79,57,68,58,45,70,57,70,46,58,69,46,46,70,68,58,47,68,79,36,69,46,45,57,79,46,47,46,68,57,7,57,47,45,58,69,68,45,68,57,68,46,57,68,58,68,68,57,68,57,69,7,36,69,69,47,57,68,57,57,58,46,36,36,7,7,70,79,69,68,68,47,47,45,68,57,36,68,45,57,70,69,46,7,79,58,57,70,69,69,79,70,46,7,68,7,7,57,68,57,79,70,36,68,79,46,70,57,45,70,68,47,79,36,46,46,68,46,57,57,68,68,57,68,7,57,79,45,46,45,68,36,57,45,57,7,57,46,79,45,57,68,58,57,57,58,45,68,45,57,69,47,57,70,68,7,46,69,68,57,57,79,46,46,46,47,68,70,70,70,68,58,36,68,70,46,70,57,69,68,79,46,79,47,79,69,57,7,58,57,68,57,69,68,57,79,69,46,69,79,70,36,70,36,46,57,57,68,70,68,68,46,79,57,7,68,68,45,57,68,46,57,69,47,69,68,58,57,68,79,46,58,68,57,36,58,57,57,45,46,68,7,57,69,47,70,68,57,57,69,45,79,46,68,7,69,46,68,47,58,36,46,79,47,36,79,7,68,57,36,36,46,46,47,7,47,68,46,79,45,7,79,79,58,47,46,68,68,57,69,57,68,57,69,36,57,70,36,68,7,46,58,57,79,79,57,69,47,79,70,57,68,68,46,69,69,7,47,68,68,57,68,7,58,7,68,79,57,68,79,57,46,70,68,36,46,47,46,57,79,57,68,68,46,57,79,58,58,70,68,69,7,45,57,70,79,57,70,68,69,58,79,70,46,69,58,46,46,68,57,57,70,46,69,7,57,45,45,46,7,46,68,70,45,69,46,57,47,79,57,68,68,70,68,69,57,57,7,58,47,45,45,68,58,79,68,36,57,69,69,7,7,68,57,36,69,70,57,46,69,68,7,36,68,68,79,69,45,57,46,70,69,70,57,45,57,58,68,58,57,68,69,45,45,79,68,47,69,69,68,36,68,58,46,7,69,68,57,46,47,46,46,68,68,57,70,68,79,45,58,57,45,47,36,70,47,68,45,79,69,45,58,46,7,7,58,57,70,79,68,36,36,68,68,69,69,57,69,70,45,47,57,58,36,69,68,58,69,79,36,57,58,47,79,57,46,7,68,57,58,57,57,58,68,57,47,46,69,46,68,45,46,58,58,57,46,68,46,58,68,70,47,57,79,69,57,68,46,7,36,70,46,47,58,46,36,69,69,7,70,58,45,7,57,47,57,46,58,57,7,57,47,46,79,57,70,57,69,7,47,68,57,68,45,79,46,68,69,47,45,68,68,70,36,57,57,57,68,69,69,46,68,68,58,68,69,69,69,46,68,36,7,46,58,69,46,68,36,46,45,68,45,68,46,68,69,46,46,70,58,68,47,69,68,45,69,57,57,36,46,45,45,68,57,46,68,68,46,36,47,57,58,57,57,36,69,69,58,58,57,58,7,69,46,68,58,69,69,57,36,57,57,68,79,46,69,57,47,69,69,47,79,47,79,36,79,70,69,45,47,69,46,79,68,68,70,57,57,7,68,46,68,46,68,36,68,68,7,69,69,58,68,46,36,58,45,69,70,68,46,47,68,69,79,45,70,46,7,57,68,46,57,36,46,79,69,68,57,7,68,47,68,57,46,69,46,68,46,58,79,57,70,70,57,68,79,69,69,68,46,68,47,69,57,57,69,57,70,70,57,68,47,47,69,46,36,57,68,68,68,68,68,68,57,57,79,46,70,57,68,57,69,7,57,68,45,68,46,57,45,57,47,68,68,57,57,70,46,36,57,46,36,45,68,69,57,36,57,69,45,70,58,69,57,45,69,79,79,57,7,68,46,68,57,68,68,7,57,58,57,57,58,57,57,69,57,68,57,58,70,58,58,7,46,7,57,46,69,68,57,69,68,58,69,68,68,57,68,46,46,70,68,57,58,47,46,46,70,68,45,70,46,69,36,79,47,69,7,57,69,58,68,68,46,69,57,46,57,57,57,46,57,68,69,69,7,68,70,36,68,47,57,70,58,57,47,46,79,36,57,45,68,79,68,70,7,57,70,36,45,69,57,68,57,36,58,46,46,68,70,69,70,69,79,57,47,47,57,45,70,69,57,7,79,57,46,69,69,46,57,46,57,45,69,46,69,46,7,46,79,57,57,57,57,47,36,57,69,57,57,36,69,68,68,46,36,57,69,7,57,68,68,79,69,45,46,69,47,57,58,68,7,57,70,57,47,45,68,70,79,57,70,57,68,7,68,69,68,68,68,46,79,57,68,57,45,57,70,7,68,57,7,58,58,57,79,58,47,70,45,69,46,57,68,70,47,69,57,36,68,68,46,7,45,70,68,68,57,36,36,36,57,68,58,68,68,7,58,69,69,57,68,7,7,69,69,57,69,69,36,36,79,47,7,47,69,70,69,47,46,70,47,68,69,46,69,68,57,68,57,47,57,47,70,7,45,68,70,79,45,69,69,69,7,79,69,36,57,68,46,79,47,57,68,70,69,69,57,57,68,69,79,46,57,79,68,36,46,47,79,47,46,46,68,46,58,7,46,70,70,68,68,68,46,58,69,57,70,7,68,69,57,70,68,47,57,69,69,69,79,36,46,68,79,46,69,46,57,57,7,46,79,79,70,7,58,68,57,68,57,70,68,68,45,57,70,45,57,69,57,70,68,68,45,68,7,70,46,45,58,36,57,57,57,46,47,79,47,68,58,69,57,79,57,46,58,68,68,69,7,79,46,57,47,79,57,79,57,58,68,69,57,68,58,47,58,68,69,46,57,47,69,57,68,46,45,69,68,7,68,79,46,36,45,68,70,7,46,46,45,68,46,68,57,58,47,79,57,36,58,36,36,79,57,46,68,70,57,58,7,68,68,46,68,68,36,68,46,45,69,57,79,47,46,69,57,7,46,70,68,69,68,79,69,46,47,7,79,70,46,57,57,70,69,57,47,46,68,57,79,68,69,57,68,68,7,45,69,79,68,47,57,58,57,68,69,69,58,68,7,69,68,68,57,7,45,46,46,57,46,70,46,68,46,69,46,70,68,70,46,7,57,68,36,68,68,46,68,68,68,68,79,68,7,45,68,57,36,70,68,69,68,57,68,45,79,57,68,58,7,68,58,7,57,57,79,68,58,57,57,47,69,69,68,46,7,68,68,68,47,58,69,57,58,46,47,47,58,58,46,68,46,47,69,46,57,79,79,57,58,70,70,70,57,69,7,69,57,57,46,70,57,68,36,46,70,57,7,45,79,46,57,68,45,70,70,47,58,69,47,47,68,57,68,46,69,69,68,68,57,7,57,70,68,47,70,36,57,68,69,58,57,58,68,68,57,57,45,57,68,68,7,7,68,46,58,36,36,57,45,68,68,36,57,47,68,68,57,36,47,68,69,36,70,57,68,58,45,57,58,68,57,70,45,46,7,57,70,57,57,36,46,46,36,68,69,46,69,70,45,69,69,69,69,68,69,57,57,79,57,68,58,45,57,68,46,68,46,69,36,57,46,69,57,58,47,68,79,47,57,47,70,68,46,58,36,68,7,46,57,47,57,68,46,36,58,47,57,69,58,46,46,46,68,69,79,79,79,47,57,69,57,68,57,46,68,57,70,69,46,46,69,46,69,46,79,69,69,36,68,70,46,79,68,46,46,57,57,47,7,57,7,47,57,7,57,68,57,57,46,57,46,46,57,57,68,69,68,57,57,68,7,36,46,57,70,69,36,47,69,36,46,68,69,57,7,57,57,57,7,57,45,68,46,36,7,68,79,57,57,69,7,79,36,7,70,7,36,7,45,7,70,36,79,69,45,47,57,58,47,46,47,68,46,68,57,79,69,79,69,58,58,57,57,69,58,68,45,57,69,69,46,7,79,36,69,36,68,68,7,47,46,57,36,46,68,46,46,36,7,68,45,46,57,46,46,57,68,70,46,69,79,46,69,69,69,46,68,68,68,68,58,57,68,57,47,79,68,68,68,46,70,79,68,45,57,46,68,69,68,7,69,68,57,7,57,68,36,58,57,68,47,46,69,69,79,46,68,46,7,46,46,36,70,68,57,68,68,69,68,69,46,68,68,36,36,46,79,46,69,79,57,68,69,36,58,69,58,45,36,46,57,68,45,57,57,70,70,47,46,46,68,69,46,58,70,79,57,7,45,57,57,36,58,57,69,70,57,69,45,69,69,68,58,68,68,68,46,58,69,68,45,57,79,47,46,7,69,46,45,57,36,46,69,57,68,68,57,46,57,58,58,69,36,36,69,79,36,46,45,46,58,68,7,46,69,70,57,57,79,70,7,69,45,69,7,46,47,57,70,57,47,69,68,7,36,70,68,57,47,36,57,45,47,45,79,45,57,45,46,57,79,68,45,57,57,45,7,70,36,70,47,57,68,58,36,47,57,70,45,70,69,57,57,68,46,68,79,69,36,70,57,68,47,69,46,70,36,69,46,45,47,57,47,46,57,79,68,70,68,68,57,79,69,47,70,36,7,70,70,7,57,70,46,70,46,46,57,57,68,45,68,68,79,57,57,36,69,36,70,68,68,79,46,68,36,7,46,68,47,69,57,68,46,69,68,70,68,69,58,36,79,68,68,69,57,68,57,47,47,46,70,79,68,69,45,57,79,46,70,57,36,7]
[3,36,null,"median",{"$f":"MEDIAN(B3:B102)","v":57},null,57,58,{"$f":"IF($B5<>\"\",INDEX($B$3:$B$102,COUNT($B$3:$B$102)*RAND()+1),\"\")","v":79},7,79,45,45,47,47,46,68,47,47,46,36,69,58,68,47,68,57,69,70,58,70,47,57,69,69,57,57,68,7,57,69,46,57,57,45,58,7,57,69,7,36,36,58,68,69,45,45,68,7,45,7,69,58,58,70,57,79,57,46,7,36,68,36,68,79,7,57,45,58,46,57,57,68,79,46,36,47,68,46,57,57,68,68,69,7,45,68,57,69,70,69,79,57,7,7,68,70,46,69,68,45,46,70,57,57,69,70,46,58,46,47,57,68,57,68,70,46,45,7,58,79,45,79,57,68,57,36,58,68,79,57,45,68,36,58,68,46,57,58,36,68,47,46,58,57,70,7,69,57,57,57,36,79,68,68,57,70,70,47,58,46,46,57,46,45,57,46,69,45,57,57,79,58,57,57,68,46,47,69,70,68,45,70,58,7,57,58,57,57,79,46,68,46,7,68,7,57,36,57,57,45,69,36,47,57,68,68,7,57,57,57,57,58,57,69,46,69,70,46,69,69,47,68,70,79,46,46,47,45,57,47,7,46,47,69,36,69,68,68,47,68,70,68,69,7,68,57,68,69,69,69,68,47,68,57,7,69,46,57,7,69,7,7,69,58,7,46,68,69,45,47,45,69,68,68,7,57,68,58,45,69,68,46,57,70,68,46,58,36,69,69,45,57,46,58,58,57,79,69,79,47,57,68,79,68,58,79,69,57,46,69,46,7,69,79,68,46,68,79,57,68,69,57,68,69,57,69,68,46,57,46,68,68,46,68,68,58,68,57,58,57,45,36,69,46,70,57,46,70,36,58,57,79,79,46,69,46,47,46,45,57,47,68,69,69,57,79,7,69,45,69,36,70,46,69,47,7,47,69,79,36,69,7,36,46,69,79,70,68,57,70,57,46,45,79,46,68,68,69,58,57,70,57,69,70,57,57,57,68,47,70,46,7,69,79,70,57,57,58,47,57,7,46,68,57,68,7,68,68,36,47,57,69,46,68,68,47,68,69,47,46,36,46,68,68,46,46,46,57,69,79,70,68,57,68,68,79,69,7,47,70,58,69,68,46,46,57,68,7,69,57,68,68,45,47,57,68,36,57,57,58,46,69,70,46,57,68,70,69,46,58,47,36,47,57,68,45,47,68,45,79,46,79,57,57,69,45,68,57,36,7,79,47,69,46,45,68,45,46,36,57,36,45,69,68,57,68,68,46,69,79,45,57,69,70,7,47,47,69,58,69,47,45,69,46,68,68,70,57,69,79,57,68,69,69,79,36,46,70,68,7,70,7,7,47,7,45,79,57,46,36,57,68,45,68,68,69,46,69,69,57,68,69,47,69,68,45,7,47,69,7,68,57,68,68,57,47,68,79,47,79,68,57,57,70,57,57,68,46,58,68,57,58,68,57,69,68,79,47,79,69,79,57,7,58,57,69,46,57,68,57,45,68,69,68,69,79,68,68,57,57,46,68,68,45,47,58,69,45,57,68,69,68,69,45,68,36,46,46,68,45,68,68,58,58,36,57,57,47,7,57,70,69,57,57,58,79,57,47,7,68,47,45,69,57,46,46,68,70,68,46,58,68,7,57,45,68,79,45,58,70,57,68,68,36,57,57,58,68,57,69,46,47,46,47,36,70,68,57,45,47,79,70,70,79,45,69,45,46,7,70,47,58,68,57,79,79,57,36,57,58,69,68,46,47,68,46,7,79,58,57,57,79,46,36,45,36,79,69,47,47,69,68,57,46,68,68,57,47,36,45,57,69,7,46,7,70,57,69,68,69,57,57,69,69,7,46,68,47,69,58,79,79,57,70,47,79,68,46,68,68,69,79,58,69,36,79,57,58,68,57,79,57,58,70,68,47,70,36,46,36,57,69,7,46,69,46,57,46,68,46,46,46,7,7,36,70,70,46,58,58,46,47,68,58,57,68,57,45,69,57,57,69,46,69,68,57,69,45,45,36,36,68,70,69,68,46,57,36,45,7,58,68,46,46,68,70,47,45,36,58,68,57,45,7,45,46,46,68,68,57,68,69,68,68,69,47,68,68,45,68,58,57,58,7,46,68,47,36,45,58,36,45,36,69,79,47,58,57,58,57,57,57,47,46,68,36,68,47,7,7,57,69,68,45,46,46,7,47,7,45,46,68,47,69,45,7,70,36,7,57,46,45,36,36,46,57,79,57,70,46,57,57,69,68,68,57,58,57,68,7,69,70,79,79,69,58,58,69,36,69,46,68,79,46,57,79,69,69,46,57,57,79,57,46,68,57,46,68,68,57,36,7,7,57,70,7,36,7,79,46,70,69,47,57,68,57,57,69,69,57,46,36,46,57,57,58,69,46,57,7,68,57,57,57,47,57,47,58,45,58,47,36,68,46,7,68,46,68,68,45,69,68,57,47,57,45,45,45,68,46,36,69,57,70,57,58,69,57,57,69,57,57,57,68,7,68,58,46,68,7,68,36,68,79,58,47,68,57,57,68,68,36,57,57,45,46,69,79,69,57,79,57,68,36,57,68,68,57,79,7,46,69,58,70,45,57,68,79,47,69,79,69,68,57,57,36,46,68,68,45,69,68,36,69,7,46,46,45,69,57,36,57,7,58,47,46,46,47,57,7,68,7,57,46,69,45,36,70,68,46,36,68,58,69,57,68,69,57,69,58,57,70,68,68,57,68,69,68,68,7,57,57,68,68,79,79,68,68,58,7,68,57,79,57,36,7,69,79,68,47,69,36,46,68,7,68,46,69,7,45,46,68,69,46,68,69,7,45,58,36,45,47,45,57,46,46,46,45,68,70,46,57,70,45,70,36,46,36,47,57,57,46,68,68,45,68,46,68,47,58,69,47,69,79,69,57,47,79,45,46,70,69,68,57,47,69,46,46,79,69,7,7,69,46,57,7,7,46,68,58,69,58,46,7,69,45,70,69,47,36,7,69,7,57,68,69,45,69,57,46,46,45,70,36,7,70,57,7,45,68,36,68,68,68,57,57,46,79,69,68,68,58,46,45,68,46,7,79,46,69,36,46,57,68,45,69,57,69,79,68,46,57,58,69,58,46,57,57,57,69,68,36,68,68,57,68,57,68,57,47,45,7,69,46,57,69,45,57,58,69,45,68,69,46,70,57,69,69,45,57,69,47,79,57,57,46,79,46,69,69,46,46,68,58,58,36,69,47,69,46,57,57,57,68,68,7,69,57,57,46,45,69,68,46,47,45,46,47,68,68,70,57,46,68,57,68,70,7,58,46,57,57,69,45,79,46,68,36,57,68,57,46,68,57,7,47,79,57,58,47,70,45,68,68,57,68,45,36,7,57,47,7,57,7,47,68,69,69,58,58,46,69,57,69,68,58,68,7,68,70,36,68,68,79,68,68,70,69,46,69,57,68,70,57,70,45,45,68,70,45,68,57,68,68,68,57,79,57,70,7,68,69,46,57,57,7,7,70,46,7,58,47,36,57,69,46,46,68,7,68,68,57,69,46,36,57,46,46,58,7,46,46,69,68,68,79,79,7,68,57,46,69,7,45,69,68,68,68,57,45,69,57,46,57,69,57,79,68,47,7,57,69,45,45,69,68,46,70,45,68,70,68,45,7,69,79,68,79,68,69,68,58,47,57,70,58,57,36,69,69,69,36,68,69,7,68,57,68,7,69,58,69,57,46,46,58,69,36,57,69,46,57,45,47,58,57,57,7,46,45,69,69,68,7,68,79,68,70,45,45,7,36,47,46,46,68,68,46,58,70,68,36,69,36,57,68,47,57,57,46,69,79,46,46,69,79,7,69,68,45,70,68,57,7,70,46,70,57,68,57,36,70,36,69,58,57,47,58,68,79,45,57,68,46,57,47,57,70,57,68,69,36,68,57,7,57,70,46,45,57,57,7,68,47,7,45,58,45,45,69,79,57,46,46,57,69,45,57,46,36,7,58,68,70,68,57,36,57,68,79,68,69,47,46,68,45,47,69,57,57,68,45,57,57,57,57,70,57,58,36,57,58,46,47,68,70,57,57,57,69,57,46,79,69,46,46,69,68,46,69,68,47,36,70,68,57,69,57,46,45,47,58,57,68,70,70,46,58,69,68,68,7,46,57,46,68,36,7,79,68,57,68,57,36,69,79,47,68,45,47,46,47,70,46,47,57,46,7,46,70,68,69,46,46,46,57,47,45,58,46,70,57,45,36,70,57,46,7,70,68,57,68,69,69,47,68,79,45,69,45,36,70,57,58,68,45,57,69,46,46,57,47,45,7,68,79,69,70,46,70,57,47,47,69,7,47,46,68,69,79,68,70,57,46,69,36,57,70,57,79,68,70,46,7,57,69,46,36,46,68,57,57,45,68,36,46,36,57,79,58,58,46,57,69,7,58,45,57,57,47,68,69,57,69,57,58,46,70,57,46,68,79,45,69,7,46,58,46,36,46,7,46,7,68,45,46,46,68,69,46,69,68,58,46,58,46,69,57,7,46,70,68,57,7,68,70,46,7,45,36,69,57,68,7,68,36,47,57,57,70,57,45,57,45,69,58,45,58,45,68,57,79,69,7,70,45,46,36,68,36,69,57,68,69,70,36,68,70,57,70,69,57,36,70,68,68,68,57,7,7,57,68,47,57,58,57,45,68,79,70,69,46,68,79,68,47,47,57,36,70,57,46,68,57,79,46,46,57,46,68,79,57,46,57,68,45,46,68,57,57,70,36,57,7,70,47,68,36,36,58,57,45,57,69,7,70,68,68,46,47,45,58,79,69,57,45,46,68,36,7,58,57,69,70,57,69,68,68,57,69,70,57,57,46,68,36,57,46,57,69,7,7,70,57,68,46,57,68,69,68,46,68,57,47,45,57,47,70,58,36,36,70,79,36,70,7,36,7,46,58,69,69,57,69,57,79,47,58,69,68,69,46,47,68,7,45,68,79,58,57,45,58,46,7,58,46,69,57,36,45,69,46,68,36,57,58,69,57,58,7,79,69,46,57,57,68,57,7,46,7,7,69,58,57,57,68,47,57,57,57,69,58,70,69,7,47,46,68,57,57,70,70,46,58,46,57,57,46,46,69,58,47,69,69,45,68,46,45,57,58,69,68,68,7,79,47,68,7,47,69,7,46,79,57,68,79,68,45,45,57,69,7,68,70,68,45,68,57,47,70,79,68,58,7,57,68,46,70,46,46,69,69,57,69,58,69,70,68,68,68,57,69,68,68,57,68,46,68,57,68,47,68,69,69,36,68,7,7,36,36,46,69,79,36,57,57,68,68,46,7,68,36,7,79,46,57,47,58,45,46,46,7,46,79,68,68,68,68,36,57,68,68,57,46,46,58,68,68,58,57,45,58,47,45,58,70,68,70,69,46,58,46,79,68,69,69,36,46,57,69,36,68,70,69,45,57,47,46,57,69,45,46,7,57,69,36,68,79,57,70,79,69,69,68,46,36,68,57,69,68,69,68,69,47,7,57,69,58,69,47,69,57,46,46,68,36,69,57,46,69,7,36,36,7,36,57,68,57,57,58,68,57,68,57,68,58,70,45,68,57,68,68,68,7,69,57,68,45,46,47,68,79,68,36,45,69,68,57,70,79,68,68,57,70,45,57,46,68,57,58,69,57,7,57,69,68,57,46,45,45,57,70,46,68,57,45,57,46,57,57,68,36,46,46,69,47,79,7,46,69,70,57,68,58,57,69,68,68,57,58,79,7,46,58,68,46,68,69,47,79,68,57,69,46,46,79,45,69,79,79,57,45,68,68,57,68,69,36,70,57,57,69,57,36,57,57,58,68,79,79,79,57,46,36,7,68,46,68,46,46,69,57,69,68,57,70,68,57,47,69,70,68,45,46,68,7,79,69,7,46,7,69,45,68,57,36,36,57,68,68,70,45,69,68,46,68,45,57,79,45,68,69,57,57,68,57,7,69,68,46,68,57,57,79,68,46,69,46,68,57,70,57,46,45,69,79,69,47,47,57,46,46,79,57,46,69,69,45,46,46,79,68,7,36,69,68,57,36,47,68,57,46,68,68,57,7,70,70,79,57,68,79,68,79,47,68,46,46,45,7,45,70,47,69,36,7,57,68,45,79,68,46,46,47,36,46,58,58,68,69,36,36,68,7,7,68,69,79,79,45,68,47,45,58,68,68,79,69,68,68,7,68,69,36,68,68,57,57,46,69,69,69,47,57,36,70,57,68,57,57,57,57,46,70,68,46,68,69,46,68,69,69,57,45,47,57,7,46,36,69,46,46,69,69,7,58,57,46,46,45,7,69,68,57,46,69,47,68,69,45,36,36,68,68,47,68,69,57,69,57,57,68,47,45,7,36,68,47,47,69,69,57,47,58,58,68,46,45,79,57,68,68,36,46,45,57,57,68,69,47,70,7,57,57,57,69,7,68,46,45,7,46,70,7,57,69,36,57,69,69,7,46,7,7,7,68,47,69,46,79,45,47,68,36,57,69,69,68,57,47,57,36,7,46,47,57,69,69,57,57,70,57,70,57,68,45,45,46,57,69,69,69,70,69,79,68,46,68,58,57,69,70,45,69,70,36,69,45,58,46,68,79,79,69,57,57,57,68,69,68,68,70,57,57,58,69,45,47,70,68,45,45,57,45,68,45,68,46,58,36,47,79,46,45,36,57,79,70,47,57,45,46,57,57,69,79,68,68,36,69,57,45,68,46,36,70,36,57,57,57,68,79,69,58,70,36,69,68,79,58,79,7,47,57,7,7,69,68,68,79,79,58,7,68,46,47,68,57,46,68,45,79,79,68,57,69,7,47,46,68,68,46,68,68,46,69,68,46,79,69,47,36,47,58,68,47,57,70,69,47,57,79,69,47,57,68,70,69,57,68,45,57,69,69,58,58,7,68,58,47,47,69,57,47,68,46,47,68,68,46,7,68,68,36,36,57,79,68,70,57,7,69,58,79,46,68,58,69,69,46,46,68,70,68,45,79,69,7,7,57,68,45,69,57,46,45,46,57,57,46,7,36,58,45,57,69,70,45,46,69,36,57,68,7,68,68,68,68,47,36,36,57,7,68,68,68,68,69,47,69,57,46,47,58,69,58,68,69,46,46,70,46,68,68,36,68,70,68,46,79,46,69,68,46,79,69,68,57,36,57,57,7,57,79,68,57,57,68,7,69,36,57,57,69,57,57,57,69,7,79,68,69,68,68,36,58,57,58,68,79,45,45,57,69,57,57,36,45,69,46,70,68,68,69,58,47,46,58,68,69,68,46,46,69,79,57,69,79,57,57,69,68,7,68,7,58,45,57,57,68,57,79,68,69,47,47,68,36,70,46,69,7,46,69,69,57,58,68,36,68,46,46,7,69,69,69,47,45,69,69,47,57,36,70,36,58,45,68,69,69,68,45,58,68,46,57,7,46,47,69,69,69,36,7,47,69,36,68,68,68,68,68,45,69,57,57,57,47,79,45,70,7,70,69,69,70,69,69,45,57,58,45,57,36,46,68,7,79,47,46,47,68,47,36,46,57,46,69,7,46,68,57,70,46,45,69,45,46,57,58,36,69,46,79,36,70,68,68,57,69,58,57,68,57,47,57,46,58,68,68,58,58,68,68,45,46,79,46,47,68,58,68,57,47,69,79,46,57,36,57,68,36,68,47,69,57,46,47,36,79,68,68,46,47,68,47,70,68,46,57,57,46,36,57,69,47,57,47,69,7,58,36,47,57,57,69,68,57,57,68,69,7,58,58,68,57,68,57,36,68,57,36,68,57,46,57,79,57,58,36,36,68,47,69,58,36,68,70,46,68,46,57,79,57,57,46,57,68,69,68,68,7,79,7,47,69,46,45,70,36,36,57,68,68,46,70,68,69,36,7,45,79,47,69,68,57,57,58,47,57,58,46,70,57,47,46,47,69,57,68,46,68,7,69,57,57,57,36,79,47,7,36,57,57,36,70,57,68,58,57,36,47,68,46,79,57,70,79,70,45,58,36,45,7,57,68,46,68,57,7,57,7,45,57,69,36,68,69,45,68,69,57,7,70,69,68,68,69,57,68,57,69,69,68,68,57,57,46,58,57,46,58,68,68,7,58,68,7,46,57,47,46,47,69,68,79,79,36,69,69,45,46,68,46,36,58,68,45,46,79,79,68,57,57,70,7,36,68,46,57,70,70,70,57,57,58,47,68,69,57,57,57,57,46,69,46,70,46,79,69,58,69,58,68,69,36,69,47,46,7,36,45,68,7,57,79,68,57,68,47,46,68,36,47,46,57,7,69,79,47,47,69,36,7,70,68,57,57,46,47,58,57,57,45,68,70,68,36,45,45,36,45,69,46,57,58,46,46,70,70,68,47,70,46,70,69,46,57,46,69,47,68,68,36,68,46,45,36,79,57,7,7,57,46,69,58,45,79,69,69,69,46,68,46,36,57,68,46,36,36,57,36,58,46,68,7,36,68,36,57,7,69,46,69,47,57,7,58,69,7,79,79,46,47,69,79,45,69,46,36,58,69,36,70,7,70,58,69,79,47,47,69,69,47,57,36,57,68,68,7,57,45,45,47,69,47,69,7,36,68,68,68,79,47,68,46,68,68,68,47,57,79,79,68,47,68,68,68,69,70,58,7,57,58,69,36,68,69,57,58,68,68,46,57,57,45,45,79,46,47,57,57,47,68,36,58,7,68,36,46,68,47,58,47,68,57,57,36,46,68,57,47,7,69,47,57,46,68,46,46,68,69,70,47,57,57,79,68,46,46,69,68,68,47,79,57,68,69,69,69,58,47,45,58,69,68,68,58,68,69,46,68,79,57,79,68,58,57,57,46,68,70,69,68,57,57,45,70,57,7,68,57,68,57,46,57,58,68,69,36,47,45,58,68,46,68,69,45,69,45,69,57,47,69,7,47,57,68,46,45,57,68,68,46,79,69,57,46,46,47,7,68,79,68,46,68,58,57,58,70,58,7,57,36,36,7,46,47,45,79,68,57,69,79,57,57,69,68,70,7,69,57,69,46,47,36,57,69,68,58,68,46,69,68,70,68,68,46,57,57,58,46,70,68,69,69,7,69,70,79,46,79,57,68,57,58,45,58,58,47,45,46,46,57,70,57,68,69,57,36,57,57,69,58,7,79,46,57,58,46,7,57,57,46,68,69,68,58,46,46,79,69,45,68,47,79,57,69,68,69,46,46,7,57,57,69,46,7,68,57,58,57,68,69,45,47,46,36,57,68,57,68,36,7,69,57,68,57,68,69,57,57,45,69,7,36,70,7,46,7,7,68,47,68,7,47,68,68,45,7,47,69,57,70,79,79,58,47,57,68,70,36,70,57,68,57,57,68,57,57,69,7,58,68,57,47,45,69,57,69,68,36,47,68,47,7,46,68,57,47,46,79,47,7,46,57,68,46,68,69,57,7,70,58,70,57,57,69,45,68,7,57,57,36,69,47,68,45,68,36,47,57,47,58,45,45,57,70,79,68,68,68,7,79,57,68,68,57,68,79,68,36,70,69,70,46,57,69,47,46,68,47,47,57,69,57,57,45,79,68,57,46,45,57,36,7,79,45,68,57,79,7,46,68,57,69,57,68,45,45,70,7,68,58,46,46,36,47,58,57,68,79,70,36,69,47,36,36,36,57,47,68,47,57,70,47,57,57,79,36,58,68,57,57,58,69,46,7,58,69,69,46,68,69,58,46,46,57,7,46,69,68,70,79,46,57,45,46,57,57,79,7,69,47,46,46,46,79,7,68,57,47,70,69,57,57,46,57,79,36,68,57,69,69,57,68,70,46,58,45,7,69,46,7,57,69,68,36,47,46,45,57,57,46,36,7,79,58,45,79,68,68,57,57,46,69,68,7,47,68,58,69,46,70,79,46,69,79,45,68,45,47,57,7,68,47,36,7,47,68,79,69,68,45,46,68,45,36,58,46,58,79,57,68,46,46,69,46,79,69,68,58,79,68,68,57,68,70,68,57,7,68,68,68,57,46,69,70,69,68,68,47,68,46,68,57,68,36,57,68,57,58,57,57,68,58,46,68,36,57,70,68,68,57,70,36,7,79,69,46,68,58,70,68,57,79,68,69,47,57,68,36,57,46,58,68,58,45,69,7,57,68,57,69,68,36,46,57,47,46,68,46,58,79,58,46,79,68,69,69,79,36,47,58,79,7,57,46,57,68,57,47,36,57,45,57,58,36,57,57,57,68,79,45,68,57,68,69,36,57,46,68,57,46,79,7,46,68,57,69,45,79,58,46,57,79,58,68,68,46,47,57,58,57,57,69,79,69,46,79,68,79,7,68,57,70,7,68,47,46,57,58,45,45,69,57,47,46,69,58,45,68,69,70,57,69,46,46,46,70,57,70,46,70,46,46,46,7,68,47,79,57,69,57,68,57,57,36,7,45,58,36,57,45,36,47,68,69,57,69,7,57,47,79,68,36,57,68,7,7,57,58,45,7,68,46,79,68,45,47,36,47,57,45,68,57,46,46,68,45,46,57,57,46,57,79,70,46,7,68,45,69,36,69,58,7,45,69,68,57,46,57,57,69,7,58,46,58,45,79,69,36,58,47,57,68,57,68,46,46,57,69,58,57,7,68,58,47,70,68,36,36,36,68,46,47,46,36,46,7,79,45,46,68,57,69,68,47,7,46,58,46,69,57,69,46,58,69,68,58,57,47,47,68,57,68,68,79,45,57,68,57,57,70,45,45,36,68,57,68,69,57,68,45,45,57,46,47,57,68,68,57,47,58,69,7,70,57,7,57,69,46,57,69,58,70,57,47,70,70,46,7,68,69,7,58,47,69,46,45,58,68,68,68,79,58,68,57,45,46,69,57,46,70,47,68,45,57,36,47,70,45,57,68,57,57,47,70,47,68,68,69,69,70,46,57,47,68,68,57,45,68,79,47,79,7,79,46,46,36,46,79,58,68,69,79,36,58,7,68,57,36,57,68,46,7,68,58,70,69,7,70,57,68,58,68,46,69,46,68,68,68,79,57,7,7,45,68,46,45,57,68,68,46,68,46,57,70,47,70,69,46,45,57,68,69,57,70,58,57,45,36,79,45,47,46,58,45,79,68,57,57,46,36,68,46,68,68,69,69,68,57,70,68,46,79,68,47,57,68,68,70,68,7,57,36,70,45,47,36,7,7,7,68,68,47,57,7,70,70,70,47,57,68,57,57,70,69,70,47,79,46,45,46,68,69,36,58,70,68,46,36,68,69,70,47,46,7,68,70,70,46,79,45,70,57,58,7,46,69,58,57,69,57,46,68,36,69,46,68,70,57,69,69,45,68,36,57,57,70,58,68,7,57,58,79,36,68,69,68,57,46,46,47,69]
[4,7,null,"SE median",{"$f":"1.25*E4","v":5.1980145763870436},null,45,46,79,70,57,79,68,69,68,46,70,68,7,68,70,7,47,68,46,57,69,68,45,79,79,79,36,58,69,69,46,68,57,70,47,69,45,79,57,46,68,69,69,68,47,57,7,57,69,7,36,69,68,46,57,45,79,79,69,58,58,57,68,7,79,57,69,68,68,57,69,68,58,46,70,36,57,79,7,7,36,69,47,57,46,68,79,68,57,70,69,46,58,69,58,68,36,47,47,68,45,45,68,45,68,46,69,47,45,47,70,45,68,57,36,69,47,47,46,68,68,36,68,57,57,58,7,46,7,{"$f":"IF($B6<>\"\",INDEX($B$3:$B$102,COUNT($B$3:$B$102)*RAND()+1),\"\")","v":57},46,70,68,46,68,68,36,46,47,45,46,47,68,68,69,79,45,58,69,36,47,69,68,68,46,7,7,68,46,69,47,46,69,69,47,57,58,79,57,46,46,68,69,69,47,47,70,68,36,68,46,47,7,57,45,46,68,70,57,57,58,57,46,57,47,57,58,46,57,69,69,58,7,57,68,57,58,46,68,68,46,46,7,7,69,46,47,70,68,46,79,69,69,57,68,7,45,58,68,47,57,46,36,57,46,70,69,36,46,57,47,7,68,45,57,57,46,70,68,45,69,70,58,46,79,57,57,{"$f":"IF($B6<>\"\",INDEX($B$3:$B$102,COUNT($B$3:$B$102)*RAND()+1),\"\")","v":79},69,68,79,58,68,7,46,68,58,47,68,36,45,68,45,7,70,57,69,57,70,79,68,47,70,68,46,68,36,68,58,70,58,57,79,36,47,69,57,69,57,7,57,69,45,70,7,69,68,69,46,57,57,79,57,57,68,69,36,57,47,70,79,68,36,45,46,36,68,46,57,69,70,57,46,70,68,47,7,36,58,68,70,70,57,58,46,36,46,68,68,68,68,45,57,7,36,68,57,69,47,46,46,46,57,47,58,69,57,70,57,57,45,36,47,69,69,7,57,36,36,45,57,70,79,68,57,{"$f":"IF($B6<>\"\",INDEX($B$3:$B$102,COUNT($B$3:$B$102)*RAND()+1),\"\")","v":69},69,46,47,68,68,70,68,58,68,36,70,7,36,36,57,57,58,46,58,57,68,36,70,57,45,68,57,36,58,57,7,7,69,7,46,57,69,47,46,57,68,57,69,70,46,57,47,36,79,68,70,46,46,57,69,47,57,57,57,47,57,47,70,68,58,57,68,36,57,36,68,79,57,68,47,58,58,58,70,68,70,7,70,46,69,68,57,7,57,46,7,68,70,69,46,58,79,57,45,47,58,36,79,57,46,46,69,57,68,69,58,68,68,68,68,58,45,46,47,79,69,68,68,79,7,70,69,{"$f":"IF($B6<>\"\",INDEX($B$3:$B$102,COUNT($B$3:$B$102)*RAND()+1),\"\")","v":46},57,36,69,57,58,70,57,46,79,69,57,46,46,57,46,45,7,69,46,7,57,57,68,57,57,57,47,57,57,57,57,68,69,36,79,68,79,46,70,46,58,46,68,57,68,79,46,68,70,79,68,57,69,68,69,57,45,36,45,57,45,46,46,57,46,68,69,7,36,36,47,70,46,46,57,57,47,70,45,70,46,69,68,46,57,68,57,7,58,58,68,69,57,69,79,79,57,69,70,69,70,58,68,69,47,70,58,57,46,46,36,57,69,79,57,57,68,68,69,70,68,70,46,68,46,57,69,{"$f":"IF($B6<>\"\",INDEX($B$3:$B$102,COUNT($B$3:$B$102)*RAND()+1),\"\")","v":57},57,57,46,68,47,47,58,68,46,69,70,46,36,7,68,79,46,57,58,45,46,47,7,45,7,47,46,58,45,57,57,57,68,69,68,79,68,68,57,57,57,46,68,46,68,68,58,46,58,68,47,57,57,57,45,46,46,7,58,45,36,36,57,68,57,79,69,57,58,57,47,69,47,46,69,57,57,45,45,46,36,45,7,57,7,7,46,58,47,46,57,68,68,69,70,57,47,69,36,46,70,7,69,68,45,36,69,58,58,7,79,57,68,58,58,68,47,57,47,36,68,79,58,57,70,36,7,{"$f":"IF($B6<>\"\",INDEX($B$3:$B$102,COUNT($B$3:$B$102)*RAND()+1),\"\")","v":68},36,47,68,70,68,69,69,7,47,57,58,46,70,47,47,79,68,46,69,7,69,46,46,57,69,57,57,57,46,47,46,68,7,68,46,47,45,68,7,57,68,7,68,46,79,68,68,69,68,47,57,68,70,57,57,68,36,69,57,7,36,45,57,68,47,47,57,69,68,79,79,79,57,68,45,46,68,47,68,70,68,36,79,79,68,45,68,68,79,79,68,68,69,70,68,58,57,58,47,7,68,69,69,68,70,68,57,45,70,45,36,57,46,46,69,79,57,7,69,68,57,69,69,68,57,7,79,{"$f":"IF($B6<>\"\",INDEX($B$3:$B$102,COUNT($B$3:$B$102)*RAND()+1),\"\")","v":69},68,69,36,58,68,57,79,7,57,57,45,57,69,7,57,58,47,70,36,79,46,46,68,58,79,47,36,45,57,68,69,68,47,57,57,70,36,68,68,68,69,36,45,68,68,69,58,79,58,69,46,7,79,79,36,79,46,58,69,68,70,79,70,79,57,47,79,58,7,68,45,68,47,69,7,36,69,68,46,70,68,69,69,46,79,45,45,58,46,57,70,57,69,68,7,68,57,57,68,47,58,69,57,7,36,68,69,47,79,57,68,70,69,46,47,46,7,70,57,68,68,45,45,7,68,68,45,47,57,36,57,46,68,57,79,7,68,7,47,57,70,69,57,70,57,79,47,57,45,57,69,58,36,7,46,68,79,57,68,36,47,69,7,68,57,{"$f":"IF($B6<>\"\",INDEX($B$3:$B$102,COUNT($B$3:$B$102)*RAND()+1),\"\")","v":57},69,68,45,46,69,47,70,58,57,68,58,68,46,36,69,70,47,57,69,57,68,47,47,57,57,69,69,57,46,79,45,47,68,47,57,69,7,46,36,79,47,57,68,68,58,36,69,57,57,79,7,69,70,68,68,7,68,36,68,57,69,45,36,7,68,69,47,45,57,68,69,58,69,36,57,45,7,57,46,57,68,58,68,57,70,58,46,7,57,68,68,46,47,57,57,36,58,47,58,68,70,69,79,68,68,69,68,57,57,7,57,68,36,57,57,7,68,57,79,58,57,36,57,46,57,69,46,{"$f":"IF($B6<>\"\",INDEX($B$3:$B$102,COUNT($B$3:$B$102)*RAND()+1),\"\")","v":58},47,58,69,68,46,70,46,69,58,57,58,57,57,57,7,68,69,57,57,58,46,79,46,79,68,45,57,45,68,79,58,57,45,70,79,79,7,46,70,57,68,36,69,68,70,68,57,47,46,69,7,68,46,45,57,57,57,69,36,57,68,68,68,57,68,68,58,46,7,57,58,68,57,69,36,7,70,69,68,79,7,68,70,68,68,69,70,46,45,57,68,68,79,46,7,7,47,36,45,47,79,47,7,68,46,79,7,46,46,46,68,57,7,57,45,57,47,46,46,79,36,57,68,57,47,79,46,{"$f":"IF($B6<>\"\",INDEX($B$3:$B$102,COUNT($B$3:$B$102)*RAND()+1),\"\")","v":7},69,69,68,57,57,7,57,36,58,47,69,69,68,57,79,68,45,7,45,68,70,69,57,45,57,69,69,68,45,45,36,46,47,70,68,47,79,36,57,45,79,36,36,46,68,57,68,57,47,70,45,68,68,69,47,68,57,58,57,46,57,57,79,57,45,57,57,47,57,57,68,79,45,7,57,46,57,68,46,46,57,46,69,45,7,68,68,7,58,68,68,79,57,68,57,36,7,68,68,68,68,57,58,57,68,68,69,69,46,46,57,69,68,68,69,70,69,68,68,69,57,69,47,68,70,45,57,{"$f":"IF($B6<>\"\",INDEX($B$3:$B$102,COUNT($B$3:$B$102)*RAND()+1),\"\")","v":45},79,57,69,47,68,79,7,46,69,57,68,7,68,45,68,68,57,69,68,58,68,7,45,57,46,46,46,46,46,36,47,36,68,46,45,69,68,47,68,7,7,69,36,69,68,69,57,46,68,68,46,69,36,46,46,7,69,68,47,45,57,70,79,58,36,57,7,36,46,47,68,70,57,46,68,57,68,69,57,46,58,79,7,57,46,68,68,69,57,69,69,58,45,57,46,47,68,70,70,58,58,58,68,79,79,7,46,46,70,58,46,45,7,47,69,69,57,69,57,45,70,46,79,46,57,68,46,{"$f":"IF($B6<>\"\",INDEX($B$3:$B$102,COUNT($B$3:$B$102)*RAND()+1),\"\")","v":7},68,57,46,69,46,68,58,69,45,46,45,79,69,46,68,47,79,46,46,69,69,68,7,69,36,57,79,46,69,69,68,70,7,69,46,58,47,69,46,46,69,46,70,57,68,7,7,57,70,79,57,69,45,47,68,70,57,36,46,47,68,68,46,79,36,7,58,47,7,47,68,68,46,68,45,68,46,47,47,57,68,68,46,57,57,68,70,79,79,45,57,70,45,57,45,79,68,70,57,57,45,57,46,57,36,57,46,57,68,69,46,46,57,36,79,57,57,36,68,68,7,68,68,36,57,36,70,{"$f":"IF($B6<>\"\",INDEX($B$3:$B$102,COUNT($B$3:$B$102)*RAND()+1),\"\")","v":46},46,57,46,68,36,69,69,68,68,58,68,69,46,68,7,47,7,47,45,7,47,7,46,69,58,58,68,46,57,7,57,7,68,58,68,7,57,45,47,69,58,46,68,47,70,69,68,70,68,68,45,57,58,45,57,46,68,47,68,45,68,57,46,69,69,46,70,79,57,57,58,46,57,46,69,46,46,47,57,68,58,45,68,57,69,68,57,79,68,58,70,47,46,45,36,46,58,68,45,68,68,46,69,57,68,7,57,79,46,68,68,69,57,45,7,70,68,45,79,68,69,68,68,68,69,58,69,{"$f":"IF($B6<>\"\",INDEX($B$3:$B$102,COUNT($B$3:$B$102)*RAND()+1),\"\")","v":7},70,68,46,36,7,70,7,46,57,68,69,47,47,36,70,47,57,57,69,47,57,70,68,36,57,45,79,7,68,69,69,70,69,69,47,57,79,57,69,47,7,57,46,70,47,45,57,70,45,45,79,70,36,57,58,46,45,58,46,58,46,45,70,68,57,7,36,58,68,69,36,47,36,45,68,36,69,45,46,46,69,46,70,45,46,69,69,36,57,47,7,46,69,58,68,57,58,69,68,57,46,70,46,57,45,45,69,36,69,68,46,57,57,70,58,57,58,57,57,46,68,69,70,46,46,36,46,{"$f":"IF($B6<>\"\",INDEX($B$3:$B$102,COUNT($B$3:$B$102)*RAND()+1),\"\")","v":68},69,68,79,57,69,68,36,70,46,68,79,68,69,36,69,46,68,70,45,69,36,68,57,46,46,69,57,57,70,47,68,36,69,69,7,70,47,47,58,7,68,36,69,45,79,57,46,45,68,68,47,68,57,47,46,7,36,46,68,45,57,58,58,57,68,70,47,69,7,79,47,7,46,47,36,68,47,57,69,7,69,58,69,68,7,45,70,46,46,7,7,69,58,45,70,46,47,7,47,57,68,57,68,7,46,68,69,69,57,46,68,68,36,69,57,57,68,46,79,36,36,45,47,79,79,46,79,{"$f":"IF($B6<>\"\",INDEX($B$3:$B$102,COUNT($B$3:$B$102)*RAND()+1),\"\")","v":36},68,57,47,68,68,57,68,7,58,70,46,57,58,47,68,68,58,68,68,68,68,58,57,68,57,79,68,68,68,36,47,57,47,69,68,57,68,46,69,68,68,46,57,47,7,7,7,46,47,69,79,68,46,68,46,57,36,47,68,58,46,68,58,68,68,79,68,69,69,36,57,68,57,79,46,58,79,69,68,69,57,46,69,69,58,58,57,45,57,69,46,57,79,57,69,46,36,46,58,7,45,79,57,79,47,36,70,69,69,69,68,69,45,7,46,45,58,36,68,68,57,79,45,36,45,68,68,{"$f":"IF($B6<>\"\",INDEX($B$3:$B$102,COUNT($B$3:$B$102)*RAND()+1),\"\")","v":70},70,45,57,46,57,70,70,69,45,36,46,7,57,57,70,58,46,68,58,46,68,57,68,46,69,70,47,79,69,58,68,58,68,68,36,68,68,57,68,70,69,69,57,57,57,36,69,68,45,68,68,68,45,79,57,70,36,57,46,45,69,69,36,46,69,58,57,69,7,57,7,68,68,7,69,57,68,68,36,68,46,46,36,57,45,47,69,47,79,7,68,70,68,47,69,7,47,7,68,69,57,57,45,7,47,36,69,69,68,57,70,68,57,69,46,47,68,46,36,47,79,7,7,46,57,70,45,{"$f":"IF($B6<>\"\",INDEX($B$3:$B$102,COUNT($B$3:$B$102)*RAND()+1),\"\")","v":7},79,36,45,45,68,46,68,7,68,57,46,69,68,46,57,46,79,57,79,45,68,36,46,68,57,46,70,58,47,57,57,79,57,7,68,57,45,70,69,58,79,36,7,69,69,79,68,7,57,46,69,69,68,46,79,70,36,79,57,46,79,70,7,69,36,69,68,69,68,7,79,58,69,46,58,68,79,57,79,47,69,46,69,46,47,79,58,45,69,57,36,45,45,45,68,36,57,57,79,68,57,69,45,57,70,68,68,57,68,36,36,70,47,47,70,68,69,46,68,58,68,70,57,69,69,36,47,{"$f":"IF($B6<>\"\",INDEX($B$3:$B$102,COUNT($B$3:$B$102)*RAND()+1),\"\")","v":57},69,69,45,7,46,57,58,36,57,68,45,57,69,46,68,70,68,68,68,57,47,70,70,57,68,57,46,47,58,69,46,47,69,47,57,68,70,46,47,57,7,57,57,70,45,57,45,68,45,68,7,46,57,58,69,45,69,68,70,69,7,36,68,46,46,70,57,68,47,58,79,68,69,68,57,7,68,47,36,79,46,79,46,68,58,46,45,69,68,70,57,68,69,57,57,46,7,79,79,79,57,47,70,46,58,69,45,57,46,68,57,47,69,7,69,57,45,69,68,70,70,47,57,68,36,68,70,{"$f":"IF($B6<>\"\",INDEX($B$3:$B$102,COUNT($B$3:$B$102)*RAND()+1),\"\")","v":45},68,45,68,69,46,46,69,57,57,57,57,7,70,57,70,45,69,57,68,46,70,57,57,57,68,46,57,68,68,68,68,68,68,69,57,68,58,7,47,70,69,45,68,7,69,79,69,70,69,69,36,46,46,69,70,68,68,46,69,68,57,46,68,57,46,68,46,69,58,46,58,57,68,36,79,68,57,47,58,68,57,45,57,46,58,68,58,70,7,46,57,36,45,79,47,69,45,69,46,36,79,57,45,36,58,46,68,7,47,45,7,69,79,46,68,69,57,69,47,79,7,68,69,68,46,46,69,{"$f":"IF($B6<>\"\",INDEX($B$3:$B$102,COUNT($B$3:$B$102)*RAND()+1),\"\")","v":57},70,69,58,68,36,79,68,70,57,79,46,69,70,68,79,46,58,46,45,69,70,69,69,69,57,46,79,57,68,57,70,57,70,79,69,69,79,47,57,69,69,46,70,68,70,46,79,57,57,68,69,7,57,58,47,57,47,46,57,46,68,46,68,69,68,46,7,47,57,57,57,68,57,57,47,57,58,58,69,36,68,69,68,46,47,47,57,46,68,58,57,79,47,57,57,68,57,58,7,79,57,68,57,36,79,68,57,7,70,57,57,79,45,69,57,45,36,7,58,45,58,57,79,57,57,68,70,{"$f":"IF($B6<>\"\",INDEX($B$3:$B$102,COUNT($B$3:$B$102)*RAND()+1),\"\")","v":57},68,47,69,58,79,57,79,7,36,36,68,47,57,46,45,47,45,57,68,45,68,46,47,79,69,70,7,36,7,69,69,46,45,69,46,58,68,68,79,57,68,7,70,57,69,57,46,68,36,79,69,57,58,68,57,45,68,57,69,69,36,57,57,36,70,57,79,68,57,68,46,70,46,79,68,36,68,69,57,68,45,68,68,70,57,79,36,57,69,36,68,70,46,69,69,57,69,69,47,68,57,79,57,68,7,57,45,68,68,69,69,57,68,58,7,45,57,7,46,7,7,57,7,47,69,70,70,{"$f":"IF($B6<>\"\",INDEX($B$3:$B$102,COUNT($B$3:$B$102)*RAND()+1),\"\")","v":79},57,45,57,68,68,68,46,58,68,69,46,68,45,69,47,47,46,47,7,68,45,70,36,57,57,70,57,57,7,69,46,70,57,68,57,45,68,57,58,58,57,69,46,36,79,7,46,70,68,46,70,57,68,57,47,79,57,58,57,68,68,69,47,36,79,7,45,46,57,58,69,58,68,57,45,69,68,58,79,69,46,68,79,70,46,46,70,57,69,69,57,68,47,57,69,68,79,46,57,79,46,68,57,70,69,79,45,47,36,36,46,69,68,58,45,58,58,68,70,58,57,7,7,46,68,47,70,{"$f":"IF($B6<>\"\",INDEX($B$3:$B$102,COUNT($B$3:$B$102)*RAND()+1),\"\")","v":68},46,69,47,68,79,36,58,45,57,69,47,58,46,69,68,70,68,57,57,57,36,46,45,36,57,36,57,7,46,46,45,69,58,69,57,46,79,46,57,46,68,79,57,79,46,68,69,45,69,70,68,79,79,79,7,57,7,68,46,58,68,69,47,70,36,7,79,57,79,45,79,47,47,46,68,57,57,45,69,68,46,69,45,57,47,57,68,79,58,58,68,68,46,70,68,68,57,68,57,45,68,58,68,57,47,57,69,57,46,68,68,47,68,68,69,46,36,69,70,68,79,57,68,57,68,57,68,{"$f":"IF($B6<>\"\",INDEX($B$3:$B$102,COUNT($B$3:$B$102)*RAND()+1),\"\")","v":69},70,79,46,68,57,58,68,57,69,68,68,68,69,57,57,7,68,57,57,68,47,79,58,57,57,79,57,70,36,69,7,69,45,69,57,45,69,57,70,58,68,58,58,68,57,46,70,68,57,69,68,46,68,57,58,47,69,68,45,46,69,36,68,47,7,58,57,69,57,58,7,70,68,68,57,58,7,36,79,36,46,47,57,57,45,46,47,57,45,79,68,58,46,57,69,69,57,57,46,45,45,45,57,68,7,58,79,58,7,70,36,68,46,47,68,68,58,68,70,7,7,57,57,47,45,79,57,{"$f":"IF($B6<>\"\",INDEX($B$3:$B$102,COUNT($B$3:$B$102)*RAND()+1),\"\")","v":79},45,69,57,36,69,68,69,68,46,58,57,36,69,57,79,7,46,7,68,69,68,69,68,57,47,68,57,46,79,68,57,68,68,36,68,57,47,68,47,79,46,7,7,68,36,7,45,46,46,45,57,57,68,68,7,69,57,69,7,70,79,46,57,47,58,46,79,7,68,57,68,58,69,36,58,69,58,7,68,57,68,46,36,46,46,57,47,69,57,68,68,57,69,68,69,69,69,45,7,7,70,47,36,79,45,57,57,57,68,68,7,7,46,45,57,46,69,7,47,46,57,36,46,46,46,36,36,{"$f":"IF($B6<>\"\",INDEX($B$3:$B$102,COUNT($B$3:$B$102)*RAND()+1),\"\")","v":70},47,68,36,57,69,57,46,47,57,68,68,46,68,47,36,57,45,69,57,36,69,70,69,47,69,58,79,46,57,45,47,36,46,46,68,57,79,46,46,57,46,57,57,69,68,79,57,47,57,69,57,68,68,68,68,47,68,58,57,7,36,70,47,68,69,70,68,46,45,45,36,45,57,69,69,57,68,57,68,58,45,68,46,45,36,68,36,69,46,45,36,68,7,58,68,70,36,70,57,68,7,57,68,68,70,69,57,36,68,47,69,46,57,58,68,69,68,57,57,68,58,36,58,69,68,69,45,{"$f":"IF($B6<>\"\",INDEX($B$3:$B$102,COUNT($B$3:$B$102)*RAND()+1),\"\")","v":79},70,79,7,70,36,46,70,57,46,47,47,7,57,68,58,57,57,68,57,36,36,69,46,68,45,57,45,57,68,70,68,57,68,45,68,57,57,36,69,47,46,70,68,58,57,69,36,46,45,68,68,57,79,70,70,79,45,70,69,68,57,57,79,45,57,68,36,79,68,57,70,68,7,69,58,68,46,57,47,46,68,70,57,57,68,45,68,68,47,45,57,68,79,57,46,79,45,47,69,47,7,58,57,57,68,57,68,57,57,68,57,57,46,68,57,79,70,46,57,45,36,68,79,45,57,45,7,{"$f":"IF($B6<>\"\",INDEX($B$3:$B$102,COUNT($B$3:$B$102)*RAND()+1),\"\")","v":68},68,57,46,47,69,36,57,36,47,57,68,7,57,36,69,69,68,47,47,36,58,57,70,45,68,45,79,58,70,69,69,69,79,36,58,45,69,69,68,57,46,57,68,68,46,45,58,79,57,68,79,70,69,47,47,7,79,45,47,45,70,57,70,57,68,7,46,45,68,69,47,58,46,57,58,70,68,68,68,46,68,46,7,68,45,68,70,46,69,58,46,69,69,36,79,57,47,36,79,57,79,45,68,45,79,68,68,45,70,79,46,70,69,69,57,57,58,46,47,69,46,57,68,68,68,57,47,{"$f":"IF($B6<>\"\",INDEX($B$3:$B$102,COUNT($B$3:$B$102)*RAND()+1),\"\")","v":47},57,36,45,70,68,57,47,57,69,68,46,36,69,7,45,58,46,46,68,36,69,68,69,36,58,69,46,46,58,69,79,46,68,36,68,7,36,7,69,69,79,36,47,70,68,70,47,68,68,36,68,79,70,68,70,69,68,69,57,7,7,69,46,45,68,57,69,46,47,69,45,68,57,7,46,58,57,7,7,79,57,46,57,46,57,57,68,46,45,68,36,69,79,68,45,69,68,47,45,57,46,58,57,46,68,68,47,57,7,57,46,79,46,68,69,47,69,57,46,68,36,46,68,45,68,68,69,{"$f":"IF($B6<>\"\",INDEX($B$3:$B$102,COUNT($B$3:$B$102)*RAND()+1),\"\")","v":57},46,69,79,68,69,45,46,57,68,46,45,46,57,69,69,7,57,57,46,58,58,70,69,69,68,69,36,47,69,68,69,7,46,68,7,69,58,68,69,7,57,58,70,57,57,58,68,69,68,79,57,58,68,46,7,57,58,57,68,68,68,57,69,58,57,79,68,57,70,68,69,57,68,70,79,57,7,57,57,68,47,70,58,79,58,70,46,79,58,46,46,68,57,79,79,70,69,69,68,58,46,46,7,46,69,36,46,45,58,70,79,45,69,36,68,79,47,68,45,45,68,68,47,69,57,45,68,{"$f":"IF($B6<>\"\",INDEX($B$3:$B$102,COUNT($B$3:$B$102)*RAND()+1),\"\")","v":79},69,7,68,46,68,70,57,58,36,69,70,68,57,68,58,68,68,79,47,57,36,36,57,36,68,57,70,79,70,46,57,45,58,46,57,7,57,70,47,7,69,79,58,7,57,57,57,46,57,69,57,47,68,7,57,46,7,46,46,7,69,58,68,70,57,69,47,58,79,47,57,36,47,36,46,68,69,58,36,45,79,68,57,79,57,70,79,69,69,46,69,57,7,36,57,45,57,69,57,57,45,68,57,69,57,46,79,58,36,68,45,7,58,68,7,57,57,68,57,57,57,68,57,7,57,45,57,{"$f":"IF($B6<>\"\",INDEX($B$3:$B$102,COUNT($B$3:$B$102)*RAND()+1),\"\")","v":69},68,58,79,36,57,57,47,70,69,57,47,57,57,68,68,7,79,68,57,69,45,70,68,45,68,79,36,70,68,70,57,57,68,58,46,45,79,79,58,57,68,57,69,69,46,70,45,69,58,68,57,46,69,46,57,7,46,36,79,69,69,79,68,45,46,57,79,58,7,47,58,57,68,57,57,69,46,46,68,68,45,47,68,36,68,47,68,46,46,68,36,57,57,68,70,79,68,57,57,68,57,36,57,45,68,46,69,57,68,58,57,46,36,7,46,47,68,45,68,57,57,57,79,70,57,69,57,{"$f":"IF($B6<>\"\",INDEX($B$3:$B$102,COUNT($B$3:$B$102)*RAND()+1),\"\")","v":36},46,47,69,45,70,70,36,36,69,45,69,57,57,45,47,7,58,70,69,45,46,47,46,68,69,45,57,58,57,36,68,79,7,7,46,47,36,68,46,57,68,68,58,58,68,69,70,7,79,46,46,69,68,69,70,57,68,57,47,68,57,36,68,70,68,57,46,46,70,36,36,69,68,68,46,46,68,79,57,79,69,46,68,46,68,57,57,46,68,45,58,57,47,46,58,79,57,36,57,7,69,46,57,57,57,46,46,70,45,57,7,46,58,70,45,45,46,68,68,7,68,45,45,36,57,69,46,{"$f":"IF($B6<>\"\",INDEX($B$3:$B$102,COUNT($B$3:$B$102)*RAND()+1),\"\")","v":45},46,68,69,68,46,69,68,57,45,70,70,47,69,70,57,46,68,7,45,68,69,68,7,79,7,68,68,68,7,57,57,57,68,70,7,58,45,57,57,70,69,36,68,47,57,57,57,69,69,58,68,47,69,47,36,57,57,57,46,69,36,68,36,69,36,58,70,69,70,46,69,68,69,7,68,47,68,69,46,57,46,68,58,36,45,69,47,46,69,68,69,57,68,79,7,45,45,69,45,58,47,58,69,68,36,46,36,47,45,46,46,79,57,68,45,69,57,47,47,57,69,46,68,36,47,70,58,{"$f":"IF($B6<>\"\",INDEX($B$3:$B$102,COUNT($B$3:$B$102)*RAND()+1),\"\")","v":58},68,58,58,46,68,69,46,68,45,46,57,46,68,58,68,69,69,70,45,45,45,79,58,68,68,69,46,57,79,7,68,7,68,68,68,57,68,79,68,46,68,57,68,57,45,57,57,46,57,68,46,68,36,46,58,58,45,36,57,69,47,79,68,58,57,68,57,57,69,36,57,57,46,70,68,47,58,46,7,69,79,47,69,68,79,7,70,68,69,7,47,57,57,79,68,58,68,7,57,69,36,79,36,70,7,7,7,68,79,57,57,58,70,68,47,57,57,45,57,45,68,69,57,79,47,36,36,{"$f":"IF($B6<>\"\",INDEX($B$3:$B$102,COUNT($B$3:$B$102)*RAND()+1),\"\")","v":58},7,57,36,70,46,57,7,36,69,45,70,68,69,57,70,36,69,79,45,57,47,69,36,69,69,68,70,69,57,46,45,57,69,46,45,7,69,69,57,70,58,69,57,45,57,46,70,57,57,68,69,45,70,68,46,58,46,58,68,69,69,58,47,7,36,68,46,57,79,57,57,45,58,57,69,68,68,58,7,58,79,57,45,57,68,46,57,70,69,70,68,68,36,68,45,69,45,79,57,47,7,68,46,36,69,57,79,58,7,69,79,57,58,7,79,46,79,57,68,58,70,46,68,68,79,58,79,{"$f":"IF($B6<>\"\",INDEX($B$3:$B$102,COUNT($B$3:$B$102)*RAND()+1),\"\")","v":68},70,46,68,79,46,58,58,57,70,68,68,70,68,36,46,57,70,46,70,7,69,69,36,69,69,68,57,69,47,79,57,68,69,70,68,45,69,68,47,57,57,57,36,57,58,46,7,68,69,45,70,57,68,57,69,7,46,57,46,57,68,69,57,36,57,68,68,57,69,45,36,68,57,57,36,57,7,46,36,57,58,47,69,46,68,46,46,70,36,7,69,7,57,57,57,70]
[5,58,null,"Algorithm A",{"$f":"alga_meanRV(B3:B102)","v":53.318784861059719},null,46,47,68,46,7,36,7,45,7,79,57,45,36,57,69,70,45,36,46,45,46,46,68,36,68,46,79,68,69,57,57,57,45,68,47,57,36,58,46,58,68,47,36,46,58,57,45,69,46,57,79,36,68,46,57,79,68,57,47,69,57,68,45,46,7,68,{"$f":"IF($B7<>\"\",INDEX($B$3:$B$102,COUNT($B$3:$B$102)*RAND()+1),\"\")","v":69},57,47,79,57,70,58,36,57,47,46,36,68,46,69,68,7,79,68,69,57,57,7,47,68,47,57,68,47,68,36,46,45,57,7,46,36,69,36,46,45,45,79,68,46,68,68,68,69,68,46,70,70,79,58,47,68,70,68,45,69,70,69,69,70,68,58,68,79,58,47,46,58,47,7,57,68,57,68,57,7,57,7,57,57,45,68,68,70,68,68,7,46,57,79,69,7,68,47,69,68,69,68,45,46,68,68,68,7,57,47,47,7,46,45,70,46,69,58,46,7,7,68,47,69,46,57,57,{"$f":"IF($B7<>\"\",INDEX($B$3:$B$102,COUNT($B$3:$B$102)*RAND()+1),\"\")","v":57},57,58,68,68,36,45,46,45,46,68,46,70,68,57,57,57,68,69,7,69,68,45,68,7,47,46,46,69,57,57,46,57,36,45,57,69,46,57,57,47,70,46,57,57,57,36,70,68,7,69,57,57,46,69,69,79,57,57,58,45,68,69,68,47,7,69,69,58,57,79,70,69,47,36,57,57,70,69,46,47,46,57,79,46,57,45,79,58,47,57,46,68,46,45,45,68,57,57,57,58,68,47,46,47,57,47,58,46,45,57,46,57,79,46,70,36,57,68,46,68,58,69,57,36,68,45,57,{"$f":"IF($B7<>\"\",INDEX($B$3:$B$102,COUNT($B$3:$B$102)*RAND()+1),\"\")","v":68},57,47,57,46,45,79,36,57,46,46,79,69,45,57,57,36,57,69,7,47,46,68,46,57,69,69,58,45,45,57,57,68,69,36,57,57,46,57,57,58,46,68,68,47,46,46,68,79,45,68,68,69,36,68,69,47,45,68,68,58,68,7,47,58,57,7,68,68,46,70,57,69,46,68,79,57,57,7,47,7,68,70,57,36,45,58,46,47,69,70,7,69,69,58,46,45,47,57,68,57,79,45,46,36,58,47,69,47,7,68,70,79,57,7,58,46,7,69,69,58,47,58,68,46,68,58,58,{"$f":"IF($B7<>\"\",INDEX($B$3:$B$102,COUNT($B$3:$B$102)*RAND()+1),\"\")","v":45},7,79,57,79,46,69,57,68,58,68,46,69,45,68,68,69,57,58,68,7,46,68,69,46,58,57,69,46,57,36,57,36,47,45,36,7,57,58,68,45,68,36,46,68,45,68,57,46,57,7,46,46,69,46,57,46,36,57,79,57,68,36,45,69,79,69,46,58,69,47,69,36,68,36,46,79,68,47,36,79,69,79,7,46,79,70,68,69,69,58,57,36,79,79,57,70,68,47,69,68,79,36,69,79,68,57,70,68,46,57,57,46,47,69,36,69,46,7,69,7,47,68,68,46,47,58,46,{"$f":"IF($B7<>\"\",INDEX($B$3:$B$102,COUNT($B$3:$B$102)*RAND()+1),\"\")","v":58},57,45,70,57,45,46,68,68,7,68,36,69,46,68,57,68,57,68,79,57,68,46,68,68,45,69,45,57,46,46,57,79,46,68,7,70,68,57,46,36,57,46,47,57,47,57,7,58,70,36,69,68,36,57,68,68,68,7,69,57,68,68,69,57,7,69,68,46,68,45,47,46,70,68,57,7,58,57,69,68,46,7,70,79,68,58,70,57,57,69,58,57,57,57,57,68,46,69,69,7,68,57,68,69,70,36,57,57,69,36,68,58,47,79,46,7,79,68,47,57,57,7,57,7,69,79,68,{"$f":"IF($B7<>\"\",INDEX($B$3:$B$102,COUNT($B$3:$B$102)*RAND()+1),\"\")","v":69},57,57,7,46,7,7,69,68,68,46,79,79,57,58,57,68,68,68,36,46,79,70,68,70,36,47,68,70,47,57,70,7,68,69,69,46,70,70,57,58,79,69,68,58,7,69,47,68,46,69,7,69,79,79,69,58,68,47,69,47,46,57,69,68,7,68,57,70,69,58,57,68,46,68,70,57,57,68,45,69,57,45,68,69,57,57,7,47,68,70,46,45,46,45,46,57,47,46,36,7,70,57,58,79,68,58,46,69,68,7,70,70,68,46,69,57,70,68,69,57,45,68,36,46,46,70,36,{"$f":"IF($B7<>\"\",INDEX($B$3:$B$102,COUNT($B$3:$B$102)*RAND()+1),\"\")","v":68},57,7,70,68,57,69,69,68,57,58,57,36,58,68,47,47,70,70,68,58,46,68,69,36,57,36,46,45,46,45,79,57,58,45,57,46,36,79,70,70,45,57,57,45,7,79,70,46,45,68,69,79,45,58,68,57,45,69,58,46,36,57,46,7,68,68,46,68,79,69,68,58,45,70,36,46,47,36,46,57,36,70,69,46,46,70,45,45,45,36,7,70,69,46,58,69,47,70,68,57,57,46,7,7,68,69,47,58,57,68,69,58,57,46,57,70,68,46,46,58,57,46,68,47,57,36,47,68,46,68,79,69,36,57,57,57,57,45,47,79,47,57,36,68,47,46,79,68,68,68,69,46,7,68,46,69,79,57,68,79,57,7,58,79,68,{"$f":"IF($B7<>\"\",INDEX($B$3:$B$102,COUNT($B$3:$B$102)*RAND()+1),\"\")","v":57},70,57,7,70,57,46,69,45,69,58,47,46,7,69,69,69,46,57,46,45,68,68,47,47,58,57,69,57,57,7,69,46,68,46,46,58,46,57,68,79,7,46,47,47,57,7,57,57,46,70,58,68,68,45,68,36,79,36,7,69,7,69,70,69,70,79,57,69,57,36,57,69,57,69,57,57,57,36,68,69,46,70,7,47,46,47,7,47,45,70,68,45,57,68,57,69,58,68,70,45,69,47,46,68,57,7,68,46,46,57,58,79,68,47,36,57,69,69,36,68,46,57,7,46,68,36,69,{"$f":"IF($B7<>\"\",INDEX($B$3:$B$102,COUNT($B$3:$B$102)*RAND()+1),\"\")","v":57},58,7,46,7,46,36,57,68,46,57,47,58,57,36,69,47,36,46,70,57,68,68,57,36,57,58,69,69,57,68,57,45,70,68,57,69,58,57,70,68,57,36,58,47,69,7,45,7,70,47,7,58,69,69,79,68,47,68,57,57,58,68,57,46,36,57,36,45,68,45,68,69,58,79,69,46,57,69,57,68,69,45,70,47,46,46,57,47,68,68,58,57,57,70,68,57,68,57,36,69,57,45,46,70,70,79,58,45,45,68,47,68,7,69,46,36,70,69,46,46,47,68,57,57,57,69,57,{"$f":"IF($B7<>\"\",INDEX($B$3:$B$102,COUNT($B$3:$B$102)*RAND()+1),\"\")","v":36},36,68,36,45,46,57,7,36,57,58,79,46,69,79,58,69,57,58,69,57,69,57,7,46,58,70,45,68,46,57,68,47,57,46,58,7,68,68,57,69,57,69,68,7,7,58,7,7,69,69,7,45,36,46,68,69,57,7,70,57,69,79,68,45,79,57,57,69,69,79,69,69,57,79,7,47,57,79,68,68,45,68,57,69,45,68,68,7,36,57,69,46,36,45,70,57,7,46,68,57,68,68,70,36,68,36,69,47,69,70,58,57,79,46,57,69,68,69,57,47,79,68,7,36,69,68,45,{"$f":"IF($B7<>\"\",INDEX($B$3:$B$102,COUNT($B$3:$B$102)*RAND()+1),\"\")","v":68},68,46,69,47,46,68,46,57,45,46,57,58,47,79,45,46,46,36,57,46,57,68,69,68,68,57,58,46,46,79,70,68,58,57,57,68,70,46,69,58,69,57,68,46,79,46,36,68,57,47,79,47,69,45,57,46,57,57,69,46,45,57,68,46,57,46,69,7,46,69,69,45,68,58,68,70,57,70,57,69,79,79,69,70,79,46,57,68,57,68,36,7,57,79,47,57,57,45,46,46,46,79,68,36,47,68,57,58,57,58,68,58,68,46,57,7,46,79,46,45,68,68,57,79,57,68,36,{"$f":"IF($B7<>\"\",INDEX($B$3:$B$102,COUNT($B$3:$B$102)*RAND()+1),\"\")","v":46},58,57,58,68,46,46,46,46,69,45,46,47,69,68,57,36,45,36,7,45,79,70,46,46,69,68,68,69,57,69,45,46,69,36,70,57,79,57,46,70,57,7,70,47,57,69,46,7,46,7,46,70,47,58,47,69,70,68,57,36,69,57,46,68,68,57,79,57,69,46,57,68,68,45,68,68,68,70,68,47,57,57,47,57,69,79,57,47,58,36,7,36,68,45,79,58,47,45,7,36,7,68,57,57,47,47,70,36,79,47,46,57,69,36,46,79,79,68,47,79,57,68,68,36,57,58,45,{"$f":"IF($B7<>\"\",INDEX($B$3:$B$102,COUNT($B$3:$B$102)*RAND()+1),\"\")","v":45},7,45,79,58,47,68,68,70,46,68,45,57,57,69,68,58,7,69,68,46,68,69,58,68,7,57,46,79,7,47,57,68,57,68,46,36,45,68,69,46,68,68,68,7,58,58,70,69,36,69,68,57,69,46,79,36,68,7,7,46,46,47,58,79,57,68,79,79,69,57,69,57,79,45,69,69,45,7,57,68,69,57,45,69,68,57,45,47,57,69,68,46,68,46,46,68,46,68,70,70,70,57,79,68,68,36,79,70,47,57,57,70,58,68,7,45,68,68,57,7,36,68,79,46,57,68,68,{"$f":"IF($B7<>\"\",INDEX($B$3:$B$102,COUNT($B$3:$B$102)*RAND()+1),\"\")","v":68},57,58,47,68,45,57,36,68,57,46,70,68,68,69,57,68,47,68,57,7,45,58,68,47,47,47,69,69,69,47,69,70,68,68,57,57,69,68,79,46,69,7,47,47,36,68,36,57,7,57,7,57,45,69,58,36,7,7,57,45,46,57,46,57,68,36,68,57,7,46,36,45,57,57,47,57,68,46,47,70,36,47,68,69,70,45,36,47,46,68,46,79,47,36,68,58,68,68,70,45,57,47,58,57,7,58,69,57,68,45,79,68,79,70,36,68,36,69,58,69,68,70,57,45,57,68,58,{"$f":"IF($B7<>\"\",INDEX($B$3:$B$102,COUNT($B$3:$B$102)*RAND()+1),\"\")","v":69},69,79,79,46,47,68,47,68,79,57,58,57,68,57,58,57,79,7,46,57,57,69,46,69,68,57,46,70,47,69,46,45,57,57,46,68,46,70,70,68,57,57,69,79,57,45,68,7,36,7,57,68,7,68,57,45,36,57,45,58,7,68,46,47,57,36,58,69,7,69,46,47,69,79,68,45,57,45,69,69,57,58,68,58,68,7,79,68,68,68,69,68,68,57,68,58,69,57,57,47,36,69,7,46,46,47,68,68,68,57,68,68,46,36,46,57,79,79,68,45,57,79,7,7,69,46,36,{"$f":"IF($B7<>\"\",INDEX($B$3:$B$102,COUNT($B$3:$B$102)*RAND()+1),\"\")","v":58},47,68,68,47,57,69,7,68,46,57,7,46,68,7,68,46,57,68,57,57,58,68,36,70,57,57,7,46,45,69,70,7,57,7,69,57,45,46,69,7,79,57,79,68,68,69,58,68,45,7,57,57,69,69,58,46,46,68,46,46,70,68,46,69,68,46,79,79,68,68,57,7,46,47,69,79,57,69,45,36,57,46,68,57,57,46,69,7,57,36,57,36,46,70,57,68,70,46,58,36,68,68,68,79,68,58,69,79,70,68,7,46,46,57,57,7,68,70,7,46,79,69,57,79,47,45,57,{"$f":"IF($B7<>\"\",INDEX($B$3:$B$102,COUNT($B$3:$B$102)*RAND()+1),\"\")","v":7},69,36,68,57,68,70,68,7,70,57,58,46,46,7,69,36,57,70,79,69,46,36,57,69,46,7,36,79,68,69,69,69,70,45,58,46,46,57,47,45,58,68,68,79,57,58,58,7,68,57,7,69,68,68,46,46,68,68,47,70,79,79,68,68,45,68,45,36,68,69,68,45,57,68,46,68,79,79,47,68,36,68,46,7,68,68,47,68,57,68,69,69,68,68,46,68,69,7,36,68,58,68,57,45,57,46,57,36,69,79,68,68,57,7,68,46,57,58,70,68,57,36,70,57,57,7,47,{"$f":"IF($B7<>\"\",INDEX($B$3:$B$102,COUNT($B$3:$B$102)*RAND()+1),\"\")","v":70},45,70,68,57,69,68,79,7,57,36,46,7,47,45,79,36,46,68,68,7,70,69,7,46,68,68,70,68,36,47,47,69,68,57,45,79,68,7,46,46,70,69,36,57,36,68,69,68,68,68,70,68,36,7,57,46,68,69,57,47,57,69,69,57,69,46,68,47,70,68,46,70,58,57,45,79,46,57,58,68,79,70,46,57,68,79,46,57,69,7,57,7,70,69,57,68,47,57,46,70,68,68,68,46,46,68,68,70,57,58,46,69,47,46,7,68,57,70,58,79,57,36,68,57,47,57,57,{"$f":"IF($B7<>\"\",INDEX($B$3:$B$102,COUNT($B$3:$B$102)*RAND()+1),\"\")","v":57},57,70,79,36,57,68,57,45,68,70,69,46,57,47,70,47,69,7,47,7,69,57,79,69,58,45,57,69,68,46,68,68,69,68,57,47,57,58,57,69,45,57,46,69,36,57,68,68,45,57,46,68,68,69,46,58,7,68,7,58,45,68,57,7,58,47,57,47,46,36,47,47,57,79,68,69,45,57,68,69,46,79,47,68,68,69,47,57,79,69,68,68,57,46,68,46,45,58,69,69,69,68,57,69,68,46,45,69,68,57,79,57,36,57,45,69,79,45,36,36,47,58,47,57,69,68,57,{"$f":"IF($B7<>\"\",INDEX($B$3:$B$102,COUNT($B$3:$B$102)*RAND()+1),\"\")","v":7},7,68,58,79,70,68,79,68,68,58,7,79,36,46,58,58,70,46,57,68,68,7,36,79,57,68,47,68,7,7,69,46,70,47,79,68,47,36,57,46,46,79,68,68,47,46,79,58,7,46,69,58,36,47,69,45,70,69,68,45,57,68,57,58,57,68,69,47,79,57,46,36,58,45,57,70,7,57,69,57,68,68,79,79,68,46,68,46,68,46,58,70,57,36,68,45,46,45,47,47,58,69,57,47,79,45,46,79,69,68,57,57,68,68,47,7,36,36,47,58,45,70,36,58,57,7,69,{"$f":"IF($B7<>\"\",INDEX($B$3:$B$102,COUNT($B$3:$B$102)*RAND()+1),\"\")","v":68},69,46,79,70,46,68,36,57,47,46,69,69,57,7,46,57,79,68,57,68,57,68,57,58,57,46,58,68,68,57,58,45,46,69,45,68,57,79,7,68,69,46,36,58,57,68,57,46,68,36,46,70,46,46,47,46,57,57,7,7,70,68,57,57,79,69,68,57,69,7,45,79,45,68,46,57,7,45,45,46,57,79,58,68,46,68,79,68,7,69,47,69,45,57,57,68,46,69,79,57,57,68,47,46,57,69,70,46,58,47,69,46,57,70,68,46,7,46,58,36,57,70,46,7,57,68,68,{"$f":"IF($B7<>\"\",INDEX($B$3:$B$102,COUNT($B$3:$B$102)*RAND()+1),\"\")","v":69},7,69,68,46,36,58,47,69,68,46,57,79,79,57,69,36,47,68,58,69,46,36,68,68,57,69,47,7,7,68,57,57,68,47,68,79,68,69,36,36,69,70,68,46,57,79,57,79,57,57,79,79,69,79,58,79,68,68,68,57,69,57,79,68,79,57,70,45,68,58,57,45,46,79,7,69,7,45,79,45,58,68,68,68,69,70,68,7,57,70,69,58,79,57,57,69,46,68,69,68,70,70,68,7,68,68,46,57,69,69,68,46,57,79,70,36,57,36,57,46,57,7,58,47,46,57,46,{"$f":"IF($B7<>\"\",INDEX($B$3:$B$102,COUNT($B$3:$B$102)*RAND()+1),\"\")","v":79},57,57,47,57,46,47,46,57,46,45,46,57,69,68,69,57,46,69,57,46,69,57,69,57,58,68,69,46,68,57,57,58,69,68,57,70,69,36,79,68,57,46,46,68,69,68,68,58,57,70,46,45,69,47,70,69,68,70,46,45,46,47,79,68,45,68,68,46,69,69,69,57,69,46,45,57,7,58,7,70,36,79,7,46,46,70,69,70,69,57,57,57,58,7,46,57,45,57,46,58,46,68,58,68,46,47,79,68,68,68,46,57,69,79,46,68,47,58,45,58,57,36,57,68,70,68,79,{"$f":"IF($B7<>\"\",INDEX($B$3:$B$102,COUNT($B$3:$B$102)*RAND()+1),\"\")","v":79},68,36,69,68,70,70,69,69,57,57,57,46,70,47,58,7,45,68,58,70,58,68,68,36,46,57,69,57,57,36,79,57,46,57,70,79,69,36,46,58,69,69,7,47,7,57,68,69,70,7,69,68,57,58,58,68,47,57,70,69,45,79,36,47,36,46,46,57,68,46,68,68,69,46,47,58,79,70,58,69,68,57,45,45,46,68,57,69,70,57,68,46,46,46,58,69,68,58,7,69,68,45,46,46,68,68,79,69,46,45,36,45,58,68,57,69,47,69,57,70,58,69,68,68,45,68,45,{"$f":"IF($B7<>\"\",INDEX($B$3:$B$102,COUNT($B$3:$B$102)*RAND()+1),\"\")","v":57},70,69,46,46,46,69,68,47,68,7,46,45,79,69,58,57,57,68,36,79,68,79,45,68,68,57,58,69,45,47,68,68,68,46,68,69,45,69,7,79,69,79,57,69,69,68,46,46,57,7,69,57,68,68,36,36,69,69,57,68,69,68,68,58,58,57,57,57,68,47,7,68,68,69,70,79,58,7,46,7,68,70,70,36,68,57,45,57,57,69,69,68,45,57,57,45,69,57,36,57,68,46,69,57,36,68,47,69,57,7,36,69,36,57,70,68,79,68,7,7,58,7,47,47,70,57,69,{"$f":"IF($B7<>\"\",INDEX($B$3:$B$102,COUNT($B$3:$B$102)*RAND()+1),\"\")","v":45},79,57,47,36,68,57,58,46,36,46,7,57,68,70,68,58,68,68,68,69,58,79,57,7,57,46,68,69,70,7,46,57,69,46,68,68,47,58,57,68,68,57,70,70,46,69,36,69,79,57,47,47,57,46,57,68,36,68,57,68,70,46,46,57,47,79,46,68,69,36,58,45,70,7,47,68,68,68,45,58,46,46,45,57,79,58,69,69,68,68,47,69,45,47,70,47,57,45,69,47,68,57,46,46,47,46,36,69,70,57,68,46,46,45,57,68,7,46,70,45,47,47,36,47,70,46,69,{"$f":"IF($B7<>\"\",INDEX($B$3:$B$102,COUNT($B$3:$B$102)*RAND()+1),\"\")","v":7},46,70,46,36,57,70,68,70,57,79,57,79,57,36,69,45,36,58,68,68,46,57,69,47,7,79,57,68,36,68,57,46,7,57,69,68,70,68,7,68,69,46,70,79,79,69,45,79,57,79,47,36,57,46,69,46,7,69,68,68,7,45,7,46,46,36,79,47,69,57,46,57,70,68,70,68,36,79,36,58,47,46,69,79,47,69,69,58,47,46,68,47,36,36,79,46,58,69,69,69,46,57,79,68,45,70,47,57,47,57,57,70,79,7,58,45,47,69,46,68,58,7,70,69,69,46,47,{"$f":"IF($B7<>\"\",INDEX($B$3:$B$102,COUNT($B$3:$B$102)*RAND()+1),\"\")","v":79},47,58,70,68,57,36,36,45,70,36,79,46,58,69,57,45,46,69,57,57,57,57,46,70,58,57,69,45,46,79,57,68,57,46,57,68,45,68,57,69,57,68,7,57,36,70,68,57,46,58,7,46,36,45,68,69,70,58,57,47,68,45,46,58,47,47,68,57,68,69,69,68,57,46,68,7,70,57,79,68,57,68,58,58,58,69,47,57,70,47,68,69,58,79,46,57,36,36,46,68,68,68,70,57,79,46,69,57,46,70,68,36,46,69,68,68,70,45,46,45,7,68,79,70,70,36,58,{"$f":"IF($B7<>\"\",INDEX($B$3:$B$102,COUNT($B$3:$B$102)*RAND()+1),\"\")","v":57},36,45,57,70,79,69,47,45,69,7,46,57,69,58,7,69,57,58,57,46,46,57,69,79,68,79,36,69,46,79,57,58,7,68,68,69,69,68,57,46,57,70,45,79,57,57,57,36,68,79,57,70,70,7,7,46,69,68,70,79,57,47,57,45,69,70,57,36,79,57,68,36,58,68,69,57,79,47,79,57,46,57,68,69,45,46,57,36,36,57,70,79,46,7,68,36,57,47,70,58,47,68,36,68,69,46,58,68,68,45,57,7,69,68,70,68,69,68,68,45,68,45,68,46,36,68,69,{"$f":"IF($B7<>\"\",INDEX($B$3:$B$102,COUNT($B$3:$B$102)*RAND()+1),\"\")","v":79},69,58,46,68,57,57,69,69,57,68,57,57,57,45,45,7,68,68,36,68,57,46,68,69,47,7,70,46,69,70,68,46,70,7,57,69,57,69,68,7,57,68,68,45,7,57,36,47,36,58,36,7,46,68,47,70,68,46,69,69,68,68,57,58,7,58,57,47,68,57,69,69,58,68,69,68,79,68,68,68,46,68,58,57,68,57,47,58,7,46,69,57,57,57,68,69,58,46,36,79,70,46,46,46,46,69,45,46,79,70,68,46,70,7,46,70,69,68,68,70,45,79,68,47,46,69,70,{"$f":"IF($B7<>\"\",INDEX($B$3:$B$102,COUNT($B$3:$B$102)*RAND()+1),\"\")","v":68},46,58,36,57,68,70,69,58,7,68,36,45,45,68,45,70,57,68,46,57,57,47,57,58,7,36,57,46,69,47,58,57,57,68,70,79,57,68,47,7,68,68,47,57,46,36,36,57,57,57,58,57,70,46,69,68,46,68,46,70,46,36,7,68,58,47,46,46,69,58,45,46,7,57,69,58,57,46,47,46,70,68,57,47,45,57,57,46,69,47,47,79,47,46,58,46,69,58,57,68,58,46,68,47,70,57,46,58,57,57,68,46,57,46,69,46,57,46,69,68,36,57,57,79,68,46,69,{"$f":"IF($B7<>\"\",INDEX($B$3:$B$102,COUNT($B$3:$B$102)*RAND()+1),\"\")","v":79},57,57,46,70,58,70,70,7,57,69,58,58,68,79,68,7,58,70,70,57,68,69,68,57,57,68,7,68,7,46,36,79,69,79,47,68,57,68,69,58,68,68,47,68,68,68,79,58,58,69,57,46,36,69,57,57,45,69,69,46,46,58,79,70,57,79,58,36,45,57,68,69,57,79,69,68,57,58,47,68,68,58,45,36,79,68,79,68,70,68,68,57,46,57,68,79,46,69,58,68,68,46,45,57,7,47,57,45,70,7,79,68,69,57,7,79,57,7,69,7,46,57,68,57,46,57,45,{"$f":"IF($B7<>\"\",INDEX($B$3:$B$102,COUNT($B$3:$B$102)*RAND()+1),\"\")","v":57},57,69,79,57,46,46,45,45,69,36,47,70,68,36,69,68,46,57,79,68,68,58,45,7,70,45,45,79,45,7,46,70,46,45,68,70,68,7,69,69,58,79,45,69,68,57,7,46,58,46,45,46,57,36,68,45,57,57,69,69,45,46,46,45,57,58,46,70,45,68,46,69,57,46,46,69,70,68,68,36,79,36,68,46,69,68,68,68,46,46,47,46,69,36,57,57,47,69,57,47,46,57,58,57,57,79,79,36,69,36,57,57,69,7,46,68,47,68,58,46,57,69,7,57,7,69,57,{"$f":"IF($B7<>\"\",INDEX($B$3:$B$102,COUNT($B$3:$B$102)*RAND()+1),\"\")","v":79},46,57,57,69,69,46,68,45,57,36,68,57,70,58,70,7,46,46,69,68,36,70,46,46,79,68,57,68,47,68,7,68,68,70,70,69,45,68,58,69,46,69,70,47,46,69,79,58,45,57,7,79,47,7,57,7,70,68,68,68,46,46,36,68,79,36,58,36,36,57,36,7,68,58,79,58,57,68,70,57,68,79,45,79,57,58,7,57,58,68,57,69,57,57,79,68,57,57,69,70,68,7,47,70,46,69,57,57,68,57,36,7,45,68,69,7,57,70,68,46,46,68,47,68,46,69,45,{"$f":"IF($B7<>\"\",INDEX($B$3:$B$102,COUNT($B$3:$B$102)*RAND()+1),\"\")","v":79},70,7,68,68,68,46,45,58,57,57,69,57,36,46,79,58,47,7,69,57,68,79,57,69,69,7,70,36,68,68,79,46,36,69,57,69,69,69,47,70,79,7,69,45,57,57,46,7,7,58,57,47,46,68,46,69,46,46,68,57,68,47,36,57,68,46,69,57,7,68,68,68,57,7,36,45,57,57,69,47,68,57,57,45,69,57,68,45,7,58,68,70,79,68,68,46,69,69,36,79,68,70,70,70,57,68,69,47,57,36,69,58,68,57,69,46,69,46,47,45,57,70,46,57,57,69,57,{"$f":"IF($B7<>\"\",INDEX($B$3:$B$102,COUNT($B$3:$B$102)*RAND()+1),\"\")","v":46},57,68,46,68,7,69,69,68,68,69,69,47,69,57,57,69,47,68,46,70,36,45,70,57,68,36,36,36,7,58,57,69,68,46,68,69,57,57,69,70,7,45,46,70,68,79,7,57,46,57,68,47,57,57,68,46,69,79,58,68,68,57,7,70,68,68,79,69,57,79,69,70,68,79,70,68,68,45,57,68,58,7,46,36,69,69,57,45,7,68,57,68,68,46,68,45,68,69,46,58,68,45,68,70,57,57,79,68,57,46,69,68,57,7,68,70,68,57,57,68,69,46,47,7,57,45,45,{"$f":"IF($B7<>\"\",INDEX($B$3:$B$102,COUNT($B$3:$B$102)*RAND()+1),\"\")","v":68},68,45,70,70,57,45,57,79,68,58,68,57,46,46,68,7,47,57,57,79,70,36,70,70,46,45,70,7,46,46,47,58,36,69,57,57,36,7,57,79,47,57,58,69,68,45,79,69,69,68,68,69,70,68,68,69,68,7,68,57,68,57,45,36,70,58,46,68,79,69,68,70,68,68,58,45,58,47,36,58,69,57,57,68,46,70,46,7,7,58,68,57,36,68,58,68,68,69,57,46,68,70,57,70,45,68,69,57,69,7,68,57,70,47,68,70,69,7,69,70,7,45,68,36,47,45,69,{"$f":"IF($B7<>\"\",INDEX($B$3:$B$102,COUNT($B$3:$B$102)*RAND()+1),\"\")","v":57},46,45,68,68,79,68,58,58,46,70,69,57,36,69,57,57,57,57,69,68,68,68,36,68,36,46,57,46,79,45,57,68,46,47,57,46,36,46,68,46,70,79,46,69,79,7,69,46,68,7,68,79,58,68,79,68,57,47,47,68,47,57,58,69,68,57,57,57,79,46,68,47,70,7,69,46,69,68,46,7,69,46,58,45,46,46,36,70,57,46,57,79,57,69,57,45,46,69,69,36,57,7,7,47,68,36,79,68,47,46,46,47,68,47,36,7,68,46,79,36,79,57,69,69,68,70,36,46,45,45,69,46,36,69,36,68,36,69,68,69,58,69,69,45,47,47,70,68,36,46,79,68,46,58,7,69,57,57,45]
[17,68,null,null,null,null,79,70,57,46,69,46,57,47,69,57,47,58,68,46,69,57,45,47,68,69,46,7,57,57,47,57,36,47,69,70,68,79,57,46,46,36,68,36,70,45,47,45,70,45,79,70,58,46,69,69,46,57,7,45,57,47,57,69,45,57,47,7,46,68,68,46,46,57,57,7,68,47,46,57,68,7,68,47,46,57,46,47,70,46,69,68,57,69,58,46,58,69,70,7,68,68,68,47,69,68,79,79,79,58,69,69,57,70,79,79,36,46,68,46,57,69,70,69,45,79,68,57,46,7,79,47,79,68,46,57,{"$f":"IF($B19<>\"\",INDEX($B$3:$B$102,COUNT($B$3:$B$102)*RAND()+1),\"\")","v":79},46,46,68,68,69,57,46,68,70,79,46,68,69,46,7,58,68,68,46,46,79,36,68,69,68,47,57,69,68,46,69,47,68,70,68,68,69,68,79,46,47,57,7,46,68,57,69,57,68,68,46,57,79,57,57,68,57,58,57,69,45,69,68,69,69,68,57,69,68,68,45,68,68,36,57,46,68,57,45,7,68,57,57,70,46,46,57,79,36,47,68,45,69,69,57,68,68,69,68,79,46,68,45,68,69,36,36,68,57,70,57,69,36,68,57,79,45,57,46,68,68,68,69,47,68,70,46,7,69,68,{"$f":"IF($B19<>\"\",INDEX($B$3:$B$102,COUNT($B$3:$B$102)*RAND()+1),\"\")","v":45},57,36,68,57,69,68,57,7,68,47,7,46,57,46,46,70,46,79,46,79,58,57,69,36,69,57,36,57,45,79,68,46,36,46,57,58,57,69,57,58,79,46,45,47,70,45,45,57,36,68,45,70,57,57,79,46,69,69,46,57,57,46,46,36,46,68,69,57,45,69,46,7,7,46,69,57,79,68,47,7,68,46,7,68,47,57,7,69,45,36,57,57,79,57,68,7,69,46,7,7,70,79,46,57,68,57,79,7,68,68,47,68,69,68,68,69,7,46,68,7,47,57,58,47,46,46,57,57,68,45,46,79,57,57,69,47,69,36,7,68,69,79,36,57,57,57,46,57,36,7,57,70,70,68,{"$f":"IF($B19<>\"\",INDEX($B$3:$B$102,COUNT($B$3:$B$102)*RAND()+1),\"\")","v":7},36,57,79,58,57,57,45,45,47,69,70,79,57,57,57,69,46,70,57,68,68,69,70,68,45,68,46,68,45,45,68,58,70,70,68,69,68,57,7,46,69,68,57,57,47,57,69,46,57,68,68,46,46,36,47,36,69,46,46,69,36,70,70,46,7,57,46,69,57,47,69,58,70,68,68,57,7,68,69,7,57,57,46,46,36,47,69,7,68,46,69,68,69,36,57,79,68,68,45,58,46,45,68,69,69,45,70,68,68,69,46,79,68,45,57,46,46,46,68,57,46,69,69,69,69,57,57,{"$f":"IF($B19<>\"\",INDEX($B$3:$B$102,COUNT($B$3:$B$102)*RAND()+1),\"\")","v":7},36,79,36,68,69,57,58,68,79,57,7,79,58,79,69,58,57,57,69,57,7,46,70,69,57,79,57,79,70,7,79,45,69,68,68,46,57,69,68,47,79,68,47,7,7,46,45,58,57,57,70,7,70,36,69,7,68,7,57,46,7,47,68,36,68,46,69,7,7,57,46,58,69,47,46,68,69,46,79,7,47,57,46,57,47,68,47,70,46,58,58,68,70,57,68,46,46,70,69,7,69,69,57,58,36,45,7,57,58,57,57,79,79,57,47,68,46,57,46,58,45,68,70,79,46,68,36,{"$f":"IF($B19<>\"\",INDEX($B$3:$B$102,COUNT($B$3:$B$102)*RAND()+1),\"\")","v":57},58,57,58,57,57,57,36,46,57,7,46,68,57,79,68,70,45,47,46,45,46,47,79,68,57,46,68,57,70,68,68,68,57,69,68,46,68,57,68,45,70,68,47,45,7,69,69,7,68,70,7,68,57,79,68,36,36,57,68,57,68,46,68,79,57,58,68,46,57,57,68,36,68,36,68,7,57,46,45,69,58,70,68,46,57,7,58,57,47,68,69,36,70,47,68,46,68,69,79,68,46,58,58,68,7,36,70,68,47,69,68,68,36,7,47,57,57,58,46,68,68,57,68,45,45,7,36,{"$f":"IF($B19<>\"\",INDEX($B$3:$B$102,COUNT($B$3:$B$102)*RAND()+1),\"\")","v":79},36,46,46,69,68,68,69,70,45,46,45,69,57,46,36,70,58,57,57,46,68,79,68,47,47,69,79,70,36,57,46,46,7,57,68,57,7,46,70,58,58,68,36,70,69,45,68,45,79,68,7,79,47,69,69,57,36,45,36,45,68,47,47,7,69,68,45,57,57,58,79,57,69,46,68,57,7,7,47,46,57,57,68,57,70,68,36,58,7,46,57,79,57,36,57,57,57,79,79,46,46,70,58,45,58,36,47,58,45,45,46,69,70,58,46,68,57,68,46,70,36,68,69,57,45,58,69,{"$f":"IF($B19<>\"\",INDEX($B$3:$B$102,COUNT($B$3:$B$102)*RAND()+1),\"\")","v":68},69,68,68,57,79,70,70,69,69,45,79,36,36,58,46,47,46,69,69,57,57,57,57,57,79,70,69,7,68,57,57,68,70,68,58,68,46,36,45,46,79,58,58,68,45,70,68,68,68,68,58,45,68,47,57,7,68,46,69,57,57,68,57,45,47,58,68,57,70,70,68,{"$f":"IF($B19<>\"\",INDEX($B$3:$B$102,COUNT($B$3:$B$102)*RAND()+1),\"\")","v":69},68,46,70,45,58,68,57,58,47,7,68,69,47,7,68,46,69,69,68,57,69,69,46,79,70,46,46,47,57,70,69,57,45,57,69,57,69,69,69,57,58,70,46,46,68,46,46,57,45,68,68,58,69,57,36,70,57,36,7,69,57,36,36,47,57,36,36,57,46,46,36,57,68,68,46,68,57,7,70,47,68,46,69,57,58,46,68,7,36,47,70,68,57,7,{"$f":"IF($B19<>\"\",INDEX($B$3:$B$102,COUNT($B$3:$B$102)*RAND()+1),\"\")","v":68},45,47,69,79,46,69,47,68,58,70,68,57,79,47,57,57,68,57,68,57,45,46,7,57,46,46,68,46,47,46,57,45,36,68,57,58,7,57,36,46,68,7,68,70,69,7,46,47,47,47,45,47,70,46,69,70,57,70,57,69,70,57,36,47,68,46,57,46,7,47,68,47,57,57,69,79,46,68,70,68,69,46,68,79,46,47,45,46,70,47,68,46,68,68,57,68,46,69,46,68,69,57,69,36,69,46,68,7,46,46,47,69,57,57,68,47,79,69,46,46,57,57,68,7,69,68,70,36,68,69,58,46,69,58,36,47,79,58,58,58,57,47,69,46,46,45,36,46,36,79,70,68,57,7,47,70,7,68,{"$f":"IF($B19<>\"\",INDEX($B$3:$B$102,COUNT($B$3:$B$102)*RAND()+1),\"\")","v":46},69,45,45,79,7,45,47,45,57,70,45,46,45,58,57,69,57,45,45,57,57,58,70,68,7,79,57,7,79,68,79,46,57,57,46,79,45,46,45,45,68,68,68,69,68,47,58,58,69,45,58,45,47,70,57,58,46,57,68,68,46,70,45,68,79,68,46,68,45,57,68,68,7,46,36,46,46,68,69,47,7,68,58,47,68,69,70,7,68,69,46,79,57,69,36,{"$f":"IF($B19<>\"\",INDEX($B$3:$B$102,COUNT($B$3:$B$102)*RAND()+1),\"\")","v":46},57,68,69,45,69,69,36,58,69,46,68,68,58,79,70,79,57,58,69,46,68,68,68,69,7,68,46,70,70,57,68,45,58,46,45,47,69,45,36,69,47,46,46,36,57,68,57,36,45,7,68,68,46,69,69,70,79,47,46,36,47,36,69,46,79,68,57,68,70,68,68,68,79,68,57,46,70,69,7,36,69,36,36,69,68,46,70,69,45,45,57,57,57,70,57,57,58,47,36,45,57,68,57,57,45,7,58,7,69,68,36,68,46,79,69,68,46,69,36,45,68,70,57,68,68,70,7,{"$f":"IF($B19<>\"\",INDEX($B$3:$B$102,COUNT($B$3:$B$102)*RAND()+1),\"\")","v":68},45,68,46,57,36,68,70,69,46,70,69,79,47,58,79,47,70,47,68,58,47,36,69,57,57,7,45,57,47,36,68,57,69,46,57,46,79,57,69,45,68,47,57,7,47,57,47,57,70,69,7,70,57,46,46,36,45,79,36,68,79,70,47,36,79,69,68,69,70,36,70,69,58,70,57,69,69,68,68,69,68,57,69,69,57,58,68,7,79,47,57,69,7,46,57,45,46,46,68,7,57,68,69,45,69,69,58,68,46,7,69,36,68,46,68,58,68,47,69,69,57,57,46,68,69,57,57,{"$f":"IF($B19<>\"\",INDEX($B$3:$B$102,COUNT($B$3:$B$102)*RAND()+1),\"\")","v":70},47,47,57,57,79,57,7,57,57,69,46,7,69,57,70,7,79,47,7,79,45,69,69,69,79,68,46,68,69,79,47,47,36,46,45,57,36,46,58,58,57,46,57,68,70,46,79,46,36,36,79,68,69,47,68,7,68,68,7,58,69,68,69,36,57,46,57,68,68,46,45,79,7,47,70,79,79,70,57,69,68,7,79,47,68,70,79,57,36,79,36,70,68,69,46,57,57,47,57,58,46,47,57,70,46,69,57,68,58,47,58,45,36,57,69,79,70,45,36,57,46,79,79,57,46,68,46,{"$f":"IF($B19<>\"\",INDEX($B$3:$B$102,COUNT($B$3:$B$102)*RAND()+1),\"\")","v":68},47,46,57,68,47,36,58,69,79,57,45,58,7,36,58,70,68,70,69,69,57,46,68,57,57,69,69,70,57,57,57,69,47,47,69,69,68,69,68,68,47,57,46,45,47,46,68,79,36,69,68,69,57,57,57,68,68,70,46,79,58,7,68,36,69,58,57,57,45,46,57,69,45,47,47,79,45,57,45,69,69,45,57,57,36,57,57,69,57,45,36,57,68,79,58,69,46,68,57,68,57,79,69,36,57,46,69,57,57,57,46,70,7,47,69,58,45,68,46,36,68,69,46,45,69,36,68,{"$f":"IF($B19<>\"\",INDEX($B$3:$B$102,COUNT($B$3:$B$102)*RAND()+1),\"\")","v":70},57,36,69,58,45,57,57,46,45,68,68,68,57,46,36,68,46,68,46,68,57,58,57,36,45,68,68,69,46,36,57,68,70,68,79,68,46,36,58,69,68,7,57,69,45,45,45,57,46,68,69,36,47,45,70,36,58,69,57,69,46,79,47,36,58,36,57,69,7,46,68,57,69,57,68,57,7,45,79,45,57,79,69,79,69,45,68,79,47,46,68,47,47,69,46,68,70,47,68,46,79,57,68,68,57,7,69,68,46,68,47,36,57,70,68,7,46,69,57,57,69,47,57,45,79,68,57,{"$f":"IF($B19<>\"\",INDEX($B$3:$B$102,COUNT($B$3:$B$102)*RAND()+1),\"\")","v":68},7,68,46,70,57,79,69,46,69,46,68,57,57,57,69,46,46,79,45,68,57,45,46,79,57,46,46,58,57,68,69,47,46,57,57,45,68,68,46,69,69,7,70,36,68,68,45,7,46,70,57,69,70,57,69,36,57,69,69,57,69,68,46,57,46,36,58,7,68,47,7,68,7,57,46,45,57,46,69,68,46,79,79,68,70,58,46,7,57,7,46,45,68,46,47,36,69,68,57,58,69,57,36,7,69,47,68,68,68,69,57,68,69,46,45,79,58,47,58,79,36,70,57,46,68,45,68,{"$f":"IF($B19<>\"\",INDEX($B$3:$B$102,COUNT($B$3:$B$102)*RAND()+1),\"\")","v":69},70,47,58,58,7,57,7,57,69,46,58,36,57,57,47,70,70,46,57,70,47,46,58,46,7,57,68,57,47,57,79,69,70,68,45,46,57,70,69,57,69,57,79,7,68,57,58,68,46,7,7,69,57,7,46,68,68,7,7,57,36,45,57,45,36,70,69,57,47,69,45,46,36,68,47,68,69,46,36,46,45,69,45,36,79,69,57,46,79,68,79,7,58,57,45,36,69,57,45,57,57,36,68,45,69,45,57,46,47,57,36,69,36,36,69,79,46,68,58,45,47,79,36,47,70,70,57,{"$f":"IF($B19<>\"\",INDEX($B$3:$B$102,COUNT($B$3:$B$102)*RAND()+1),\"\")","v":58},57,68,69,69,68,7,57,36,68,57,7,57,69,46,58,45,45,7,46,58,7,46,68,70,70,36,70,57,57,57,57,69,57,45,46,79,57,69,46,68,68,70,57,58,45,79,57,7,7,36,68,69,79,69,69,69,46,79,69,68,47,70,46,58,69,57,45,45,58,46,58,7,79,57,36,57,70,46,57,45,57,7,46,46,7,47,57,57,7,69,58,58,58,79,47,57,69,46,68,57,69,36,68,68,69,68,69,69,36,36,36,7,46,57,47,46,58,7,70,69,57,46,47,58,57,46,69,{"$f":"IF($B19<>\"\",INDEX($B$3:$B$102,COUNT($B$3:$B$102)*RAND()+1),\"\")","v":47},47,58,46,68,57,79,69,68,68,46,68,46,68,57,45,57,79,57,79,68,46,36,57,46,7,46,79,45,68,79,36,69,57,7,68,7,57,68,68,69,45,68,57,79,69,47,69,69,68,68,68,70,57,47,69,57,58,57,45,47,57,57,57,69,70,46,57,46,58,68,79,36,69,36,68,70,70,45,68,36,69,46,47,68,36,47,7,47,70,46,46,57,70,57,46,36,36,47,36,57,46,57,57,47,79,47,46,68,58,69,57,69,57,79,57,68,69,46,57,79,46,68,57,69,58,46,47,{"$f":"IF($B19<>\"\",INDEX($B$3:$B$102,COUNT($B$3:$B$102)*RAND()+1),\"\")","v":69},57,79,46,57,69,79,68,46,79,47,69,36,47,7,79,47,7,57,68,68,69,70,69,46,36,46,69,68,79,70,58,57,57,68,57,58,58,46,79,79,47,7,57,79,47,69,57,58,69,69,46,79,36,68,57,68,70,68,57,36,68,46,57,46,7,57,57,57,47,69,46,57,36,70,79,58,69,46,47,68,79,57,45,57,58,7,68,36,69,69,69,70,68,69,46,45,70,45,68,7,46,36,68,68,69,68,57,69,70,36,46,57,57,46,69,69,57,7,70,57,69,68,46,68,47,47,57,{"$f":"IF($B19<>\"\",INDEX($B$3:$B$102,COUNT($B$3:$B$102)*RAND()+1),\"\")","v":7},45,70,47,46,58,57,46,58,70,57,70,68,79,36,47,69,70,45,7,69,7,68,70,58,79,36,7,68,57,68,57,58,36,57,7,46,69,68,79,58,46,7,47,68,57,68,68,46,79,69,69,46,36,69,58,57,45,68,57,47,68,68,69,57,68,70,68,68,58,47,68,47,46,68,79,47,79,46,70,57,69,68,36,57,69,69,57,57,70,70,69,79,69,36,57,57,69,46,57,69,57,45,69,7,57,68,57,7,45,46,45,46,68,69,68,57,46,68,46,58,45,47,69,68,69,57,68,{"$f":"IF($B19<>\"\",INDEX($B$3:$B$102,COUNT($B$3:$B$102)*RAND()+1),\"\")","v":46},57,47,46,47,7,46,70,69,57,46,57,46,57,68,69,58,47,47,68,57,7,79,57,57,68,57,7,57,58,79,57,69,57,58,36,7,58,57,45,69,69,69,68,46,46,69,58,57,57,46,69,7,46,68,68,70,68,68,58,68,68,45,68,69,45,68,36,69,68,57,68,46,46,46,79,68,57,70,7,68,36,47,69,47,57,57,7,46,68,57,58,57,57,68,68,68,68,57,58,36,57,47,69,70,69,47,69,70,70,69,69,69,46,58,79,46,45,68,70,46,45,57,58,58,69,57,69,{"$f":"IF($B19<>\"\",INDEX($B$3:$B$102,COUNT($B$3:$B$102)*RAND()+1),\"\")","v":46},57,57,47,69,47,46,70,58,70,68,68,57,47,36,46,57,46,79,68,57,45,47,36,46,69,69,69,45,57,58,69,68,70,68,45,68,57,79,7,70,46,47,79,57,68,47,79,69,36,7,57,69,46,46,68,36,69,57,7,57,46,45,68,70,70,79,79,47,70,46,47,69,69,46,79,58,57,58,57,46,68,46,69,46,46,57,57,47,69,46,47,69,36,79,68,45,57,79,68,57,68,69,79,57,45,69,57,68,57,7,79,58,57,68,47,79,57,58,47,70,69,79,7,57,69,69,57,{"$f":"IF($B19<>\"\",INDEX($B$3:$B$102,COUNT($B$3:$B$102)*RAND()+1),\"\")","v":46},68,69,36,57,36,69,79,36,46,45,47,47,58,7,57,45,36,79,46,58,47,57,68,46,79,79,57,7,47,45,69,79,69,68,57,46,68,68,68,68,68,36,57,70,68,46,46,68,69,46,46,46,69,46,79,68,70,69,57,79,68,45,79,68,70,79,57,45,69,57,57,46,7,46,45,46,46,57,36,58,46,70,70,57,57,69,68,36,68,57,57,36,57,46,57,57,70,7,36,70,36,46,68,69,69,36,36,68,36,46,79,36,36,47,45,36,68,45,45,57,57,57,46,46,45,46,45,{"$f":"IF($B19<>\"\",INDEX($B$3:$B$102,COUNT($B$3:$B$102)*RAND()+1),\"\")","v":7},69,57,68,58,57,57,69,57,46,7,45,79,79,46,57,68,7,57,57,46,70,79,46,70,79,47,79,46,47,47,68,68,58,45,57,58,79,47,46,46,69,58,58,57,57,68,68,45,68,57,69,68,46,68,36,69,36,57,68,68,36,57,46,79,7,47,69,47,79,46,68,7,79,57,68,68,79,58,68,58,46,69,69,47,70,57,70,57,36,57,46,46,57,70,68,7,58,69,47,69,7,68,57,46,7,47,68,58,79,79,68,7,70,46,70,69,46,36,58,47,69,68,36,68,47,36,58,{"$f":"IF($B19<>\"\",INDEX($B$3:$B$102,COUNT($B$3:$B$102)*RAND()+1),\"\")","v":46},36,46,46,68,7,7,69,45,70,79,70,79,36,69,45,69,68,46,70,69,58,70,7,57,7,57,68,68,45,68,46,57,69,68,57,58,46,7,69,45,57,68,57,68,46,36,68,58,69,69,45,70,45,45,68,69,36,69,68,46,58,57,7,68,7,7,68,68,46,68,36,68,68,69,46,45,57,68,57,69,45,46,47,57,7,36,7,57,79,79,68,69,69,57,69,57,36,7,7,68,68,68,57,46,57,45,7,57,58,58,68,70,68,68,57,45,46,46,58,69,36,58,57,45,68,7,69,{"$f":"IF($B19<>\"\",INDEX($B$3:$B$102,COUNT($B$3:$B$102)*RAND()+1),\"\")","v":57},47,7,46,69,68,7,57,47,46,79,57,45,68,68,46,47,68,68,57,68,57,47,57,47,69,45,79,46,69,45,36,68,69,69,45,46,58,57,58,69,69,70,68,7,46,46,36,68,57,79,58,57,69,68,69,46,79,68,68,57,57,45,79,46,69,68,57,46,70,69,47,57,7,68,57,70,46,58,57,79,69,7,47,69,68,46,58,7,68,57,46,46,68,57,7,70,68,47,46,57,69,68,57,57,57,47,36,46,57,47,57,70,79,69,47,58,7,68,70,69,58,46,57,7,68,68,57,{"$f":"IF($B19<>\"\",INDEX($B$3:$B$102,COUNT($B$3:$B$102)*RAND()+1),\"\")","v":68},58,57,57,36,36,57,79,46,46,57,36,57,45,45,68,7,57,46,79,7,57,57,70,79,36,58,79,69,69,70,36,79,70,69,57,46,58,47,68,70,57,68,79,57,69,46,46,47,46,69,45,47,68,68,58,69,45,45,57,36,46,69,58,47,7,57,68,47,79,68,47,70,46,69,69,47,57,68,68,57,58,68,58,58,57,7,69,57,58,57,46,47,70,57,57,57,68,57,69,68,57,58,70,46,57,68,36,45,36,58,69,57,57,57,58,57,7,47,46,69,46,36,70,69,7,69,57,{"$f":"IF($B19<>\"\",INDEX($B$3:$B$102,COUNT($B$3:$B$102)*RAND()+1),\"\")","v":7},68,69,57,69,46,58,7,68,68,45,68,68,57,58,68,47,47,45,57,46,68,69,79,69,69,79,47,36,58,47,46,79,47,57,68,57,68,36,47,79,57,46,57,36,68,68,36,58,46,36,69,46,47,69,58,68,68,36,58,68,68,36,79,57,57,47,57,47,70,69,45,46,46,7,79,70,68,57,7,46,68,47,68,68,68,57,69,68,45,47,58,57,7,46,68,45,70,68,69,46,69,57,45,57,69,69,36,47,46,70,45,69,68,68,69,68,69,68,36,45,69,68,68,57,45,69,69,{"$f":"IF($B19<>\"\",INDEX($B$3:$B$102,COUNT($B$3:$B$102)*RAND()+1),\"\")","v":58},58,58,46,68,69,36,46,68,58,68,69,70,58,57,57,69,68,47,68,70,68,46,69,79,46,57,47,45,69,79,70,57,69,68,36,68,7,70,47,47,69,57,46,68,46,58,57,79,7,68,70,68,46,57,68,47,57,57,47,57,68,45,45,57,69,46,57,68,46,57,68,36,68,69,57,57,57,45,68,69,58,47,68,69,57,69,36,68,57,45,58,46,79,68,68,46,79,36,68,57,47,58,68,79,79,70,69,79,69,70,7,45,68,68,70,69,69,57,68,46,68,46,47,68,46,79,68,{"$f":"IF($B19<>\"\",INDEX($B$3:$B$102,COUNT($B$3:$B$102)*RAND()+1),\"\")","v":7},68,68,68,7,57,36,46,36,46,45,69,70,36,36,79,68,57,68,47,69,46,47,36,36,46,69,46,47,46,36,70,7,79,57,7,46,68,57,47,45,70,70,70,57,46,36,46,7,36,79,46,68,58,45,79,68,57,46,45,46,69,58,46,79,45,69,69,47,58,45,68,57,79,46,68,57,70,68,36,58,69,46,79,45,46,68,68,69,68,36,58,7,47,46,45,69,68,46,58,47,47,70,68,68,46,46,57,45,46,7,57,46,46,69,57,47,47,36,79,70,69,68,70,46,68,68,68,{"$f":"IF($B19<>\"\",INDEX($B$3:$B$102,COUNT($B$3:$B$102)*RAND()+1),\"\")","v":57},46,46,57,69,7,79,68,70,36,68,57,57,68,36,57,57,58,45,57,70,47,7,47,57,79,7,45,69,46,69,68,36,68,36,57,57,45,46,68,68,70,57,68,46,57,7,7,58,46,68,46,58,57,7,79,57,57,68,46,69,57,45,47,68,45,45,69,68,58,70,69,69,70,70,69,7,46,46,57,45,68,57,7,46,69,47,7,46,58,57,57,57,47,57,79,70,46,79,70,46,46,57,69,57,36,47,70,68,57,46,7,70,57,57,45,57,70,47,57,68,45,68,58,57,7,7,46,{"$f":"IF($B19<>\"\",INDEX($B$3:$B$102,COUNT($B$3:$B$102)*RAND()+1),\"\")","v":69},57,58,69,58,57,47,69,7,45,68,70,46,46,79,70,68,69,46,45,47,46,57,69,46,57,57,7,58,79,46,58,68,58,68,45,36,57,57,57,46,47,58,45,45,68,47,57,79,57,69,68,68,68,58,57,57,79,57,69,79,58,68,68,45,57,58,57,57,47,68,46,58,57,70,68,36,57,58,36,69,46,46,68,68,45,58,36,47,68,69,46,68,79,68,58,69,68,46,68,79,57,68,46,68,47,68,69,58,57,7,46,68,47,47,45,58,46,57,68,46,36,45,57,69,57,46,45,{"$f":"IF($B19<>\"\",INDEX($B$3:$B$102,COUNT($B$3:$B$102)*RAND()+1),\"\")","v":7},57,57,79,47,57,68,7,79,47,79,68,69,79,45,57,45,46,46,45,68,79,45,57,69,70,57,69,69,57,79,46,69,69,70,36,70,69,68,36,57,58,57,57,68,46,58,70,36,57,57,57,57,46,68,68,46,46,46,46,47,58,69,79,69,45,69,79,47,68,57,68,70,46,57,69,68,68,69,57,36,46,57,57,47,70,47,68,36,36,57,36,45,68,58,47,68,58,68,68,68,79,46,68,68,57,57,68,7,69,7,70,58,70,68,57,7,68,57,45,79,46,69,68,69,36,46,58,{"$f":"IF($B19<>\"\",INDEX($B$3:$B$102,COUNT($B$3:$B$102)*RAND()+1),\"\")","v":68},46,45,46,7,46,46,68,47,7,47,57,68,68,36,70,45,46,69,68,7,69,57,57,57,7,47,68,69,57,68,79,68,36,45,46,79,69,47,46,68,46,46,46,46,70,46,58,68,69,58,46,36,57,70,58,36,36,68,58,45,58,69,57,68,47,68,46,57,69,36,45,68,46,69,58,70,68,68,68,79,47,46,57,70,45,68,70,69,69,36,47,68,70,68,79,47,69,57,58,68,57,69,47,36,58,57,57,58,57,47,69,68,57,46,46,47,58,69,69,68,36,68,57,46,57,57,47,{"$f":"IF($B19<>\"\",INDEX($B$3:$B$102,COUNT($B$3:$B$102)*RAND()+1),\"\")","v":68},57,58,79,70,45,79,68,7,57,79,68,57,45,46,79,68,45,46,68,58,57,45,69,69,36,69,47,68,57,57,47,46,36,58,68,36,69,46,46,69,58,45,68,36,58,68,79,45,68,69,57,79,36,47,36,68,70,68,69,46,46,36,46,46,36,69,36,45,46,68,7,47,47,69,46,57,57,36,68,46,7,68,57,7,57,46,68,69,46,46,68,7,7,57,58,46,57,46,79,69,69,46,57,45,69,68,69,47,7,57,68,68,36,68,70,7,46,57,36,70,57,70,57,69,68,36,69,{"$f":"IF($B19<>\"\",INDEX($B$3:$B$102,COUNT($B$3:$B$102)*RAND()+1),\"\")","v":68},68,57,70,46,70,46,68,79,68,70,57,36,69,57,57,46,46,46,57,57,68,7,69,68,45,57,68,47,68,36,46,70,36,69,68,46,68,7,47,47,46,69,68,79,46,70,79,68,57,69,58,58,47,70,7,68,57,70,7,79,68,68,68,46,58,69,57,70,69,69,69,68,69,68,46,70,45,57,57,47,68,58,68,68,57,69,57,45,36,46,46,57,68,45,58,79,68,58,70,45,46,45,36,69,46,58,7,57,70,69,57,70,69,57,36,79,45,68,68,57,57,79,47,46,69,45,36,{"$f":"IF($B19<>\"\",INDEX($B$3:$B$102,COUNT($B$3:$B$102)*RAND()+1),\"\")","v":70},47,68,68,79,47,68,36,70,46,69,58,68,45,45,68,57,7,68,7,36,46,36,47,68,45,68,69,68,57,57,36,57,69,68,46,69,70,46,58,79,7,69,69,69,7,7,36,57,57,7,68,7,70,36,68,69,58,46,46,68,57,68,69,36,57,69,7,46,68,47,57,46,68,46,57,69,47,46,69,69,69,7,79,79,58,58,70,57,45,7,57,68,57,46,69,68,57,70,68,68,68,68,58,57,68,47,68,68,36,57,57,57,36,57,36,57,57,68,79,68,79,68,46,36,47,69,45,{"$f":"IF($B19<>\"\",INDEX($B$3:$B$102,COUNT($B$3:$B$102)*RAND()+1),\"\")","v":68},57,70,46,70,46,57,7,68,7,68,36,7,45,68,46,57,7,7,58,7,69,69,36,68,68,58,68,68,68,57,69,69,57,68,69,79,46,46,68,69,47,46,70,57,36,58,45,69,69,68,79,70,57,68,68,36,69,57,57,46,57,45,57,68,68]
[22,null,null,null,null,null,"","","","","","","","","","","","","","","","","","","","","","","","","","","","","","","","","","","","","","","","","","","","","","","","","","","","","","","","","","","","","","","","","",{"$f":"IF($B24<>\"\",INDEX($B$3:$B$102,COUNT($B$3:$B$102)*RAND()+1),\"\")","v":""},"","","","","","","","","","","","","","","","","","","","","","","","","","","","","","","","","","","","","","","","","","","","","","","","","","","","","","","","","","","","","","","","","","","","","","","","","","","","","","","","","","","","","","","","","","","","","","","","","","","","","","","","","","","","","","","","","","","","","","","","","","","","","","","","","","","","","","","","","","","","","","","","","","","","","","","","","","","","","","","","","","","","","","","","","","","","","","","","","","","","","","","","","","","","","","","","","","","","","","","","","","","","","","","","","","","","","","","","","","","","","","","","","","","","","","","","","","","","","","","","","","","","","","","","","","","","","","","","","","","","","","","","","","","","","","","","","","","","","","","","","","","","","","","","","","","","","","","","","","","","","","","","","","","","","","","","","","","","","","","","","","","","","","","","","","",{"$f":"IF($B24<>\"\",INDEX($B$3:$B$102,COUNT($B$3:$B$102)*RAND()+1),\"\")","v":""},"","","","","","","","","","","","","","","","","","","","","","","","","","","","","","","","","","","","","","","","","","","","","","","","","","","","","","","","","","","","","","","","","","","","","","","","","","","","","","","","","","","","","","","","","","","","","","","","","","","","","","","","","","","","","","","","","","","","","","","","","","","","","","","","","","","","","","","","","","","","","","","","","","","","","","","","","","","","","","","","","","","","","","","","","","","","","","","","","","","","","","","","","","","","","","","","","","","","","","","","","","","","","","","","","","","","","","","","","","","","","","","","","","","","","","","","","","","","","","","","","","","","","","","","","","","","","","","","","","","","","","","","","","","","","","","","","","","","","","","","","","","","","","","","","","","","","","","","","","","","","","","","","","","","","","","","","","","","","","","","","","","","","","","","","","","","","","","","","","","","","","","","","","","","","","","","","","","","","","","","","","","","","","","","","","","","","","","","","","","","","","","","","","","","","","","","","","","","","","","","","","","","","","","","","","","","","","","","","","","","","","","","","","","","","","","","","","","","","","","","","","","","","","","","","","","","","","","","","","","","","","","","","","","","","","","","","","","","","","","","","","","","","","","","","","","","","","","","","","","","","","","","","","","","","","","","","","","","","","","","","","","","","","","","","","","","","","","","","","","","","","","","","","","","","","","","","","","","","","","","","","","","","","","","","","","","","","","","","","","","","","","","","","","","","","","","","","","","","","","","","","","","","","","","","","","","","","","","","","","","","","","","","","","","","","","","","","","","","","","","","","","","","","","","","","","","","","","","","","","","","","","","","","","","","","","","","","","","","","","","","","","","","","","","","","","","","","","","","","","","","","","","","","","","","","","","","","","","","","","","","","","","","","","","","","","","","","","","","","","","","","","","","","","","","","","","","","","","","","","","","","","",{"$f":"IF($B24<>\"\",INDEX($B$3:$B$102,COUNT($B$3:$B$102)*RAND()+1),\"\")","v":""},"","","","","","","","","","","","","","","","","","","","","","","","","","","","","","","","","","","","","","","","","","","","","","","","","","","","","","","","","","","","","","","","","","","","","","","","","","","","","","","","","","","","","","","","","","","","","","",{"$f":"IF($B24<>\"\",INDEX($B$3:$B$102,COUNT($B$3:$B$102)*RAND()+1),\"\")","v":""},"","","","","","","","","","","","","","","","","","","","","","","","","","","","","","","","","","","","","","","","","","","","","","","","","","","","","","","","","","","","","","","","","","","","","","","","","","",{"$f":"IF($B24<>\"\",INDEX($B$3:$B$102,COUNT($B$3:$B$102)*RAND()+1),\"\")","v":""},"","","","","","","","","","","","","","","","","","","","","","","","","","","","","","","","","","","","","","","","","","","","","","","","","","","","","","","","","","","","","","","","","","","","","","","","","","","","","","","","","","","","","","","","","","","","","","","","","","","","","","","","","","","","","","","","","","","","","","","","","","","","","","","","","","","","","","","","","","","","","","","","","","","","","","","","","","","","","","","","","","","","","","","","","","","","","","","","","","","","","","","","","","","","","","","","","","","","","","","","","","","","","","","","","","","","","","","","","","","","","","","","","","","","","","","","","","","","","","","","","","","","","","","","","","","","","","","","","","","","","","","","","","","","","","","","","","","","","","","","","","","","","","","","","","","","","","","","","","","","","","","","","","","","","","","","","","","","","","","","","","","","","","","","","","","","","","","","","","","","","","","","","","","","","","","","","","","","","","","","","","","","","","","","","","","","","","","","","","","","","","","","","","","","","","","","","","","","","","","","","","","","","","","","","","","","","","","","","","","","","","","","","","","","","","","","","","","","","","","","","","","","","","","","","","","","","","","","","","","","","","","","","","","","","","","","","","","","","","","","","","","","","","","","","","","","","","","","","","","","","","","","","","","","","","","","","","","","","","","","","","","","","","","","","","","","","","","","","","","","","","","","","","","","","","","","","","","","","","","","","","","","","","","","","","","","","","","","","","","","","","","","","","","","","","","","","","","","","","","","","","","","","","","","","","","","","","","","","","","","","","","","","","","","","","","","","","","","","","","","","","","","","","","","","","","","","","","","","","","","","","","","","","","","","","","","","","","","","","","","","","","","","","","","","","","","","","","","","","","","","","","","","","","","","","","","","","","","","","","","","","","","","","","","","","","","","","","","","","","","","","","","","","","","","","","","","","","","","","","","","","","","","","","","","","","","","","","","","","","","","","","","","","","","","","","","","","","","","","","","","","","","","","","","","","","","","","","","","","","","","","","","","","","","","","","","","","","","","","","","","","","","","","","","","","","","","","","","","","","","","","","","","","","","","","","","","","","","","","","","","","","","","","","","","","","","","","","","","","","","","","","","","","","","","","","","","","","","","","","","","","","","","","","","","","","","","","","","","","","","","","","","","","","","","","","","","","","","","","","","","","","","","","","","","","","","","","","","","","","","","","","","","","","","","","","","","","","","","","","","","","","","","","","","","","","","","","","","","","","","","","","","","","","","","","","","","","","","","","","","","","","","","","","","","","","","","","","","","","","","","","","","","","","","","","","","","","","","","","","","","","","","","","","","","","","","","","","","","","","","","","","","","","","","","","","","","","","","","","","","","","","","","","","","","","","","","","","","","","","","","","","","","","","","","","","","","","","","","","","","","","","","","","","","","","","","","","","","","","","","","","","","","","","","","","","","","","","","","","","","","","","","","","","","","","","","","","","","","","","","","","","","","","","","","","","","","","","","","","","","","","","","","","","","","","","","","","","","","","","","","","","","","","","","","","","","","","","","","","","","","","","","","","","","","","","","","","","","","","","","","","","","","","","","","","","","","","","","","","","","","","","","","","","","","","","","","","","","","","","","","","","","","","","","","","","","","","","","","","","","","","","","","","","","","","","","","","","","","","","","","","","","","","","","","","","","","","","","","","","","","","","","","","","","","","","","","","","","","","","","","","","","","","","","","","","","","","","","","","","","","","","","","","","","","","","","","","","","","","","","","","","","","","","","","","","","","","","","","","","","","","","","","","","","","","","","","","","","","","","","","","","","","","","","","","","","","","","","","","","","","","","","","","","","","","","","","","","","","","","","","","","","","","","","","","","","","","","","","","","","","","","","","","","","","","","","","","","","","","","","","","","","","","","","","","","","","","","","","","","","","","","","","","","","","","","","","","","","","","","","","","","","","","","","","","","","","","","","","","","","","","","","","","","","","","","","","","","","","","","","","","","","","","","","","","","","","","","","","","","","","","","","","","","","","","","","","","","","","","","","","","","","","","","","","","","","","","","","","","","","","","","","","","","","","","","","","","","","","","","","","","","","","","","","","","","","","","","","","","","","","","","","","","","","","","","","","","","","","","","","","","","","","","","","","","","","","","","","","","","","","","","","","","","","","","","","","","","","","","","","","","","","","","","","","","","","","","","","","","","","","","","","","","","","","","","","","","","","","","","","","","","","","","","","","","","","","","","","","","","","","","","","","","","","","","","","","","","","","","","","","","","","","","","","","","","","","","","","","","","","","","","","","","","","","","","","","","","","","","","","","","","","","","","","","","","","","","","","","","","","","","","","","","","","","","","","","","","","","","","","","","","","","","","","","","","","","","","","","","","","","","","","","","","","","","","","","","","","","","","","","","","","","","","","","","","","","","","","","","","","","","","","","","","","","","","","","","","","","","","","","","","","","","","","","","","","","","","","","","","","","","","","","","","","","","","","","","","","","","","","","","","","","","","","","","","","","","","","","","","","","","","","","","","","","","","","","","","","","","","","","","","","","","","","","","","","","","","","","","","","","","","","","","","","","","","","","","","","","","","","","","","","","","","","","","","","","","","","","","","","","","","","","","","","","","","","","","","","","","","","","","","","","","","","","","","","","","","","","","","","","","","","","","","","","","","","","","","","","","","","","","","","","","","","","","","","","","","","","","","","","","","","","","","","","","","","","","","","","","","","","","","","","","","","","","","","","","","","","","","","","","","","","","","","","","","","","","","","","","","","","","","","","","","","","","","","","","","","","","","","","","","","","","","","","","","","","","","","","","","","","","","","","","","","","","","","","","","","","","","","","","","","","","","","","","","","","","","","","","","","","","","","","","","","","","","","","","","","","","","","","","","","","","","","","","","","","","","","","","","","","","","","","","","","","","","","","","","","","","","","","","","","","","","","","","","","","","","","","","","","","","","","","","","","","","","","","","","","","","","","","","","","","","","","","","","","","","","","","","","","","","","","","","","","","","","","","","","","","","","","","","","","","","","","","","","","","","","","","","","","","","","","","","","","","","","","","","","","","","","","","","","","","","","","","","","","","","","","","","","","","","","","","","","","","","","","","","","","","","","","","","","","","","","","","","","","","","","","","","","","","","","","","","","","","","","","","","","","","","","","","","","","","","","","","","","","","","","","","","","","","","","","","","","","","","","","","","","","","","","","","","","","","","","","","","","","","","","","","","","","","","","","","","","","","","","","","","","","","","","","","","","","","","","","","","","","","","","","","","","","","","","","","","","","","","","","","","","","","","","","","","","","","","","","","","","","","","","","","","","","","","","","","","","","","","","","","","","","","","","","","","","","","","","","","","","","","","","","","","","","","","","","","","","","","","","","","","","","","","","","","","","","","","","","","","","","","","","","","","","","","","","","","","","","","","","","","","","","","","","","","","","","","","","","","","","","","","","","","","","","","","","","","","","","","","","","","","","","","","","","","","","","","","","","","","","","","","","","","","","","","","","","","","","","","","","","","","","","","","","","","","","","","","","","","","","","","","","","","","","","","","","","","","","","","","","","","","","","","","","","","","","","","","","","","","","","","","","","","","","","","","","","","","","","","","","","","","","","","","","","","","","","","","","","","","","","","","","","","","","","","","","","","","","","","","","","","","","","","","","","","","","","","","","","","","","","","","","","","","","","","","","","","","","","","","","","","","","","","","","","","","","","","","","","","","","","","","","","","","","","","","","","","","","","","","","","","","","","","","","","","","","","","","","","","","","","","","","","","","","","","","","","","","","","","","","","","","","","","","","","","","","","","","","","","","","","","","","","","","","","","","","","","","","","","","","","","","","","","","","","","","","","","","","","","","","","","","","","","","","","","","","","","","","","","","","","","","","","","","","","","","","","","","","","","","","","","","","","","","","","","","","","","","","","","","","","","","","","","","","","","","","","","","","","","","","","","","","","","","","","","","","","","","","","","","","","","","","","","","","","","","","","","","","","","","","","","","","","","","","","","","","","","","","","","","","","","","","","","","","","","","","","","","","","","","","","","","","","","","","","","","","","","","","","","","","","","","","","","","","","","","","","","","","","","","","","","","","","","","","","","","","","","","","","","","","","","","","","","","","","","","","","","","","","","","","","","","","","","","","","","","","","","","","","","","","","","","","","","","","","","","","","","","","","","","","","","","","","","","","","","","","","","","","","","","","","","","","","","","","","","","","","","","","","","","","","","","","","","","","","","","","","","","","","","","","","","","","","","","","","","","","","","","","","","","","","","","","","","","","","","","","","","","","","",""]
[37,null,null,null,null,null,"","","","","","","","","","","","","","","","","","","","","","","","","","","","","","","","","","","","","","","","","","","","","","","","","","","","","","","","","","","","","","","","","","","","","","","","","","","","","","","","","","","","","","","","","","","","","","","","","","","","","","","","","","","","","","","","","","","","","","","","","","","","","","","","","",{"$f":"IF($B39<>\"\",INDEX($B$3:$B$102,COUNT($B$3:$B$102)*RAND()+1),\"\")","v":""},"","","","","","","","","","","","","","","","","","","","","","","","","","","","","","","","","","","","","","","","","","","","","","","","","","","","","","","","","","","","","","","","","","","","","","","","","","","","","","","","","","","","","","","","","","","","","","","","","","","","","","","","","","","","","","","","","","","","","","","","","","","","","","","","","","","","","","","","","","","","","","","","","","","","","","","","","","","","","","","","","","","","","","","","","","","","","","","","","","","","","","","","","","","","","","","","","","","","","","","","","","","","","","","","","","","","","","","","","","","","","","","","","","","","","","","","","","","","","","","","","","","","","","","","","","","","","","","","","","","","","","","","","","","","","","","","","","","","","","","","","","","","","","","","","","","","","","","","","","","","","","","","","","","","","","","","","","","","","","","","","","","","",{"$f":"IF($B39<>\"\",INDEX($B$3:$B$102,COUNT($B$3:$B$102)*RAND()+1),\"\")","v":""},"","","","","","","","","","","","","","","","","","","","","","","","","","","","","","","","","","","","","","","","","","","","","","","","","","","","","","","","","","","","","","","","","","","","","","","","","","","","","","","","","","","","","","","","","","","","","","","","","","","","","","","","","","","","","","","","","","","","","","","","","","","","","","","","","","","","","","","","","","","","","","","","","","","","","","","","","","","","","","","","","","","","","","","","","","","","","","","","","","","","","","","","","","","","","","","","","","","","","","","","","","","","","","","","","","","","","","","","","","","","","","","","","","","","","","","","","","","","","","","","","","","","","","","","","","","","","","","","","","","","","","","","","","","","","","","","","","","",{"$f":"IF($B39<>\"\",INDEX($B$3:$B$102,COUNT($B$3:$B$102)*RAND()+1),\"\")","v":""},"","","","","","","","","","","","","","","","","","","","","","","","","","","","","","","","","","","","","","","","","","","","","","","","","","","","","","","","","","","","","","","","","","","","","","","","","","","","","","","","","","","","","","","","","","","","","","","","","","","","","","","","","","","","","","","","","","","","","","","","","","","","","","","","","","","","","","","","","","","","","","","","","","","","","","","","","","","","","","","","","","","","","","","","","","","","","","","","","","","","","","","","","","","","","","","","","","","","","","","","","","","","","","","","","","","","","","","","","","","","","","","","","","","","","","","","","","","","","","","","","","","","",{"$f":"IF($B39<>\"\",INDEX($B$3:$B$102,COUNT($B$3:$B$102)*RAND()+1),\"\")","v":""},"","","","","","","","","","","","","","","","","","","","","","","","","","","","","","","","","","","","","","","","","","","","","","","","","","","","","","","","","","","","","","","","","","","","","","","","","","","","","","","","","","","","","","","","","","","","","","","","","","","","","","","","","","","","","","","","","","","","","","","","","","","","","","","","","","","","","","","","","","","","","","","","","","","","","","","","","","",{"$f":"IF($B39<>\"\",INDEX($B$3:$B$102,COUNT($B$3:$B$102)*RAND()+1),\"\")","v":""},"","","","","","","","","","","","","","","","","","","","","","","","","","","","","","","","","","","","","","","","","","","","","","","","","","","","","","","","","","","","","","","","","","","","","","","","","","","","","","","","","","","","","","","","","","","","","","","","","","","","","","","","","","","","","","","","","","","","","","","","","","","","","","","","","","","","","","","","","","","","","","","","","","","","","","","","","","","","","","","","","","","","","","","","","","","","","","","","","","","","","","","","","","","","","","","","","","","","","","","","","","","","","","","","","","","","","","","","","","","","","","","","","","","","","","","","","","","","","","","","","","","","","","","","","","","","","","","","","","","","","","","","","","","","","","","","","","","","","","","","","","","","","","","","","","","","","","","","","","","","","","","","","","","","","","","","","","","","","","","","","","","","","","",{"$f":"IF($B39<>\"\",INDEX($B$3:$B$102,COUNT($B$3:$B$102)*RAND()+1),\"\")","v":""},"","","","","","","","","","","","","","","","","","","","","","","","","","","","","","","","","","","","","","","","","","","","","","","","","","","","","","","","","","","","","","","","","","","","","","","","","","","","","","","","","","","","","","","","","","","","","","","","","","","","","","","","","","","","","","","","","","","","","","","","","","","","","","","","","","","","","","","","","","","","","","","","","","","","","","","","","","","","","","","","","","","","","","","","","","","","","","","","","","","","","","","","","","","","","","","","","","","","","","","","","","","","","","","","","","","","",{"$f":"IF($B39<>\"\",INDEX($B$3:$B$102,COUNT($B$3:$B$102)*RAND()+1),\"\")","v":""},"","","","","","","","","","","","","","","","","","","","","","","","","","","","","","","","","","","","","","","","","","","","","","","","","","","","","","","","","","","","","","","","","","","","","","","","","","","","","","","","","","","","","","","","","","","","","","","","","","","","","","","","","","","","","","","","","","","","","","","","","","","","","","","","","","","","","","","","","","","","","","","","","","","","","","","","","","","","","","","","","","","","","","","","","","","","","","","","","","","","","","","","","","","","","","","","","","","","","","","","","","","","","","","","","","","","","","","","","","","","","","","","","","","","","","","","","","","","","","",{"$f":"IF($B39<>\"\",INDEX($B$3:$B$102,COUNT($B$3:$B$102)*RAND()+1),\"\")","v":""},"","","","","","","","","","","","","","","","","","","","","","","","","","","","","","","","","","","","","","","","","","","","","","","","","","","","","","","","","","","","","","","","","","","","","","","","","","","","","","","","","","","","","","","","","","","","","","","","","","","","","","","","","","","","","","","","","","","","","","","","","","","","","","","",{"$f":"IF($B39<>\"\",INDEX($B$3:$B$102,COUNT($B$3:$B$102)*RAND()+1),\"\")","v":""},"","","","","","","","","","","","","","","","","","","","","","","","","","","","","","","","","","","","","","","","","","","","","","","","","","","","","","","","","","","","","","","","","","","","","","","","","","","","","","","","","","","","","","","","","","","","","","","","","","","","","","","","","","","","","","","","","","","","","","","","","","","","","","","",{"$f":"IF($B39<>\"\",INDEX($B$3:$B$102,COUNT($B$3:$B$102)*RAND()+1),\"\")","v":""},"","","","","","","","","","","","","","","","","","","","","","","","","","","","","","","","","","","","","","","","","","","","","","","","","","","","","","","","","","","","","","","","","","","","","","","","","","","","","","","","","","","","","","","","","","","","","","","","","","","","","","","","","","","","","","","","","","","","","","","","","","","","","","","",{"$f":"IF($B39<>\"\",INDEX($B$3:$B$102,COUNT($B$3:$B$102)*RAND()+1),\"\")","v":""},"","","","","","","","","","","","","","","","","","","","","","","","","","","","","","","","","","","","","","","","","","","","","","","","","","","","","","","","","","","","","","","","","","","","","","","","","","","","","","","","","","","","","","","","","","","","","","","","","","","","","","","","","","","","","","","","","","","","","","","","","","","","","","","",{"$f":"IF($B39<>\"\",INDEX($B$3:$B$102,COUNT($B$3:$B$102)*RAND()+1),\"\")","v":""},"","","","","","","","","","","","","","","","","","","","","","","","","","","","","","","","","","","","","","","","","","","","","","","","","","","","","","","","","","","","","","","","","","","","","","","","","","","","","","","","","","","","","","","","","","","","","","","","","","","","","","","","","","","","","","","","","","","","","","","","","","","","","","","",{"$f":"IF($B39<>\"\",INDEX($B$3:$B$102,COUNT($B$3:$B$102)*RAND()+1),\"\")","v":""},"","","","","","","","","","","","","","","","","","","","","","","","","","","","","","","","","","","","","","","","","","","","","","","","","","","","","","","","","","","","","","","","","","","","","","","","","","","","","","","","","","","","","","","","","","","","","","","","","","","","","","","","","","","","","","","","","","","","","","","","","","","","","","","",{"$f":"IF($B39<>\"\",INDEX($B$3:$B$102,COUNT($B$3:$B$102)*RAND()+1),\"\")","v":""},"","","","","","","","","","","","","","","","","","","","","","","","","","","","","","","","","","","","","","","","","","","","","","","","","","","","","","","","","","","","","","","","","","","","","","","","","","","","","","","","","","","","","","","","","","","","","","","","","","","","","","","","","","","","","","","","","","","","","","","","","","","","","","","",{"$f":"IF($B39<>\"\",INDEX($B$3:$B$102,COUNT($B$3:$B$102)*RAND()+1),\"\")","v":""},"","","","","","","","","","","","","","","","","","","","","","","","","","","","","","","","","","","","","","","","","","","","","","","","","","","","","","","","","","","","","","","","","","","","","","","","","","","","","","","","","","","","","","","","","","","","","","","","","","","","","","","","","","","","","","","","","","","","","","","","","","","","","","","",{"$f":"IF($B39<>\"\",INDEX($B$3:$B$102,COUNT($B$3:$B$102)*RAND()+1),\"\")","v":""},"","","","","","","","","","","","","","","","","","","","","","","","","","","","","","","","","","","","","","","","","","","","","","","","","","","","","","","","","","","","","","","","","","","","","","","","","","","","","","","","","","","","","","","","","","","","","","","","","","","","","","","","","","","","","","","","","","","","","","","","","","","","","","","",{"$f":"IF($B39<>\"\",INDEX($B$3:$B$102,COUNT($B$3:$B$102)*RAND()+1),\"\")","v":""},"","","","","","","","","","","","","","","","","","","","","","","","","","","","","","","","","","","","","","","","","","","","","","","","","","","","","","","","","","","","","","","","","","","","","","","","","","","","","","","","","","","","","","","","","","","","","","","","","","","","","","","","","","","","","","","","","","","","","","","","","","","","","","","",{"$f":"IF($B39<>\"\",INDEX($B$3:$B$102,COUNT($B$3:$B$102)*RAND()+1),\"\")","v":""},"","","","","","","","","","","","","","","","","","","","","","","","","","","","","","","","","","","","","","","","","","","","","","","","","","","","","","","","","","","","","","","","","","","","","","","","","","","","","","","","","","","","","","","","","","","","","","","","","","","","","","","","","","","","","","","","","","","","","","","","","","","","","","","",{"$f":"IF($B39<>\"\",INDEX($B$3:$B$102,COUNT($B$3:$B$102)*RAND()+1),\"\")","v":""},"","","","","","","","","","","","","","","","","","","","","","","","","","","","","","","","","","","","","","","","","","","","","","","","","","","","","","","","","","","","","","","","","","","","","","","","","","","","","","","","","","","","","","","","","","","","","","","","","","","","","","","","","","","","","","","","","","","","","","","","","","","","","","","",{"$f":"IF($B39<>\"\",INDEX($B$3:$B$102,COUNT($B$3:$B$102)*RAND()+1),\"\")","v":""},"","","","","","","","","","","","","","","","","","","","","","","","","","","","","","","","","","","","","","","","","","","","","","","","","","","","","","","","","","","","","","","","","","","","","","","","","","","","","","","","","","","","","","","","","","","","","","","","","","","","","","","","","","","","","","","","","","","","","","","","","","","","","","","",{"$f":"IF($B39<>\"\",INDEX($B$3:$B$102,COUNT($B$3:$B$102)*RAND()+1),\"\")","v":""},"","","","","","","","","","","","","","","","","","","","","","","","","","","","","","","","","","","","","","","","","","","","","","","","","","","","","","","","","","","","","","","","","","","","","","","","","","","","","","","","","","","","","","","","","","","","","","","","","","","","","","","","","","","","","","","","","","","","","","","","","","","","","","","",{"$f":"IF($B39<>\"\",INDEX($B$3:$B$102,COUNT($B$3:$B$102)*RAND()+1),\"\")","v":""},"","","","","","","","","","","","","","","","","","","","","","","","","","","","","","","","","","","","","","","","","","","","","","","","","","","","","","","","","","","","","","","","","","","","","","","","","","","","","","","","","","","","","","","","","","","","","","","","","","","","","","","","","","","","","","","","","","","","","","","","","","","","","","","",{"$f":"IF($B39<>\"\",INDEX($B$3:$B$102,COUNT($B$3:$B$102)*RAND()+1),\"\")","v":""},"","","","","","","","","","","","","","","","","","","","","","","","","","","","","","","","","","","","","","","","","","","","","","","","","","","","","","","","","","","","","","","","","","","","","","","","","","","","","","","","","","","","","","","","","","","","","","","","","","","","","","","","","","","","","","","","","","","","","","","","","","","","","","","",{"$f":"IF($B39<>\"\",INDEX($B$3:$B$102,COUNT($B$3:$B$102)*RAND()+1),\"\")","v":""},"","","","","","","","","","","","","","","","","","","","","","","","","","","","","","","","","","","","","","","","","","","","","","","","","","","","","","","","","","","","","","","","","","","","","","","","","","","","","","","","","","","","","","","","","","","","","","","","","","","","","","","","","","","","","","","","","","","","","","","","","","","","","","","",{"$f":"IF($B39<>\"\",INDEX($B$3:$B$102,COUNT($B$3:$B$102)*RAND()+1),\"\")","v":""},"","","","","","","","","","","","","","","","","","","","","","","","","","","","","","","","","","","","","","","","","","","","","","","","","","","","","","","","","","","","","","","","","","","","","","","","","","","","","","","","","","","","","","","","","","","","","","","","","","","","","","","","","","","","","","","","","","","","","","","","","","","","","","","",{"$f":"IF($B39<>\"\",INDEX($B$3:$B$102,COUNT($B$3:$B$102)*RAND()+1),\"\")","v":""},"","","","","","","","","","","","","","","","","","","","","","","","","","","","","","","","","","","","","","","","","","","","","","","","","","","","","","","","","","","","","","","","","","","","","","","","","","","","","","","","","","","","","","","","","","","","","","","","","","","","","","","","","","","","","","","","","","","","","","","","","","","","","","","",{"$f":"IF($B39<>\"\",INDEX($B$3:$B$102,COUNT($B$3:$B$102)*RAND()+1),\"\")","v":""},"","","","","","","","","","","","","","","","","","","","","","","","","","","","","","","","","","","","","","","","","","","","","","","","","","","","","","","","","","","","","","","","","","","","","","","","","","","","","","","","","","","","","","","","","","","","","","","","","","","","","","","","","","","","","","","","","","","","","","","","","","","","","","","",{"$f":"IF($B39<>\"\",INDEX($B$3:$B$102,COUNT($B$3:$B$102)*RAND()+1),\"\")","v":""},"","","","","","","","","","","","","","","","","","","","","","","","","","","","","","","","","","","","","","","","","","","","","","","","","","","","","","","","","","","","","","","","","","","","","","","","","","","","","","","","","","","","","","","","","","","","","","","","","","","","","","","","","","","","","","","","","","","","","","","","","","","","","","","",{"$f":"IF($B39<>\"\",INDEX($B$3:$B$102,COUNT($B$3:$B$102)*RAND()+1),\"\")","v":""},"","","","","","","","","","","","","","","","","","","","","","","","","","","","","","","","","","","","","","","","","","","","","","","","","","","","","","","","","","","","","","","","","","","","","","","","","","","","","","","","","","","","","","","","","","","","","","","","","","","","","","","","","","","","","","","","","","","","","","","","","","","","","","","",{"$f":"IF($B39<>\"\",INDEX($B$3:$B$102,COUNT($B$3:$B$102)*RAND()+1),\"\")","v":""},"","","","","","","","","","","","","","","","","","","","","","","","","","","","","","","","","","","","","","","","","","","","","","","","","","","","","","","","","","","","","","","","","","","","","","","","","","","","","","","","","","","","","","","","","","","","","","","","","","","","","","","","","","","","","","","","","","","","","","","","","","","","","","","",{"$f":"IF($B39<>\"\",INDEX($B$3:$B$102,COUNT($B$3:$B$102)*RAND()+1),\"\")","v":""},"","","","","","","","","","","","","","","","","","","","","","","","","","","","","","","","","","","","","","","","","","","","","","","","","","","","","","","","","","","","","","","","","","","","","","","","","","","","","","","","","","","","","","","","","","","","","","","","","","","","","","","","","","","","","","","","","","","","","","","","","","","","","","","",{"$f":"IF($B39<>\"\",INDEX($B$3:$B$102,COUNT($B$3:$B$102)*RAND()+1),\"\")","v":""},"","","","","","","","","","","","","","","","","",""]
[56,null,null,null,null,null,"","","","","","","","","","","","","","","","","","","","","","","","","","","","","","","","","","","","","","","","","","","","","","","","","","","","","","","","","","","","","","","","","","","","","","","","","","","","","","","","","","","","","","","","","","","","","","","","","","","","","","","","","","","","","","","","","","","","","","","","","","","","","","","","","","","","","","","","","","","","","","","","","","","","","","","","","","","","","","","","","","","","","","","","","","","","","","","","","","","","","","","","","","","","","","","","",{"$f":"IF($B58<>\"\",INDEX($B$3:$B$102,COUNT($B$3:$B$102)*RAND()+1),\"\")","v":""},"","","","","","","","","","","","","","","","","","","","","","","","","","","","","","","","","","","","","","","","","","","","","","","","","","","","","","","","","","","","","","","","","","","","","","","","","","","","","","","","","","","","","","","","","","","","","","","","","","","","","","","","","","","","","","","","","","","","","","","","","","","","","","","","","","","","","","","","","","","","","","","","","","","","","","","","","","","","","","","","","","","","","","","","","","","","","","","","","","","","","","","","","","","","","","","","","","","","","","","","","","","","","","","","","","","","","","","","","","","","","","","","","","","","","","","","","","","","","","","","","","","","","","","","","","","","","",{"$f":"IF($B58<>\"\",INDEX($B$3:$B$102,COUNT($B$3:$B$102)*RAND()+1),\"\")","v":""},"","","","","","","","","","","","","","","","","","","","","","","","","","","","","","","","","","","","","","","","","","","","","","","","","","","","","","","","","","","","","","","","","","","","","","","","","","","","","","","","","","","","","","","","","","","","","","","","","","","","","","","","","","","","","","","","","","","","","","","","","","","","","","","","","","","","","","","","","",{"$f":"IF($B58<>\"\",INDEX($B$3:$B$102,COUNT($B$3:$B$102)*RAND()+1),\"\")","v":""},"","","","","","","","","","","","","","","","","","","","","","","","","","","","","","","","","","","","","","","","","","","","","","","","","","","","","","","","","","","","","","","","","","","","","","","","","","","","","","","","","","","","","","","","","","","","","","","","","","","","","","","","","","","","","","","","","","","","","","","","","","","","","","","","","","","","","","","","","","","","","","","","","","","","","","","","","","","","","","","","","","","","","","","","","","","","","","","","","","","","","","","","","","","","","","","","","","","","","","","","","","","","","","","","","","","","","","","","","","","","","","","","","","","","","","","","","","","","","","","","","","","","","","","","","","","","","","","","","","","","","","","","","","","","","","","","","","","","","","","","","","","","","","","","","","","","","","","","","","","","","","","","","","","","","","","","","","","","","","","","","","","","","","","","","","","","","","","","","","","","","","","","","","","","","","","","","","","","","","","","","","","","","","","","","","","","","","","","","","","","","","","","","","","","","","","","","","","","","","","","","","","","","","","","","","","","","","","","","","","","","","","","","","","","","","","","","","","","","","","","","","","","","","","","","","","","","","","","","","","","","","","","","","","","","","","","","","","","","","","","","","","","","","","","","","","","","","","","","","","","","","","","","","","","","","","","","","","","","","","","","","","","","","","","","","","","","","","","","","","","","","","","","","","","","","","","","","","","","","","","","","","","","","","","","","","","","","","","","","","","","","","","","","","","","","","","","","","","","","","","","","","","","",{"$f":"IF($B58<>\"\",INDEX($B$3:$B$102,COUNT($B$3:$B$102)*RAND()+1),\"\")","v":""},"","","","","","","","","","","","","","","","","","","","","","","","","","","","","","","","","","","","","","","","","","","","","","","","","","","","","","","","","","","","","","","","","","",{"$f":"IF($B58<>\"\",INDEX($B$3:$B$102,COUNT($B$3:$B$102)*RAND()+1),\"\")","v":""},"","","","","","","","","","","","","","","","","","","","","","","","","","","","","","","","","","","","","","","","","","","","","","","","","","","","","","","","","","","","","","","","","","","","","","","","","","","","","","","","","","","","","","","","","","","","","","","","","","","","","","","","","","","","","","","","","","","","","","","","","","","","","","","","","","","","","","","","","","","","","","","","","","","","","","","","","","","","","","","","","","","","","","","","","","","","","","","","","","","","","","","","","","","","","","","","","","","","","","","","","","","","","","","","","","","","","","","","","","","","","","","","","","","","","","","","","","","","","","","","","","","","","","","","","","","","","","","","","","","","","","","","","","","","","","","","","","","","","","","","","","","","","","","","","","","","","","","","","","","","","","","","","","","","","","","","","","","","",{"$f":"IF($B58<>\"\",INDEX($B$3:$B$102,COUNT($B$3:$B$102)*RAND()+1),\"\")","v":""},"","","","","","","","","","","","","","","","","","","","","","","","","","","","","","","","","","","","","","","","","","","","","","","","","","","","","","","","","","","","","","","","","","","","","","","","","","","","","","","","","","","","","","","","","","","","","","","","","","","","","","","","","","","","","","","","","","","","","","","","","","","","","","","","","","","","","","","","","","","","","","","","","","","","","","","","","","","","","","","","","","","","","","","","","","","","","","","","","","","","","","","","","","","","","","","","","","","","","","","","","","","","","","","","","","","","","","","","","","","","","","","","","","","","","","","","","","","","","","","","","","","","","","","","","","","","","","","","","","","","","","","",{"$f":"IF($B58<>\"\",INDEX($B$3:$B$102,COUNT($B$3:$B$102)*RAND()+1),\"\")","v":""},"","","","","","","","","","","","","","","","","","","","","","","","","","","","","","","","","","","","","","","","","","","","","","","","","","","","","","","","","","","","","","","","","","","","","","","","","","","","","","","","","","","","","","","","","","","","","","","","","","","","","","","","","","","","","","","","","","","","","","","","","","","","","","","","","","","","","","","","","","","","","","","","","","","","","","","","","","","","","","","","","","","","","","","","","","","","","","","","","","","","","","","","","","","","","","","","","","","","","","","","","","","","","","","","","","","","","","","","","","","","","","","","","","","","","","","","","","","","","","","","","","","","","","","","","","","","","","","","","","","","","","","","","","","","","","","","","","","","","","","","","","","","","","","","","","","","","","","","","","","","","","","","","","","","","","","","","","","","","","","","","","","","","","","","","","","","","","","","","","","",{"$f":"IF($B58<>\"\",INDEX($B$3:$B$102,COUNT($B$3:$B$102)*RAND()+1),\"\")","v":""},"","","","","","","","","","","","","","","","","","","","","","","","","","","","","","","","","","","","","","","","","","","","","","","","","","","","","","","","","","","","","","","","","","","","","","","","","","","","","","","","","","","","","","","","","","","","","","","","","","","","","","","","","","","","","","","","","","","","","","","","","","","","","","","","","","","","","","","","","","","","","","","","","","","","","","","","","","","","","","","","","","","","","","","","","","","","","","","","","","","","","","","","","","","","","","","","","","","","","","","","","","","","","","","","","",{"$f":"IF($B58<>\"\",INDEX($B$3:$B$102,COUNT($B$3:$B$102)*RAND()+1),\"\")","v":""},"","","","","","","","","","","","","","","","","","","","","","","","","","","","","","","","","","","","","","","","","","","","","","","","","","","","","","","","","","","","","","","","","","","","","","","","","","","","","","","","","","","","","","","","","","","","","","","","","","","","","","","","","","","","","","","","","","","","","","","","","","","","","","","",{"$f":"IF($B58<>\"\",INDEX($B$3:$B$102,COUNT($B$3:$B$102)*RAND()+1),\"\")","v":""},"","","","","","","","","","","","","","","","","","","","","","","","","","","","","","","","","","","","","","","","","","","","","","","","","","","","","","","","","","","","","","","","","","","","","","","","","","","","","","","","","","","","","","","","","","","","","","","","","","","","","","","","","","","","","","","","","","","","","","","","","","","","","","","",{"$f":"IF($B58<>\"\",INDEX($B$3:$B$102,COUNT($B$3:$B$102)*RAND()+1),\"\")","v":""},"","","","","","","","","","","","","","","","","","","","","","","","","","","","","","","","","","","","","","","","","","","","","","","","","","","","","","","","","","","","","","","","","","","","","","","","","","","","","","","","","","","","","","","","","","","","","","","","","","","","","","","","","","","","","","","","","","","","","","","","","","","","","","","",{"$f":"IF($B58<>\"\",INDEX($B$3:$B$102,COUNT($B$3:$B$102)*RAND()+1),\"\")","v":""},"","","","","","","","","","","","","","","","","","","","","","","","","","","","","","","","","","","","","","","","","","","","","","","","","","","","","","","","","","","","","","","","","","","","","","","","","","","","","","","","","","","","","","","","","","","","","","","","","","","","","","","","","","","","","","","","","","","","","","","","","","","","","","","",{"$f":"IF($B58<>\"\",INDEX($B$3:$B$102,COUNT($B$3:$B$102)*RAND()+1),\"\")","v":""},"","","","","","","","","","","","","","","","","","","","","","","","","","","","","","","","","","","","","","","","","","","","","","","","","","","","","","","","","","","","","","","","","","","","","","","","","","","","","","","","","","","","","","","","","","","","","","","","","","","","","","","","","","","","","","","","","","","","","","","","","","","","","","","",{"$f":"IF($B58<>\"\",INDEX($B$3:$B$102,COUNT($B$3:$B$102)*RAND()+1),\"\")","v":""},"","","","","","","","","","","","","","","","","","","","","","","","","","","","","","","","","","","","","","","","","","","","","","","","","","","","","","","","","","","","","","","","","","","","","","","","","","","","","","","","","","","","","","","","","","","","","","","","","","","","","","","","","","","","","","","","","","","","","","","","","","","","","","","",{"$f":"IF($B58<>\"\",INDEX($B$3:$B$102,COUNT($B$3:$B$102)*RAND()+1),\"\")","v":""},"","","","","","","","","","","","","","","","","","","","","","","","","","","","","","","","","","","","","","","","","","","","","","","","","","","","","","","","","","","","","","","","","","","","","","","","","","","","","","","","","","","","","","","","","","","","","","","","","","","","","","","","","","","","","","","","","","","","","","","","","","","","","","","",{"$f":"IF($B58<>\"\",INDEX($B$3:$B$102,COUNT($B$3:$B$102)*RAND()+1),\"\")","v":""},"","","","","","","","","","","","","","","","","","","","","","","","","","","","","","","","","","","","","","","","","","","","","","","","","","","","","","","","","","","","","","","","","","","","","","","","","","","","","","","","","","","","","","","","","","","","","","","","","","","","","","","","","","","","","","","","","","","","","","","","","","","","","","","",{"$f":"IF($B58<>\"\",INDEX($B$3:$B$102,COUNT($B$3:$B$102)*RAND()+1),\"\")","v":""},"","","","","","","","","","","","","","","","","","","","","","","","","","","","","","","","","","","","","","","","","","","","","","","","","","","","","","","","","","","","","","","","","","","","","","","","","","","","","","","","","","","","","","","","","","","","","","","","","","","","","","","","","","","","","","","","","","","","","","","","","","","","","","","",{"$f":"IF($B58<>\"\",INDEX($B$3:$B$102,COUNT($B$3:$B$102)*RAND()+1),\"\")","v":""},"","","","","","","","","","","","","","","","","","","","","","","","","","","","","","","","","","","","","","","","","","","","","","","","","","","","","","","","","","","","","","","","","","","","","","","","","","","","","","","","","","","","","","","","","","","","","","","","","","","","","","","","","","","","","","","","","","","","","","","","","","","","","","","",{"$f":"IF($B58<>\"\",INDEX($B$3:$B$102,COUNT($B$3:$B$102)*RAND()+1),\"\")","v":""},"","","","","","","","","","","","","","","","","","","","","","","","","","","","","","","","","","","","","","","","","","","","","","","","","","","","","","","","","","","","","","","","","","","","","","","","","","","","","","","","","","","","","","","","","","","","","","","","","","","","","","","","","","","","","","","","","","","","","","","","","","","","","","","",{"$f":"IF($B58<>\"\",INDEX($B$3:$B$102,COUNT($B$3:$B$102)*RAND()+1),\"\")","v":""},"","","","","","","","","","","","","","","","","","","","","","","","","","","","","","","","","","","","","","","","","","","","","","","","","","","","","","","","","","","","","","","","","","","","","","","","","","","","","","","","","","","","","","","","","","","","","","","","","","","","","","","","","","","","","","","","","","","","","","","","","","","","","","","",{"$f":"IF($B58<>\"\",INDEX($B$3:$B$102,COUNT($B$3:$B$102)*RAND()+1),\"\")","v":""},"","","","","","","","","","","","","","","","","","","","","","","","","","","","","","","","","","","","","","","","","","","","","","","","","","","","","","","","","","","","","","","","","","","","","","","","","","","","","","","","","","","","","","","","","","","","","","","","","","","","","","","","","","","","","","","","","","","","","","","","","","","","","","","",{"$f":"IF($B58<>\"\",INDEX($B$3:$B$102,COUNT($B$3:$B$102)*RAND()+1),\"\")","v":""},"","","","","","","","","","","","","","","","","","","","","","","","","","","","","","","","","","","","","","","","","","","","","","","","","","","","","","","","","","","","","","","","","","","","","","","","","","","","","","","","","","","","","","","","","","","","","","","","","","","","","","","","","","","","","","","","","","","","","","","","","","","","","","","",{"$f":"IF($B58<>\"\",INDEX($B$3:$B$102,COUNT($B$3:$B$102)*RAND()+1),\"\")","v":""},"","","","","","","","","","","","","","","","","","","","","","","","","","","","","","","","","","","","","","","","","","","","","","","","","","","","","","","","","","","","","","","","","","","","","","","","","","","","","","","","","","","","","","","","","","","","","","","","","","","","","","","","","","","","","","","","","","","","","","","","","","","","","","","",{"$f":"IF($B58<>\"\",INDEX($B$3:$B$102,COUNT($B$3:$B$102)*RAND()+1),\"\")","v":""},"","","","","","","","","","","","","","","","","","","","","","","","","","","","","","","","","","","","","","","","","","","","","","","","","","","","","","","","","","","","","","","","","","","","","","","","","","","","","","","","","","","","","","","","","","","","","","","","","","","","","","","","","","","","","","","","","","","","","","","","","","","","","","","",{"$f":"IF($B58<>\"\",INDEX($B$3:$B$102,COUNT($B$3:$B$102)*RAND()+1),\"\")","v":""},"","","","","","","","","","","","","","","","","","","","","","","","","","","","","","","","","","","","","","","","","","","","","","","","","","","","","","","","","","","","","","","","","","","","","","","","","","","","","","","","","","","","","","","","","","","","","","","","","","","","","","","","","","","","","","","","","","","","","","","","","","","","","","","",{"$f":"IF($B58<>\"\",INDEX($B$3:$B$102,COUNT($B$3:$B$102)*RAND()+1),\"\")","v":""},"","","","","","","","","","","","","","","","","","","","","","","","","","","","","","","","","","","","","","","","","","","","","","","","","","","","","","","","","","","","","","","","","","","","","","","","","","","","","","","","","","","","","","","","","","","","","","","","","","","","","","","","","","","","","","","","","","","","","","","","","","","","","","","",{"$f":"IF($B58<>\"\",INDEX($B$3:$B$102,COUNT($B$3:$B$102)*RAND()+1),\"\")","v":""},"","","","","","","","","","","","","","","","","","","","","","","","","","","","","","","","","","","","","","","","","","","","","","","","","","","","","","","","","","","","","","","","","","","","","","","","","","","","","","","","","","","","","","","","","","","","","","","","","","","","","","","","","","","","","","","","","","","","","","","","","","","","","","","",{"$f":"IF($B58<>\"\",INDEX($B$3:$B$102,COUNT($B$3:$B$102)*RAND()+1),\"\")","v":""},"","","","","","","","","","","","","","","","","","","","","","","","","","","","","","","","","","","","","","","","","","","","","","","","","","","","","","","","","","","","","","","","","","","","","","","","","","","","","","","","","","","","","","","","","","","","","","","","","","","","","","","","","","","","","","","","","","","","","","","","","","","","","","","","","","","","","","","","","","","","","","","","","","","","","","","","","","","","","","","","","","","","","","","","","","","","","","","","","","",""]
[71,null,null,null,null,null,"","",{"$f":"IF($B73<>\"\",INDEX($B$3:$B$102,COUNT($B$3:$B$102)*RAND()+1),\"\")","v":""},"","","","","","","","","","","","","","","","","","","","","","","","","","","","","","","","","","","","","","","","","","","","","","","","","","","","","","","","","","","","","","","","","","","","","","","","","","","","","","","","","","","","","","","","","","","","","","","","","","","","","","","","","","","","","","","","","","","","","","","","","","","","","","","","","","","","","","","","","","","","","","","","","","","","","","","","","","","","","","","","","","","","","","","","","","","","","","","","","","","","","","","","","","","","","","","","","","","","","","","","","","","","","","","","","","","","","","","","","","","","","","","","","","","","","","","","","","","","","","","","","","","","","","","","","","","","","","","","","","","","","","","","",{"$f":"IF($B73<>\"\",INDEX($B$3:$B$102,COUNT($B$3:$B$102)*RAND()+1),\"\")","v":""},"","","","","","","","","","","","","","","","","","","","","","","","","","","","","","","","","","","","","","","","","","","","","","","","","","","","","","","","","","","","","","","","","","","","","","","","","","","","","","","","","","","","","","","","","","","","","","","","","","","","","","","","","","","","","","","","","","","","","","","","","","","","","","","","","","","","","","","","","","","","","","","","","","","","","","","","","","","","","","","","","","","","","","","","","","","","","","","","","","","","","","","","","","","","","","","","","","","","","","","","","","","","","","","","","","","","","","","","","","","","","","","","","","","","","","","","","","","","","","","","","","","","","","","","","","","","","","","","","","","","","","","","","","","","","","","","","","","","","","","","","","","","","","","","","","","","","","","","","","","","","","","","","","","","","","","","","","","","","","","","","","","","","","","","","","","","","","","","","","","","","","","","","","","","","","","","","","","","","","","","","","","","","","","","","","","","","","","","","","","","","","","","","","","","","","","","","","","","","","","","","","","","","","","","","","","","","","","","","","","","","","","","","","","","","","","","","","","","","","","","","","","","","","","","","","","","","","","","","","","","","","","","","","","","","","","","","","","","","","","","","","","","","","","","","","","","","","","","","","","","","","","","","","","","","","","","","","","","","","","","","","","","","","","","","","","","","","","","","","","","","","","","","","","","","","","","","","","","","","","","","","","","","","","","","","","","","","","","","","",{"$f":"IF($B73<>\"\",INDEX($B$3:$B$102,COUNT($B$3:$B$102)*RAND()+1),\"\")","v":""},"","","","","","","","","","","","","","","","","","","","","","","","","","","","","","","","","","","","","","","","","","","","","","","","","","","","","","","","","","","","","","","","","","","","","","","","","","","","","","","","","","","","","","","","","","","","","","","","","","","","","","","","","","","","","","","","","","","","","","","","","","","","","","","","","","","","","","","","","","","","","","","","","","","","","","","","","","","","","","","","","","","","","","","","","","","","","","","","","","","","","","","","","","","","","","","","","","","","","","","","","","","","","","","","","","","","","","","","","",{"$f":"IF($B73<>\"\",INDEX($B$3:$B$102,COUNT($B$3:$B$102)*RAND()+1),\"\")","v":""},"","","","","","","","","","","","","","","","","","","","","","","","","","","","","","","","","","","","","","","","","","","","","","","","","","","","","","","","","","","","","","","","","","","","","","","","","","","","","","","","","","","","","","","","","","","","","","","","","","","","","","","","","","","","","","","","","","","","","","","","","","","","","","","","","","","","","","","","","","","","","","","","","","","","","","","","","","","","","","","","","","","","","","","","","","","","","","","","","","","","","","","","","","","","","","","","","","","","","","","","","","","","","","","","","","","","","","","","","","","","","","","","","","","","","","","","","","","","","","","","","","","","","","","","","","","","","","","","","","","","","","","","","","","","","","","","","","","","","","","","","","","","","","","","","","","","","","","","","","","","","","","","","","","","","","","","","","","","","","","","","","","","","","","",{"$f":"IF($B73<>\"\",INDEX($B$3:$B$102,COUNT($B$3:$B$102)*RAND()+1),\"\")","v":""},"","","","","","","","","","","","","","","","","","","","","","","","","","","","","","","","","","","","","","","","","","","","","","","","","","","","","","","","","","","","","","","",{"$f":"IF($B73<>\"\",INDEX($B$3:$B$102,COUNT($B$3:$B$102)*RAND()+1),\"\")","v":""},"","","","","","","","","","","","","","","","","","","","","","","","","","","","","","","","","","","","","","","","","","","","","","","","","","","","","","","","","","","","","","","","","","","","","","","","","","","","","","","","","","","","","","","","","","","","","","","","","","","","","","","","","","","","","","","","","","","","","","","","","","","","","","","","","","","","","","","","","","","","","","","","","","","","","","","","","","","","","","","","","","","","","","","","","","","","","","","","","","","","","","","","","","","","","","","","","","","","","","","","","","","","","","","","","","","","","","","","","","","","","","","","","","","","","","","","","","","","","","","","","","","","","","","","","","","","","","","","","","","","","","","","","","","","","","","","","","","","","","","","","","","","","","","","","","","","","","","","","","","","","","","","","","","","","","","","","","","","","","","","","","","","","","","","","","","","","","","","","","","","","","","","","","","","","","","","","","","","","","","","","","","","","","","","","","","","","","","","","","","","","","","","","","","","","","","","","","","","","","","","","","","","","","","","","","","","","","","","","","","","","","","","","","","","","","","","","","","","","","","","","","","","","","","","","","","","","","","","","","","","","","","","","","","","","","","","","","","","","","","","","","","","","","","","","","","","","","","","","","","","","","","","","","","","",{"$f":"IF($B73<>\"\",INDEX($B$3:$B$102,COUNT($B$3:$B$102)*RAND()+1),\"\")","v":""},"","","","","","","","","","","","","","","","","","","","","","","","","","","","","","","","","","","","","","","","","","","","","","","","","","","","","","","","","","","","","","","","","","","","","","","","","","","","","","","","","","","","","","","","","","","","","","","","","","","","","","","","","","","","","","","","","","","","","","","","","","","","","","","","","","","","","","","","","","","","","","","","","","","","","","","","","","","","","","","","","","","","","","","","","","","","","","","","","","","","","","","","","","","","","","","","","","","","","","","","","","","","","","","","","","","","","","","","","","","","","","","","","","","","","","","","","","","","","","","","","","","","","","","","","","","","","","","","","","","","","","","","","","","","","","","","","","","","","","","","","","","","","","","","","","","","","","","","","","","","","","","","","","","","","","","","","","","","","","","","","","","","","","","","","","","","","","","","","","","","","","","","","","","","","","","","","","","","","","","","","","","","","","","","","","","","","","","","","","","","","","","","","","","","","","","","","","","","","","","","","","","","","","","","","","","","","","","","","","","","","","","","","","","","","","","","","","","","","","","","","","","","","","","","","","","","","","","","","","","","","","","","","","","","","","","","","","","","","","","","","","","","","","","","",{"$f":"IF($B73<>\"\",INDEX($B$3:$B$102,COUNT($B$3:$B$102)*RAND()+1),\"\")","v":""},"","","","","","","","","","","","","","","","","","","","","","","","","","","","","","","","","","","","","","","","","","","","","","","","","","","","","","","","","","","","","","","",{"$f":"IF($B73<>\"\",INDEX($B$3:$B$102,COUNT($B$3:$B$102)*RAND()+1),\"\")","v":""},"","","","","","","","","","","","","","","","","","","","","","","","","","","","","","","","","","","","","","","","","","","","","","","","","","","","","","","","","","","","","","","","","","","","","","","","","","","","","","","","","","","","","","","","","","","","","","","","","","","","","","","","","","","","","","","","","","","","","","","","","","","","","","","","","","","","","","","","","","","","","","","","","","","","","","","","","","","","","","","","","","","","","","","","","","","","","","","","","","","","","","","","","","","","","","","","","","","","","","","","","","","","","","","","","","","","","","","","","","","","","","","","","","","","","","","","","","","","","","","","","","","","","","","","","","","","","","","","","","","",{"$f":"IF($B73<>\"\",INDEX($B$3:$B$102,COUNT($B$3:$B$102)*RAND()+1),\"\")","v":""},"","","","","","","","","","","","","","","","","","","","","","","","","","","","","","","","","","","","","","","","","","","","","","","","","","","","","","","","","","","","","","","","","","","","","","","","","","","","","","","","","","","","","","","","","","","","","","","","","","","","","","","","","","","","","","","","","","","","","","","","","","","","","","","","",{"$f":"IF($B73<>\"\",INDEX($B$3:$B$102,COUNT($B$3:$B$102)*RAND()+1),\"\")","v":""},"","","","","","","","","","","","","","","","","","","","","","","","","","","","","","","","","","","","","","","","","","","","","","","","","","","","","","","","","","","","","","","","","","","","","","","","","","","","","","","","","","","","","","","","","","","","","","","","","","","","","","","","","","","","","","","","","","","","","","","","","","","","","","","",{"$f":"IF($B73<>\"\",INDEX($B$3:$B$102,COUNT($B$3:$B$102)*RAND()+1),\"\")","v":""},"","","","","","","","","","","","","","","","","","","","","","","","","","","","","","","","","","","","","","","","","","","","","","","","","","","","","","","","","","","","","","","","","","","","","","","","","","","","","","","","","","","","","","","","","","","","","","","","","","","","","","","","","","","","","","","","","","","","","","","","","","","","","","","",{"$f":"IF($B73<>\"\",INDEX($B$3:$B$102,COUNT($B$3:$B$102)*RAND()+1),\"\")","v":""},"","","","","","","","","","","","","","","","","","","","","","","","","","","","","","","","","","","","","","","","","","","","","","","","","","","","","","","","","","","","","","","","","","","","","","","","","","","","","","","","","","","","","","","","","","","","","","","","","","","","","","","","","","","","","","","","","","","","","","","","","","","","","","","",{"$f":"IF($B73<>\"\",INDEX($B$3:$B$102,COUNT($B$3:$B$102)*RAND()+1),\"\")","v":""},"","","","","","","","","","","","","","","","","","","","","","","","","","","","","","","","","","","","","","","","","","","","","","","","","","","","","","","","","","","","","","","","","","","","","","","","","","","","","","","","","","","","","","","","","","","","","","","","","","","","","","","","","","","","","","","","","","","","","","","","","","","","","","","",{"$f":"IF($B73<>\"\",INDEX($B$3:$B$102,COUNT($B$3:$B$102)*RAND()+1),\"\")","v":""},"","","","","","","","","","","","","","","","","","","","","","","","","","","","","","","","","","","","","","","","","","","","","","","","","","","","","","","","","","","","","","","","","","","","","","","","","","","","","","","","","","","","","","","","","","","","","","","","","","","","","","","","","","","","","","","","","","","","","","","","","","","","","","","",{"$f":"IF($B73<>\"\",INDEX($B$3:$B$102,COUNT($B$3:$B$102)*RAND()+1),\"\")","v":""},"","","","","","","","","","","","","","","","","","","","","","","","","","","","","","","","","","","","","","","","","","","","","","","","","","","","","","","","","","","","","","","","","","","","","","","","","","","","","","","","","","","","","","","","","","","","","","","","","","","","","","","","","","","","","","","","","","","","","","","","","","","","","","","",{"$f":"IF($B73<>\"\",INDEX($B$3:$B$102,COUNT($B$3:$B$102)*RAND()+1),\"\")","v":""},"","","","","","","","","","","","","","","","","","","","","","","","","","","","","","","","","","","","","","","","","","","","","","","","","","","","","","","","","","","","","","","","","","","","","","","","","","","","","","","","","","","","","","","","","","","","","","","","","","","","","","","","","","","","","","","","","","","","","","","","","","","","","","","",{"$f":"IF($B73<>\"\",INDEX($B$3:$B$102,COUNT($B$3:$B$102)*RAND()+1),\"\")","v":""},"","","","","","","","","","","","","","","","","","","","","","","","","","","","","","","","","","","","","","","","","","","","","","","","","","","","","","","","","","","","","","","","","","","","","","","","","","","","","","","","","","","","","","","","","","","","","","","","","","","","","","","","","","","","","","","","","","","","","","","","","","","","","","","",{"$f":"IF($B73<>\"\",INDEX($B$3:$B$102,COUNT($B$3:$B$102)*RAND()+1),\"\")","v":""},"","","","","","","","","","","","","","","","","","","","","","","","","","","","","","","","","","","","","","","","","","","","","","","","","","","","","","","","","","","","","","","","","","","","","","","","","","","","","","","","","","","","","","","","","","","","","","","","","","","","","","","","","","","","","","","","","","","","","","","","","","","","","","","",{"$f":"IF($B73<>\"\",INDEX($B$3:$B$102,COUNT($B$3:$B$102)*RAND()+1),\"\")","v":""},"","","","","","","","","","","","","","","","","","","","","","","","","","","","","","","","","","","","","","","","","","","","","","","","","","","","","","","","","","","","","","","","","","","","","","","","","","","","","","","","","","","","","","","","","","","","","","","","","","","","","","","","","","","","","","","","","","","","","","","","","","","","","","","",{"$f":"IF($B73<>\"\",INDEX($B$3:$B$102,COUNT($B$3:$B$102)*RAND()+1),\"\")","v":""},"","","","","","","","","","","","","","","","","","","","","","","","","","","","","","","","","","","","","","","","","","","","","","","","","","","","","","","","","","","","","","","","","","","","","","","","","","","","","","","","","","","","","","","","","","","","","","","","","","","","","","","","","","","","","","","","","","","","","","","","","","","","","","","",{"$f":"IF($B73<>\"\",INDEX($B$3:$B$102,COUNT($B$3:$B$102)*RAND()+1),\"\")","v":""},"","","","","","","","","","","","","","","","","","","","","","","","","","","","","","","","","","","","","","","","","","","","","","","","","","","","","","","","","","","","","","","","","","","","","","","","","","","","","","","","","","","","","","","","","","","","","","","","","","","","","","","","","","","","","","","","","","","","","","","","","","","","","","","",{"$f":"IF($B73<>\"\",INDEX($B$3:$B$102,COUNT($B$3:$B$102)*RAND()+1),\"\")","v":""},"","","","","","","","","","","","","","","","","","","","","","","","","","","","","","","","","","","","","","","","","","","","","","","","","","","","","","","","","","","","","","","","","","","","","","","","","","","","","","","","","","","","","","","","","","","","","","","","","","","","","","","","","","","","","","","","","","","","","","","","","","","","","","","",{"$f":"IF($B73<>\"\",INDEX($B$3:$B$102,COUNT($B$3:$B$102)*RAND()+1),\"\")","v":""},"","","","","","","","","","","","","","","","","","","","","","","","","","","","","","","","","","","","","","","","","","","","","","","","","","","","","","","","","","","","","","","","","","","","","","","","","","","","","","","","","","","","","","","","","","","","","","","","","","","","","","","","","","","","","","","","","","","","","","","","","","","","","","","",{"$f":"IF($B73<>\"\",INDEX($B$3:$B$102,COUNT($B$3:$B$102)*RAND()+1),\"\")","v":""},"","","","","","","","","","","","","","","","","","","","","","","","","","","","","","","","","","","","","","","","","","","","","","","","","","","","","","","","","","","","","","","","","","","","","","","","","","","","","","","","","","","","","","","","","","","","","","","","","","","","","","","","","","","","","","","","","","","","","","","","","","","","","","","",{"$f":"IF($B73<>\"\",INDEX($B$3:$B$102,COUNT($B$3:$B$102)*RAND()+1),\"\")","v":""},"","","","","","","","","","","","","","","","","","","","","","","","","","","","","","","","","","","","","","","","","","","","","","","","","","","","","","","","","","","","","","","","","","","","","","","","","","","","","","","","","","","","","","","","","","","","","","","","","","","","","","","","","","","","","","","","","","","","","","","","","","","","","","","",{"$f":"IF($B73<>\"\",INDEX($B$3:$B$102,COUNT($B$3:$B$102)*RAND()+1),\"\")","v":""},"","","","","","","","","","","","","","","","","","","","","","","","","","","","","","","","","","","","","","","","","","","",""]
[86,null,null,null,null,null,"","","","","","","","","","","","","","","","","","","","","","","","","","","","","","","","","","","","","","","","","","","","","","","","","","","","","","","","","","","","","","","","","",{"$f":"IF($B88<>\"\",INDEX($B$3:$B$102,COUNT($B$3:$B$102)*RAND()+1),\"\")","v":""},"","","","","","","","","","","","","","","","","","","","","","","","","","","","","","","","","","","","","","","","","","","","","","","","","","","","","","","","","","","","","","","","","","","","","","","","","","","","","","","","","","","","","","","","","","","","","","","","","","","","","","","","","","","","","","","","","","","","","","","","","","","","","","",{"$f":"IF($B88<>\"\",INDEX($B$3:$B$102,COUNT($B$3:$B$102)*RAND()+1),\"\")","v":""},"","","","","","","","","","","","","","","","","","","","","","","","","","","","","","","","","","","","","","","","","","","","","","","","","","","","","","","","","","","","","","","",{"$f":"IF($B88<>\"\",INDEX($B$3:$B$102,COUNT($B$3:$B$102)*RAND()+1),\"\")","v":""},"","","","","","","","","","","","","","","","","","","","","","","","","","","","","","","","","","","","","","","","","","","","","","","","","","","","","","","","","","","","","","","","","","","","",{"$f":"IF($B88<>\"\",INDEX($B$3:$B$102,COUNT($B$3:$B$102)*RAND()+1),\"\")","v":""},"","","","","","","","","","","","","","","","","","","","","","","","","","","","","","","","","","","","","","","","","","","","","","","","","","","","","","","","","","","","","","","","","","","","","","","","","","",{"$f":"IF($B88<>\"\",INDEX($B$3:$B$102,COUNT($B$3:$B$102)*RAND()+1),\"\")","v":""},"","","","","","","","","","","","","","","","","","","","","","","","","","","","","","","","","","","","","","","","","","","","","","","","","","","","","","","","","","","","","","","","","","","","","","","","","","","","","","","","","","","","","","","","","","","","","","","","","","","","","","","","","","","","","","","","","","","","","","","","","","","","","","","","","","","","","","","","","","","","","","","","","","","","","","","","","","","","","","","","","","","","","","","","","","","","","","","","","","","","","","","","","","","","","","","","","","","","","","","","","","","","","","","","","","","","","","","","","","","","",{"$f":"IF($B88<>\"\",INDEX($B$3:$B$102,COUNT($B$3:$B$102)*RAND()+1),\"\")","v":""},"","","","","","","","","","","","","","","","","","","","","","","","","","","","","","","","","","","","","","","","","","","","","","","","","","","","","","","","","","","","","","","",{"$f":"IF($B88<>\"\",INDEX($B$3:$B$102,COUNT($B$3:$B$102)*RAND()+1),\"\")","v":""},"","","","","","","","","","","","","","","","","","","","","","","","","","","","","","","","","","","","","","","","","","","","","","","","","","","","","","","","","","","","","","","","","","","","","","","","","","","","","","","","","","","","","","","","","","","","","","","","","","","","","","","","","","","","","","","","","","","","","","","","","","","","","","","","","","","","","","","","","","","","","","","","","","","","","","","","","","","","","","","","","","","","","","","","","","","","","","","","","","","","","","","","","","","","","","","","","","","","","","","","","","","","","","","","","","","","","","","","","","","","","","","","","","","","","","","","","","","","","","","","","","","","","","","","","","","","","","","","","","","","","","","",{"$f":"IF($B88<>\"\",INDEX($B$3:$B$102,COUNT($B$3:$B$102)*RAND()+1),\"\")","v":""},"","","","","","","","","","","","","","","","","","","","","","","","","","","","","","","","","","","","","","","","","","","","","","","","","","","","","","","","","","","","","","","","","","","","","","","","","","","","","","","","","","","","","","","","","","","","","","","","","","","","","","","","","","","","","","","","","","",{"$f":"IF($B88<>\"\",INDEX($B$3:$B$102,COUNT($B$3:$B$102)*RAND()+1),\"\")","v":""},"","","","","","","","","","","","","","","","","","","","","","","","","","","","","","","","","","","","","","","","","","","","","","","","","","","","","","","","","","","","","","","","","","","","","","","","","","","","","","","","","","","","","","","","","","","","","","","","","","","","","","","","","","","","","","","","","","","","","","","","","","","","","","","","","","","","",{"$f":"IF($B88<>\"\",INDEX($B$3:$B$102,COUNT($B$3:$B$102)*RAND()+1),\"\")","v":""},"","","","","","","","","","","","","","","","","","","","","","","","","","","","","","","","","","","","","","","","","","","","","","","","","","","","","","","","","","","","","","","","","","","","","","","","","","","","","","","","","","","","","","","","","","","","","","","","","","","","","","","","","","","","","","","","","","","","","","","","","","","","","","","","","","","","","","","","","","","","","","","","","","","","","","","","","","","","","","","","","","","","","","","","","","","","","","","","","","","","","","","","","","","","","","","","","","","","","","","","","","","","","","","","","","","","","","","","","","","","","","","","","","","","","","","","","","","","","","","","","","","","","","","","","","","","","","","","","","","","","","","","","","","","","","","","","","","","","","","","","","","","","","","","","","","","","","","","","","","","","","","","","","","","","","","","","","","","","","","","","","","","","","","","","","","","","","","","","","","","","","","","","","","","","","","","","","","","","","","","","","","","","","","","","","","","","","","","","",{"$f":"IF($B88<>\"\",INDEX($B$3:$B$102,COUNT($B$3:$B$102)*RAND()+1),\"\")","v":""},"","","","","","","","","","","","","","","","","","","","","","","","","","","","","","","","","","","","","","","","","","","","","","","","","","","","","","","","","","","","","","","",{"$f":"IF($B88<>\"\",INDEX($B$3:$B$102,COUNT($B$3:$B$102)*RAND()+1),\"\")","v":""},"","","","","","","","","","","","","","","","","","","","","","","","","","","","","","","","","","","","","","","","","","","","","","","","","","","","","","","","","","","","","","","","","","","","","","","","","","","","","",{"$f":"IF($B88<>\"\",INDEX($B$3:$B$102,COUNT($B$3:$B$102)*RAND()+1),\"\")","v":""},"","","","","","","","","","","","","","","","","","","","","","","","","","","","","","","","","","","","","","","","","","","","","","","","","","","","","","","","","","","","","","","","","","","","","","","","","","","","","","","","","","","","","","","","","","","","","","","","","","","","","","","","","","","","",{"$f":"IF($B88<>\"\",INDEX($B$3:$B$102,COUNT($B$3:$B$102)*RAND()+1),\"\")","v":""},"","","","","","","","","","","","","","","","","","","","","","","","","","","","","","","","","","","","","","","","","","","","","","","","","","","","","","","","","","","","","","","","","","","","","","","","","","","","","","","","","","","","","","","","","","","","","","","","","","","","","","","","","","","","","","","","","","","","","","","","","","","","","","","","","","","","","","","","","","","","","","","","","","","","","","","","","","","","","","","","","","","","","","","","","","","","","","","","","","","","","","","","","","","","","","","","","","","","","","","","","","","","","","","","","","","","","","","","","","","","","","","","","","","","","","","","","","","","","","","","","","","","","","","","","","","","","","","","","","","","","","","","","","","","","","","","","","","","","","","","","","","","","","","","","","","","","","","","","","","","","","","","","","","","","","","","","","","","","","","","","","","","","","","","","",{"$f":"IF($B88<>\"\",INDEX($B$3:$B$102,COUNT($B$3:$B$102)*RAND()+1),\"\")","v":""},"","","","","","","","","","","","","","","","","","","","","","","","","","","","","","","","","","","","","","","","","","","","","","","","","","","","","","","","","","","","","","","","","","","","","","","","","","","","","","","","","",{"$f":"IF($B88<>\"\",INDEX($B$3:$B$102,COUNT($B$3:$B$102)*RAND()+1),\"\")","v":""},"","","","","","","","","","","","","","","","","","","","","","","","","","","","","","","","","","","","","","","","","","","","","","","","","","","","","","","","","","","","","","","","","","","","","","","","","","","","","","","","","","","","","","","","","","","","","","","","","","","","","","","","","","","","","","","","","","","","","","","","","","","","","","","","","","","",{"$f":"IF($B88<>\"\",INDEX($B$3:$B$102,COUNT($B$3:$B$102)*RAND()+1),\"\")","v":""},"","","","","","","","","","","","","","","","","","","","","","","","","","","","","","","","","","","","","","","","","","","","","","","","","","","","","","","","","","","","","","","","","","","","","","","","","","","","","","","","","","","","","","","","","","","","","","","","","","","","","","","","","","","","","","","","","","","","","","","","","","","","","","","","","","","","","","","","","","","","","","","","","","","","","","","","","","","","","","","","","","","","","","","","","","","","","","","","","","","","","","","","","","","","","","","","","","","","","","","","","","","","","","","","","","","","","","","","","","","","","","","","","","","","","","","","","","","","","","","","","","","","","","","","","","","","","","","","","","","","","","","","","","","","","","","","","","","","","","","","","","","","","","","","","","","","","","","","","","","","","","","","","","","","","","","","","","","","","","","","","","","","","","","","","","","","","","","","","","","","","","","","","","","","","","","","","","","","","","","","","","","","","","","","","","","","","","","","","","","",{"$f":"IF($B88<>\"\",INDEX($B$3:$B$102,COUNT($B$3:$B$102)*RAND()+1),\"\")","v":""},"","","","","","","","","","","","","","","","","","","","","","","","","","","","","","","","","","","","","","","","","","","","","","","","","","","","","","","","","","","","","","","",{"$f":"IF($B88<>\"\",INDEX($B$3:$B$102,COUNT($B$3:$B$102)*RAND()+1),\"\")","v":""},"","","","","","","","","","","","","","","","","","","","","","","","","","","","","","","","","","","","","","","","","","","","","","","","","","","","","","","","","","","","","","","","","","","","","","","","","","","","","","","","","","","","","","","","","","","","","","","","","","","","","","","","","","","","","","","","","","","","","","","","","","","","","","","","","","","","","","","","","","","","","","","","","","","","","","","","","","","","","",{"$f":"IF($B88<>\"\",INDEX($B$3:$B$102,COUNT($B$3:$B$102)*RAND()+1),\"\")","v":""},"","","","","","","","","","","","","","","","","","","","","","","","","","","","","","","","","","","","","","","","","","","","","","","","","","","","","","","","","","","","","","","","","","","","","","","","","","","","","","","","","","","","","","","","","","","","","","","","","","","","","","","","","","","","","","","","","","","","","","","","","","","","","","","","","","","","","","","","","","","","","","","","","","","","","","","","","","","","","","","","","","","","","","","","","","","","","","","","","","","","","","","","","","","","","","","","","","","","","","","","","","","","","","","","","","","","","","","","",{"$f":"IF($B88<>\"\",INDEX($B$3:$B$102,COUNT($B$3:$B$102)*RAND()+1),\"\")","v":""},"","","","","","","","","","","","","","","","","","","","","","","","","","","","","","","","","","","","","","","","","","","","","","","","","","","","","","","","","","","","","","","","","","","","","","","","","","","","","","","","","","","","","","","","","","","","","","","","","","","","","","","","","","","","","","","","","","","","","","","","","","","","","","","",{"$f":"IF($B88<>\"\",INDEX($B$3:$B$102,COUNT($B$3:$B$102)*RAND()+1),\"\")","v":""},"","","","","","","","","","","","","","","","","","","","","","","","","","","","","","","","","","","","","","","","","","","","","","","","","","","","","","","","","","","","","","","","","","","","","","","","","","","","","","","","","","","","","","","","","","","","","","","","","","","","","","","","","","","","","","","","","","","","","","","","","","","","","","","",{"$f":"IF($B88<>\"\",INDEX($B$3:$B$102,COUNT($B$3:$B$102)*RAND()+1),\"\")","v":""},"","","","","","","","","","","","","","","","","","","","","","","","","","","","","","","","","","","","","","","","","","","","","","","","","","","","","","","","","","","","","","","","","","","","","","","","","","","","","","","","","","","","","","","","","","","","","","","","","","","","","","","","","","","","","","","","","","","","","","","","","","","","","","","",{"$f":"IF($B88<>\"\",INDEX($B$3:$B$102,COUNT($B$3:$B$102)*RAND()+1),\"\")","v":""},"","","","","","","","","","","","","","","","","","","","","","","","","","","","","","","","","","","","","","","","","","","","","","","","","","","","","","","","","","","","","","","","","","","","","","","","","","","","","","","","","","","","","","","","","","","","","","","","","","","","","","","","","","","","","","","","","","","","","","","","","","","","","","","",{"$f":"IF($B88<>\"\",INDEX($B$3:$B$102,COUNT($B$3:$B$102)*RAND()+1),\"\")","v":""},"","","","","","","","","","","","","","","","","","","","","","","","","","","","","","","","","","","","","","","","","","","","","","","","","","","","","","","","","","","","","","","","","","","","","","","","","","","","","","","","","","","","","","","","","","","","","","","","","","","","","","","","","","","","","","","","","","","","","","","","","","","","","","","",{"$f":"IF($B88<>\"\",INDEX($B$3:$B$102,COUNT($B$3:$B$102)*RAND()+1),\"\")","v":""},"","","","","","","","","","","","","","","","","","","","","","","","","","","","","","","","","","","","","","","","","","","","","","","","","","","","","","","","","","","","","","","","","","","","","","","","","","","","","","","","","","","","","","","","","","","","","","","","","","","","","","","","","","","","","","","","","","","","","","","","","","","","","","","",{"$f":"IF($B88<>\"\",INDEX($B$3:$B$102,COUNT($B$3:$B$102)*RAND()+1),\"\")","v":""},"","","","","","","","","","","","","","","","","","","","","","","","","","","","","","","","","","","","","","","","","","","","","","","","","","","","","","","","","","","","","","","","","","","","","","","","","","","","","","","","","","","","","","","","","","","","","","","","","","","","","","","","","","","","","","","","","","","","","","","","","","","","","","","",{"$f":"IF($B88<>\"\",INDEX($B$3:$B$102,COUNT($B$3:$B$102)*RAND()+1),\"\")","v":""},"","","","","","","","","","","","","","","","","","","","","","","","","","","","","","","","","","","","","","","","","","","","","","","","","","","","","","","","","","","","","","","","","","","","","","","","","","","","","","","","","","","","","","","","","","","","","","","","","","","","","","","","","","","","","","","","","","","","","","","","","","","","","","","",{"$f":"IF($B88<>\"\",INDEX($B$3:$B$102,COUNT($B$3:$B$102)*RAND()+1),\"\")","v":""},"","","","","","","","","","","","","","","","","","","","","","","","","","","","","","","","","","","","","","","","","","","","","","","","","","","","","","","","","","","","","","","","","","","","","","","","","","","","","","","","","","","","","","","","","","","","","","","","","","","","","","","","","","","","","","","","","","","","","","","","","","","","","","","",{"$f":"IF($B88<>\"\",INDEX($B$3:$B$102,COUNT($B$3:$B$102)*RAND()+1),\"\")","v":""},"","","","","","","","","","","","","","","","","","","","","","","","","","","","","","","","","","","","","","","","","","","","","","","","","","","","","","","","","","","","","","","","","","","","","","","","","","","","","","","","","","","","","","","","","","","","","","","","","","","","","","","","","","","","","","","","","","","","","","","","","","","","","","","",{"$f":"IF($B88<>\"\",INDEX($B$3:$B$102,COUNT($B$3:$B$102)*RAND()+1),\"\")","v":""},"","","","","","","","","","","","","","","","","","","","","","","","","","","","","","","","","","","","","","","","","","","","","","","","","","","","","","","","","","","","","","","","","","","","","","","","","","","","","","","","","","","","","","","","","","","","","","","","","","","","","","","","","","","","","","","","","","","","","","","","","","","","","","","",{"$f":"IF($B88<>\"\",INDEX($B$3:$B$102,COUNT($B$3:$B$102)*RAND()+1),\"\")","v":""},"","","","","","","","","","","","","","","","","","","","","","","","","","","","","","","","","","","","","","","","","","","","","","","","","","","","","","","","","","","","","","","","","","","","","","","","","","","","","","","","","","","","","","","","","","","","","","","","","","","","","","","","","","","","","","","","","","","","","","","","","","","","","","","",{"$f":"IF($B88<>\"\",INDEX($B$3:$B$102,COUNT($B$3:$B$102)*RAND()+1),\"\")","v":""},"","","","","","","","","","","","","","","","","","","","","","","","","","","","","","","","","","","","","","","","","","","","","","","","","","","","","","","","","","","","","","","","","","","","","","","","","","","","","","","","","","","","","","","","","","","","","","","","","","","","","","","","","","","","","","","","","","","","","","","","","","","","","","","",{"$f":"IF($B88<>\"\",INDEX($B$3:$B$102,COUNT($B$3:$B$102)*RAND()+1),\"\")","v":""},"","","","","","","","","","","","","","","","","","","","","","","","","","","","","","","","","","","","","","","","","","","","","","","","","","","","","","","","","","","","","","","","","","","","","","","","","","","","","","","","","","","","","","","","","","","","","","","","","","","","","","","","","","","","","","","","","","","","","","","","","","","","","","","",{"$f":"IF($B88<>\"\",INDEX($B$3:$B$102,COUNT($B$3:$B$102)*RAND()+1),\"\")","v":""},"","","","","","","","","","","","","","","","","",""]
[93,null,null,null,null,null,"","","","","","","","","","","","","","","","","","","","","","","","","","","","","","","","","","","","","","","","","","","","","","","","","","","","","","","","","","","","","","","","","","","","","","","","","","","","","","","","","","","","","","","","","","","","","","","","","","","","","","","","","","","","","","","","","","","","","","","","","","","","","","","","","","","","","","","","","","","","","","","","","","","","","","","","","","","","","","","","","","","","","","","","","","","","","","","","","","","","","","","","","","","","","","","","","","","","","","","","","","","","","","","","","","","","","","","","","","","","","","","","","","","","","","","","","","","","","","","","","","","","","","","","","","","","","","","","","","","","","","","","","","","","","","","","","","","","","","","","","","","","","","","","","","","","","","","","","","","","","","","","","","","","","","","","","","","","","","","",{"$f":"IF($B95<>\"\",INDEX($B$3:$B$102,COUNT($B$3:$B$102)*RAND()+1),\"\")","v":""},"","","","","","","","","","","","","","","","","","","","","","","","","","","","","","","","","","","","","","","","","","","","","","","","","","","","","","","","","","","","","","","","","","","","","","","","","","","","","","","","","","","","","","","","","","","","","","","","","","","","","","","","","","","","","","","","","","","","","","","","","","","","","","","","","","","","","","","","","","","","","","","","","","","","","","","","","","","","","","","","","","","","","","","","","","","","","","","","","","","","","","","","","","","","","","","","","","","","","","","","","","","","","","","","","","","","","","","","","","","","","","","","","","","","","","","","","","","","","","","","","","","","","","","","","","","","","","","","","","","","","","","","","","","",{"$f":"IF($B95<>\"\",INDEX($B$3:$B$102,COUNT($B$3:$B$102)*RAND()+1),\"\")","v":""},"","","","","","","","","","","","","","","","","","","","","","","","","","","","","","","","","","","","","","","","","","","","","","","","","","","","","","","","","","","","","","","","","","","","","","","","","","","","","","","","","","","","","","","","","","","","","","","","","","","","","","","","","","","","","","","","","","","","","","","","","","","","","","","","","","","","","","","","","","","","","","","","","","","","","","","","","","","","","","","","","","","",{"$f":"IF($B95<>\"\",INDEX($B$3:$B$102,COUNT($B$3:$B$102)*RAND()+1),\"\")","v":""},"","","","","","","","","","","","","","","","","","","","","","","","","","","","","","","","","","","","","","","","","","","","","","","","","","","","","","","","","","","","","","","",{"$f":"IF($B95<>\"\",INDEX($B$3:$B$102,COUNT($B$3:$B$102)*RAND()+1),\"\")","v":""},"","","","","","","","","","","","","","","","","","","","","","","","","","","","","","","","","","","","","","","","","","","","","","","","","","","","","","","","","","","","","","","","","","","","","","","","","","","","","","","","","","","","","","","","","","","","","","","","","","","","","","","","","","","","","","","","","","","","","","","","","","","","","","","","","","","","","","","","","","","","","","","","","","","","","","","","","","","","","","","","","","","","","","","","","","","","","","","","","","","","","","","","","","","","","","","","","","","","","","","","","","","","","","","","","","","","","","","","","","","","","","","","","","","","","","","","","","","","","","","","","","","","","","","","","","","","","","","","","","","","","","","","","","","","","","","","","","","","","","","","","","","","","","","","","","","","","","","","","","","","","","","","","","","","","","","",{"$f":"IF($B95<>\"\",INDEX($B$3:$B$102,COUNT($B$3:$B$102)*RAND()+1),\"\")","v":""},"","","","","","","","","","","","","","","","","","","","","","","","","","","","","","","","","","","","","","","","","","","","","","","","","","","","","","","","","","","","","","","","","","","","","","","","","","","","","","","","","","","","","","","","","","","","","","","","","","","","","","","","","","","","","","","","","","","","","","","","","","","","","","","","","","","","","","","",{"$f":"IF($B95<>\"\",INDEX($B$3:$B$102,COUNT($B$3:$B$102)*RAND()+1),\"\")","v":""},"","","","","","","","","","","","","","","","","","","","","","","","","","","","","","","","","","","","","","","","","","","","","","","","","","","","","","","","","","","","","","","",{"$f":"IF($B95<>\"\",INDEX($B$3:$B$102,COUNT($B$3:$B$102)*RAND()+1),\"\")","v":""},"","","","","","","","","","","","","","","","","","","","","","","","","","","","","","","","","","","","","","","","","","","","","","","","","","","","","","","","","","","","","","","","","","","","","","","","","","","","","","","","","","","","","","","","","","","","","","","","","","","","","","","","","","","","","","","","","","","","","","","","","","","","","","","","","","","","","","","","","","","","","","","","","","","","","","","","","","","","","","","","","","","","","","","","","","","","","","","","","","","","","","","","","","","","","","","","","","","","","","","","","","","","","","","","","","","","","","","","","","","","","","","","","","","","","","","","","","","","","","","","","","","","","","","","","","","","","","","","","","","","","","","","","","","","","","","","","","","","","","","","","","","","","","","","","","","","","","","","","","","","","","","","","","","","","","","","","","","","","","","","","","","","","","","","","","","","","","","","","","","","","","","","","","","","","","","","","","","","","","","","","","","","","","","","","","","","","","","","","","","","","","",{"$f":"IF($B95<>\"\",INDEX($B$3:$B$102,COUNT($B$3:$B$102)*RAND()+1),\"\")","v":""},"","","","","","","","","","","","","","","","","","","","","","","","","","","","","","","","","","","","","","","","","","","","","","","","","","","","","","","","","","","","","","","","","","","","","","","","","","","","","","","","","","","","","","","","","","","","","","","","","","","","","","","","","","","","","","","","","","","","","","","","","","","","","","","","","","","","","","","","","","","","","","","","","","","","","","","","","","","","","","","","","","","","","","","","","","","","","","","","","","","","","","","","","","","","","","","","","","","","","","","","","","","","","","","","","","","","","","","","","","","","","","","","","","","","",{"$f":"IF($B95<>\"\",INDEX($B$3:$B$102,COUNT($B$3:$B$102)*RAND()+1),\"\")","v":""},"","","","","","","","","","","","","","","","","","","","","","","","","","","","","","","","","","","","","","","","","","","","","","","","","","","","","","","","","","","","","","","",{"$f":"IF($B95<>\"\",INDEX($B$3:$B$102,COUNT($B$3:$B$102)*RAND()+1),\"\")","v":""},"","","","","","","","","","","","","","","","","","","","","","","","","","","","","","","","","","","","","","","","","","","","","","","","","","","","","","","","","","","","","","","","","","","","","","","","","","","","","","","","","","","","","","","","","","","","","","","","","","","","","","","","","","","","","","","","","","","","","","","","","","","","","","","","","","","","","","","","","","","","","","","","","","","","","","","","","","","","","","","","","","","","","","","","","","","","","","","","","","","","","","","","","","","","","","","","","","","","","","","","","","","","","","","","","","","","","","","","","","","","","","","","","","","","","","","","","","","","","","","","","","","","","","","","","","","","","","","","","","","","","","","","","","","","","","","","","","","","","","","","","","","","","","","","","","","","","","","","","","","","","","","","","","","","","","","","","","","","","","","","","","","","","","","","","",{"$f":"IF($B95<>\"\",INDEX($B$3:$B$102,COUNT($B$3:$B$102)*RAND()+1),\"\")","v":""},"","","","","","","","","","","","","","","","","","","","","","","","","","","","","","","","","","","","","","","","","","","","","","","","","","","","","","","","","","","","","","","","","","","","","","","","","","","","","","","","","","","","","","","","","","","","","","","","","","","","","","",{"$f":"IF($B95<>\"\",INDEX($B$3:$B$102,COUNT($B$3:$B$102)*RAND()+1),\"\")","v":""},"","","","","","","","","","","","","","","","","","","","","","","","","","","","","","","","","","","","","","","","","","","","","","","","","","","","","","","","","","","","","","","",{"$f":"IF($B95<>\"\",INDEX($B$3:$B$102,COUNT($B$3:$B$102)*RAND()+1),\"\")","v":""},"","","","","","","","","","","","","","","","","","","","","","","","","","","","","","","","","","","","","","","","","","","","","","","","","","","","","","","","","","","","","","","","","","","","","","","","","","","","","","","","","","","","","","","","","","","","","","","","","","","","","","","","","","","","","","","","","","","","","","","","","","","","","","","","","","","","","","","","","","","","","","","","","","","","","","","","","","","","","","","","","","","","","","","","","","","","","","","","","","","","","","","","","","","","","","","","","","","","","","","","","","","","","","","","","","","","","","","","","","","","","","","","","","","","","","","","","","","","","","","","","","","","","","","","","","","","","","","","","","","","","","","","","","","","","","","","","","","","","","","","","","","","","","","","","","","","","","","","","","","","","","","","","","","","","","","","","","","","","","","","","","","","","","","","","","","","","","","","","","","","","","","","","","","","","","","","","","","","","","","","","","","","","","","","","","","","","","","","",{"$f":"IF($B95<>\"\",INDEX($B$3:$B$102,COUNT($B$3:$B$102)*RAND()+1),\"\")","v":""},"","","","","","","","","","","","","","","","","","","","","","","","","","","","","","","","","","","","","","","","","","","","","","","","","","","","","","","","","","","","","","","",{"$f":"IF($B95<>\"\",INDEX($B$3:$B$102,COUNT($B$3:$B$102)*RAND()+1),\"\")","v":""},"","","","","","","","","","","","","","","","","","","","","","","","","","","","","","","","","","","","","","","","","","","","","","","","","","","","","","","","","","","","","","","","","","","","","","","","","","","","","","","","","","","","","","","","","","","","","","","","","","","","","","","","","","","","","","","","","","","","","","","","","","","","","","","","","","","","","","","","","","","","","","","","","","","","","","","","","","","","","","","","",{"$f":"IF($B95<>\"\",INDEX($B$3:$B$102,COUNT($B$3:$B$102)*RAND()+1),\"\")","v":""},"","","","","","","","","","","","","","","","","","","","","","","","","","","","","","","","","","","","","","","","","","","","","","","","","","","","","","","","","","","","","","","","","","","","","","","","","","","","","","","","","","","","","","","","","","","","","","","","","","","","","","","","","","","","","","","","","","","","","","","","","","","","","","","","","","","","","","","","","","","","","","","","","","","","","","","","","","","","","","","","","","","","","","","","","","","","","","","","","","","","","","","","","","","","","","","","","","","","","","","","","","","","","","","","","","","","","","","","","","","","","","","","","","","","","","","","","","","","","","","","","","","","","","","","","","","","","","","","","","","","","","","","","","","","","","","","","","","","","","","","","","","","","","","","","","","","","","","","","","","","","","","","","","","","","","","","","","","","","","","","","","","","","","","","","","","","","","","","","","","","","","","","","","","","","","","","","","","","","","","","","","","","","","","","","","","","","","","","","","","","","","","","","","","","","","","","","","","","","","","","","","","","","","","","","","","","","","","","","","","","","","","","","","","","","","","","","","","","","","","","","","","","","","","","","","","","","","","","","","","","","","","","","","","","","","","","","","","","","","","","","","","","","","","","","","","","","","","","","","","","","","","","","","","","","","","","","","","","","","","","","","","","","","","","","","","","","","","","","","","","","","","","","","","","","","","","","","","","","","","","","","","","","","","","","","","","","","","","","","","","","","","","","","","","","","","","","","","","","","","","","","","","","","","","","","","","","","","","","","","","","","","","","","","","","","","","","","","","","","","","","","","","","","","","","","","","","","","","","","","","","","","","","","","","","","","","","","","","","","","","","","","","","","","","","","","","","","","","","","","","","","","","","","","","","","","","","","","","","","","","","","","","","","","","","","","","","","","","","","","","","","","","","","","","","","","","","","","","","","","","","","","","","","","","","","","","","","","","","","","","","","","","","","","","","","","","","","","","","","","","","","","","","","","","","","","","","","","","","","","","","","","","","","","","","","","","","","","","","","","","","","","","","","","","","","","","","","","","","","","","","","","","","","","","","","","","","","","","","","","","","","","","","","","","","","","","","","","","","","","","","","","","","","","","","","","","","","","","","","","","","","","","","","","","","","","","","","","","","","","","","","","","","","","","","","","","","","","","","","","","","","","","","","","","","","","","","","","","","","","","","","","","","","","","","","","","","","","","","","","","","","","","","","","","","","","","","","","","","","","","","","","","","","","","","","","","","","","","","","","","","","","","","","","","","","","","","","","","","","","","","","","","","","","","","","","","","","","","","","","","","","","","","","","","","","","","","","","","","","","","","","","","","","","","","","","","","","","","","","","","","","","","","","","","","","","","","","","","","","","","","","","","","","","","","","","","","","","","","","","","","","","","","","","","","","","","","","","","","","","","","","","","","","","","","","","","","","","","","","","","","","","","","","","","","","","","","","","","","","","","","","","","","","","","","","","","","","","","","","","","","","","","","","","","","","","","","","","","","","","","","","","","","","","","","","","","","","","","","","","","","","","","","","","","","","","","","","","","","","","","","","","","","","","","","","","","","","","","","","","","","","","","","","","","","","","","","","","","","","","","","","","","","","","","","","","","","","","","","","","","","","","","","","","","","","","","","","","","","","","","","","","","","","","","","","","","","","","","","","","","","","","","","","","","","","","","","","","","","","","","","","","","","","","","","","","","","","","","","","","","","","","","","","","","","","","","","","","","","","","","","","","","","","","","","","","","","","","","","","","","","","","","","","","","","","","","","","","","","","","","","","","","","","","","","","","","","","","","","","","","","","","","","","","","","","","","","","","","","","","","","","","","","","","","","","","","","","","","","","","","","","","","","","","","","","","","","","","","","","","","","","","","","","","","","","","","","","","","","","","","","","","","","","","","","","","","","","","","","","","","","","","","","","","","","","","","","","","","","","","","","","","","","","","","","","","","","","","","","","","","","","","","","","","","","","","","","","","","","","","","","","","","","","","","","","","","","","","","","","","","","","","","","","","","","","","","","","","","","","","","","","","","","","","","","","","","","","","","","","","","","","","","","","","","","","","","","","","","","","","","","","","","","","","","","","","","","","","","","","","","","","","","","","","","","","","","","","","","","","","","","","","","","","","","","","","","","","","","","","","","","","","","","","","","","","","","","","","","","","","","","","","","","","","","","","","","","","","","","","","","","","","","","","","","","","","","","","","","","","","","","","","","","","","","","","","","","","","","",""]
[null,null,null,null," ","Alg. A",{"$f":"data1!G103","v":50.360437722757752},{"$f":"data1!H103","v":48.809441966263549},{"$f":"data1!I103","v":55.297128148233092},{"$f":"data1!J103","v":55.888888888888886},{"$f":"data1!K103","v":54.859367741211194},{"$f":"data1!L103","v":43.166666666666664},{"$f":"data1!M103","v":56.551956033324586},{"$f":"data1!N103","v":52.772082195961907},{"$f":"data1!O103","v":47.899634305170984},{"$f":"data1!P103","v":46.333333333333336},{"$f":"data1!Q103","v":49.566606497389117},{"$f":"data1!R103","v":54.388888888888886},{"$f":"data1!S103","v":51.727361366973383},{"$f":"data1!T103","v":55.888888888888886},{"$f":"data1!U103","v":49.524529323977738},{"$f":"data1!V103","v":54.881771284108495},{"$f":"data1!W103","v":55.5},{"$f":"data1!X103","v":53.581051092593547},{"$f":"data1!Y103","v":51.536572126625678},{"$f":"data1!Z103","v":56.722222222222221},{"$f":"data1!AA103","v":52.056262445184878},{"$f":"data1!AB103","v":55.155067878290843},{"$f":"data1!AC103","v":53},{"$f":"data1!AD103","v":42.055555555555557},{"$f":"data1!AE103","v":52.306679014190863},{"$f":"data1!AF103","v":53.388888888888886},{"$f":"data1!AG103","v":56.5},{"$f":"data1!AH103","v":49.994811317924722},{"$f":"data1!AI103","v":47.48232422749831},{"$f":"data1!AJ103","v":52.150252414716888},{"$f":"data1!AK103","v":48.944444444444443},{"$f":"data1!AL103","v":46.174798759873866},{"$f":"data1!AM103","v":58.833333333333336},{"$f":"data1!AN103","v":49.246056123731741},{"$f":"data1!AO103","v":51.251702072782308},{"$f":"data1!AP103","v":48.267501973374237},{"$f":"data1!AQ103","v":59.253308667675888},{"$f":"data1!AR103","v":62.333333333333336},{"$f":"data1!AS103","v":58.186669564902708},{"$f":"data1!AT103","v":55.350818318066302},{"$f":"data1!AU103","v":54.239215254947133},{"$f":"data1!AV103","v":48.455504950982323},{"$f":"data1!AW103","v":55.120365356129355},{"$f":"data1!AX103","v":49.812638705756498},{"$f":"data1!AY103","v":62.944444444444443},{"$f":"data1!AZ103","v":53.565851270943554},{"$f":"data1!BA103","v":55.25331618474857},{"$f":"data1!BB103","v":55.388888888888886},{"$f":"data1!BC103","v":55.444444444444443},{"$f":"data1!BD103","v":49.481902181268005},{"$f":"data1!BE103","v":52.5},{"$f":"data1!BF103","v":55.888888888888886},{"$f":"data1!BG103","v":55.444444444444443},{"$f":"data1!BH103","v":50.812138767291238},{"$f":"data1!BI103","v":56.611111111111114},{"$f":"data1!BJ103","v":51.246990269952441},{"$f":"data1!BK103","v":48.110317346023031},{"$f":"data1!BL103","v":57.722222222222221},{"$f":"data1!BM103","v":53.252612822644487},{"$f":"data1!BN103","v":57.833333333333336},{"$f":"data1!BO103","v":59.277777777777779},{"$f":"data1!BP103","v":50.551199026725158},{"$f":"data1!BQ103","v":56.611111111111114},{"$f":"data1!BR103","v":53.82024878041188},{"$f":"data1!BS103","v":53.555555555555557},{"$f":"data1!BT103","v":53.43440562327126},{"$f":"data1!BU103","v":51.782405663714243},{"$f":"data1!BV103","v":56.444444444444443},{"$f":"data1!BW103","v":48.260784457218129},{"$f":"data1!BX103","v":56.133032602393762},{"$f":"data1!BY103","v":41.055555555555557},{"$f":"data1!BZ103","v":57.333333333333336},{"$f":"data1!CA103","v":57},{"$f":"data1!CB103","v":52.148087685079048},{"$f":"data1!CC103","v":52.68088244601762},{"$f":"data1!CD103","v":49.633436124061198},{"$f":"data1!CE103","v":55.444444444444443},{"$f":"data1!CF103","v":51.542236710163934},{"$f":"data1!CG103","v":52.222222222222221},{"$f":"data1!CH103","v":45.333333333333336},{"$f":"data1!CI103","v":47.595807753692327},{"$f":"data1!CJ103","v":54.468520790044735},{"$f":"data1!CK103","v":48.777777777777779},{"$f":"data1!CL103","v":49.035794938116332},{"$f":"data1!CM103","v":54.777777777777779},{"$f":"data1!CN103","v":57.666666666666664},{"$f":"data1!CO103","v":58},{"$f":"data1!CP103","v":58.913100377445666},{"$f":"data1!CQ103","v":54},{"$f":"data1!CR103","v":54.343658525090468},{"$f":"data1!CS103","v":56.166666666666664},{"$f":"data1!CT103","v":52.532507123484393},{"$f":"data1!CU103","v":50.423959382578296},{"$f":"data1!CV103","v":47.934955978733647},{"$f":"data1!CW103","v":55.277777777777779},{"$f":"data1!CX103","v":51.160018624306794},{"$f":"data1!CY103","v":41.722222222222221},{"$f":"data1!CZ103","v":45.715388736250347},{"$f":"data1!DA103","v":49.391106477260593},{"$f":"data1!DB103","v":51.960058812843897},{"$f":"data1!DC103","v":47.666666666666664},{"$f":"data1!DD103","v":49.730307265717506},{"$f":"data1!DE103","v":53.660278019750812},{"$f":"data1!DF103","v":53.888888888888886},{"$f":"data1!DG103","v":56.333333333333336},{"$f":"data1!DH103","v":49.629409554921807},{"$f":"data1!DI103","v":50.444444444444443},{"$f":"data1!DJ103","v":55.963781793471625},{"$f":"data1!DK103","v":60.388888888888886},{"$f":"data1!DL103","v":58.611111111111114},{"$f":"data1!DM103","v":57},{"$f":"data1!DN103","v":52.833333333333336},{"$f":"data1!DO103","v":52.5},{"$f":"data1!DP103","v":55.888888888888886},{"$f":"data1!DQ103","v":54.073630734186565},{"$f":"data1!DR103","v":48.689930033836099},{"$f":"data1!DS103","v":54.377795312726398},{"$f":"data1!DT103","v":59.166666666666664},{"$f":"data1!DU103","v":54.377466987326528},{"$f":"data1!DV103","v":57.277777777777779},{"$f":"data1!DW103","v":53.833333333333336},{"$f":"data1!DX103","v":57.472329805745552},{"$f":"data1!DY103","v":50.111111111111114},{"$f":"data1!DZ103","v":59.111111111111114},{"$f":"data1!EA103","v":55.108019575082693},{"$f":"data1!EB103","v":51.822731968861632},{"$f":"data1!EC103","v":50.431717936766773},{"$f":"data1!ED103","v":58.555555555555557},{"$f":"data1!EE103","v":53.111111111111114},{"$f":"data1!EF103","v":55.611111111111114},{"$f":"data1!EG103","v":53.015313541163451},{"$f":"data1!EH103","v":56.166666666666664},{"$f":"data1!EI103","v":54.582153251947979},{"$f":"data1!EJ103","v":50.498976714509709},{"$f":"data1!EK103","v":53.222222222222221},{"$f":"data1!EL103","v":53.028104664792302},{"$f":"data1!EM103","v":53.944444444444443},{"$f":"data1!EN103","v":56.444444444444443},{"$f":"data1!EO103","v":47.333333333333336},{"$f":"data1!EP103","v":57.888888888888886},{"$f":"data1!EQ103","v":50.782761122084018},{"$f":"data1!ER103","v":56.850598908392662},{"$f":"data1!ES103","v":45.012841821068832},{"$f":"data1!ET103","v":54.300139339183133},{"$f":"data1!EU103","v":58.15264643107222},{"$f":"data1!EV103","v":58.750931971186624},{"$f":"data1!EW103","v":57.166666666666664},{"$f":"data1!EX103","v":49.095298860010743},{"$f":"data1!EY103","v":55.629714048561866},{"$f":"data1!EZ103","v":52.094419375461307},{"$f":"data1!FA103","v":52.333333333333336},{"$f":"data1!FB103","v":51.888888888888886},{"$f":"data1!FC103","v":54.020052799753834},{"$f":"data1!FD103","v":55.892911086800318},{"$f":"data1!FE103","v":52.063926005525246},{"$f":"data1!FF103","v":47.111111111111114},{"$f":"data1!FG103","v":50.954462135143444},{"$f":"data1!FH103","v":55.5},{"$f":"data1!FI103","v":52.656299606483799},{"$f":"data1!FJ103","v":58.154141355785846},{"$f":"data1!FK103","v":50.136683425511471},{"$f":"data1!FL103","v":55.560074851866077},{"$f":"data1!FM103","v":47.016982764886833},{"$f":"data1!FN103","v":55.111111111111114},{"$f":"data1!FO103","v":50.772038356423359},{"$f":"data1!FP103","v":53.611111111111114},{"$f":"data1!FQ103","v":51.194232331939055},{"$f":"data1!FR103","v":54.777777777777779},{"$f":"data1!FS103","v":61.149202220134335},{"$f":"data1!FT103","v":49.259648392688405},{"$f":"data1!FU103","v":54.105162641122519},{"$f":"data1!FV103","v":57.388888888888886},{"$f":"data1!FW103","v":59.380102559411284},{"$f":"data1!FX103","v":47.621730358242473},{"$f":"data1!FY103","v":51.944444444444443},{"$f":"data1!FZ103","v":54.277777777777779},{"$f":"data1!GA103","v":46.722222222222221},{"$f":"data1!GB103","v":56.555555555555557},{"$f":"data1!GC103","v":56.777777777777779},{"$f":"data1!GD103","v":56.555555555555557},{"$f":"data1!GE103","v":55.277777777777779},{"$f":"data1!GF103","v":57},{"$f":"data1!GG103","v":50.25441932175363},{"$f":"data1!GH103","v":55.750704325959333},{"$f":"data1!GI103","v":57.055555555555557},{"$f":"data1!GJ103","v":50.442367962757722},{"$f":"data1!GK103","v":52.818033858413372},{"$f":"data1!GL103","v":52.744418730134285},{"$f":"data1!GM103","v":53.5},{"$f":"data1!GN103","v":57.166666666666664},{"$f":"data1!GO103","v":54.590657004862592},{"$f":"data1!GP103","v":46.010456283882242},{"$f":"data1!GQ103","v":50.354733001275925},{"$f":"data1!GR103","v":47.419104790615279},{"$f":"data1!GS103","v":47.65866049775051},{"$f":"data1!GT103","v":48.055555555555557},{"$f":"data1!GU103","v":51.658239853286297},{"$f":"data1!GV103","v":55.611111111111114},{"$f":"data1!GW103","v":51.941731167222478},{"$f":"data1!GX103","v":52.053007497099713},{"$f":"data1!GY103","v":54.222222222222221},{"$f":"data1!GZ103","v":49.111111111111114},{"$f":"data1!HA103","v":56.037103705006068},{"$f":"data1!HB103","v":56.777777777777779},{"$f":"data1!HC103","v":47.101240251420549},{"$f":"data1!HD103","v":55.444444444444443},{"$f":"data1!HE103","v":58.555555555555557},{"$f":"data1!HF103","v":48.222222222222221},{"$f":"data1!HG103","v":51.055555555555557},{"$f":"data1!HH103","v":49.444444444444443},{"$f":"data1!HI103","v":56.166666666666664},{"$f":"data1!HJ103","v":45.750712843756887},{"$f":"data1!HK103","v":50.334218662387357},{"$f":"data1!HL103","v":54.788639393106564},{"$f":"data1!HM103","v":56.055555555555557},{"$f":"data1!HN103","v":51.412502766628485},{"$f":"data1!HO103","v":54.166666666666664},{"$f":"data1!HP103","v":50.333333333333336},{"$f":"data1!HQ103","v":54.722222222222221},{"$f":"data1!HR103","v":51.833333333333336},{"$f":"data1!HS103","v":56.777777777777779},{"$f":"data1!HT103","v":51.125973191643965},{"$f":"data1!HU103","v":49.881667184751223},{"$f":"data1!HV103","v":55.833333333333336},{"$f":"data1!HW103","v":51.55157308793418},{"$f":"data1!HX103","v":46.944444444444443},{"$f":"data1!HY103","v":48.721801523423814},{"$f":"data1!HZ103","v":53.911449153720959},{"$f":"data1!IA103","v":47.366248600818068},{"$f":"data1!IB103","v":51.666666666666664},{"$f":"data1!IC103","v":46.849405501615315},{"$f":"data1!ID103","v":46.832281370123752},{"$f":"data1!IE103","v":44.968700763757774},{"$f":"data1!IF103","v":50.278493236870169},{"$f":"data1!IG103","v":51.421081934941029},{"$f":"data1!IH103","v":51.403904546277843},{"$f":"data1!II103","v":48.273199879680107},{"$f":"data1!IJ103","v":53.976792721007342},{"$f":"data1!IK103","v":48.277777777777779},{"$f":"data1!IL103","v":49.434227747626593},{"$f":"data1!IM103","v":57.611111111111114},{"$f":"data1!IN103","v":49.90754265518212},{"$f":"data1!IO103","v":50.5839995106789},{"$f":"data1!IP103","v":48.333333333333336},{"$f":"data1!IQ103","v":50.642870082626814},{"$f":"data1!IR103","v":61.555555555555557},{"$f":"data1!IS103","v":58.611111111111114},{"$f":"data1!IT103","v":47.894975527363094},{"$f":"data1!IU103","v":53.479785406184092},{"$f":"data1!IV103","v":53.5},{"$f":"data1!IW103","v":49.979214680879508},{"$f":"data1!IX103","v":52.33116283103621},{"$f":"data1!IY103","v":51.732151705185778},{"$f":"data1!IZ103","v":54.666666666666664},{"$f":"data1!JA103","v":50.791278056304492},{"$f":"data1!JB103","v":47.555555555555557},{"$f":"data1!JC103","v":53.886027082889569},{"$f":"data1!JD103","v":54.365535562100554},{"$f":"data1!JE103","v":50.51449644560654},{"$f":"data1!JF103","v":52.055555555555557},{"$f":"data1!JG103","v":51.666666666666664},{"$f":"data1!JH103","v":52.132127013712555},{"$f":"data1!JI103","v":57.611111111111114},{"$f":"data1!JJ103","v":48.888888888888886},{"$f":"data1!JK103","v":50.890226946390307},{"$f":"data1!JL103","v":45.833333333333336},{"$f":"data1!JM103","v":52.335689595738259},{"$f":"data1!JN103","v":53.178446609226114},{"$f":"data1!JO103","v":55.305556657111531},{"$f":"data1!JP103","v":55.806071397236323},{"$f":"data1!JQ103","v":54.777777777777779},{"$f":"data1!JR103","v":53.554404177764283},{"$f":"data1!JS103","v":51.777777777777779},{"$f":"data1!JT103","v":48.444444444444443},{"$f":"data1!JU103","v":58.111111111111114},{"$f":"data1!JV103","v":53.666666666666664},{"$f":"data1!JW103","v":52.463038252963045},{"$f":"data1!JX103","v":58.5},{"$f":"data1!JY103","v":54.053967445284059},{"$f":"data1!JZ103","v":58.676745345728136},{"$f":"data1!KA103","v":50.905593743521543},{"$f":"data1!KB103","v":55.297127755770028},{"$f":"data1!KC103","v":51.944444444444443},{"$f":"data1!KD103","v":53.376817262856221},{"$f":"data1!KE103","v":50.712754526130652},{"$f":"data1!KF103","v":49.597085527764861},{"$f":"data1!KG103","v":56.666666666666664},{"$f":"data1!KH103","v":52.944444444444443},{"$f":"data1!KI103","v":58.555555555555557},{"$f":"data1!KJ103","v":51.187919036865871},{"$f":"data1!KK103","v":52.093045880926802},{"$f":"data1!KL103","v":54.611111111111114},{"$f":"data1!KM103","v":53.708906297186907},{"$f":"data1!KN103","v":52.936946022487575},{"$f":"data1!KO103","v":49.97321829825642},{"$f":"data1!KP103","v":56.488531197109715},{"$f":"data1!KQ103","v":53.197970970892769},{"$f":"data1!KR103","v":56.166666666666664},{"$f":"data1!KS103","v":55.410384085342812},{"$f":"data1!KT103","v":55.095546776288032},{"$f":"data1!KU103","v":48.94319265170023},{"$f":"data1!KV103","v":55.013121262583724},{"$f":"data1!KW103","v":48.5},{"$f":"data1!KX103","v":56.055555555555557},{"$f":"data1!KY103","v":45.111111111111114},{"$f":"data1!KZ103","v":55.222222222222221},{"$f":"data1!LA103","v":56.055555555555557},{"$f":"data1!LB103","v":56.150572763815347},{"$f":"data1!LC103","v":42.888888888888886},{"$f":"data1!LD103","v":54.320919878077341},{"$f":"data1!LE103","v":49.563659486046241},{"$f":"data1!LF103","v":58.611111111111114},{"$f":"data1!LG103","v":53.964549517235731},{"$f":"data1!LH103","v":51.985689294966491},{"$f":"data1!LI103","v":52.092669199743405},{"$f":"data1!LJ103","v":62},{"$f":"data1!LK103","v":53},{"$f":"data1!LL103","v":54.573420410203397},{"$f":"data1!LM103","v":56.555555555555557},{"$f":"data1!LN103","v":53.388888888888886},{"$f":"data1!LO103","v":59.777777777777779},{"$f":"data1!LP103","v":51.371586252302933},{"$f":"data1!LQ103","v":52.048809401425565},{"$f":"data1!LR103","v":46.388888888888886},{"$f":"data1!LS103","v":52.214113618328582},{"$f":"data1!LT103","v":54.31877685517},{"$f":"data1!LU103","v":55.048045137588616},{"$f":"data1!LV103","v":53.976135182367607},{"$f":"data1!LW103","v":50.498403422456619},{"$f":"data1!LX103","v":60.388888888888886},{"$f":"data1!LY103","v":54.386052477553513},{"$f":"data1!LZ103","v":48.795852438010542},{"$f":"data1!MA103","v":53.5},{"$f":"data1!MB103","v":54.055555555555557},{"$f":"data1!MC103","v":54.722222222222221},{"$f":"data1!MD103","v":50.388850966609958},{"$f":"data1!ME103","v":55.41060937207466},{"$f":"data1!MF103","v":49.5},{"$f":"data1!MG103","v":54.833333333333336},{"$f":"data1!MH103","v":52.888876307103018},{"$f":"data1!MI103","v":52.166666666666664},{"$f":"data1!MJ103","v":54.166666666666664},{"$f":"data1!MK103","v":52.622140591213878},{"$f":"data1!ML103","v":49.111111111111114},{"$f":"data1!MM103","v":54.649143743974811},{"$f":"data1!MN103","v":50.706691576385367},{"$f":"data1!MO103","v":54.666666666666664},{"$f":"data1!MP103","v":59.833333333333336},{"$f":"data1!MQ103","v":51.777777777777779},{"$f":"data1!MR103","v":59.555555555555557},{"$f":"data1!MS103","v":59.555555555555557},{"$f":"data1!MT103","v":50.611111111111114},{"$f":"data1!MU103","v":52.463037678866243},{"$f":"data1!MV103","v":55.5},{"$f":"data1!MW103","v":58},{"$f":"data1!MX103","v":53.23367336077159},{"$f":"data1!MY103","v":47.482588917100855},{"$f":"data1!MZ103","v":49.777777777777779},{"$f":"data1!NA103","v":53.64537110227117},{"$f":"data1!NB103","v":49.788232698567384},{"$f":"data1!NC103","v":54.277777777777779},{"$f":"data1!ND103","v":57.888888888888886},{"$f":"data1!NE103","v":48.222222222222221},{"$f":"data1!NF103","v":59.166666666666664},{"$f":"data1!NG103","v":53.911219621922029},{"$f":"data1!NH103","v":55.944444444444443},{"$f":"data1!NI103","v":49.166666666666664},{"$f":"data1!NJ103","v":57.277777777777779},{"$f":"data1!NK103","v":54.067555352549498},{"$f":"data1!NL103","v":57.729483411762509},{"$f":"data1!NM103","v":46.626987389823491},{"$f":"data1!NN103","v":53.574545450715533},{"$f":"data1!NO103","v":57.210835606177184},{"$f":"data1!NP103","v":49.430695616231802},{"$f":"data1!NQ103","v":51.555695373206248},{"$f":"data1!NR103","v":47.642909980890636},{"$f":"data1!NS103","v":55.944444444444443},{"$f":"data1!NT103","v":56.555555555555557},{"$f":"data1!NU103","v":56.055555555555557},{"$f":"data1!NV103","v":57.777777777777779},{"$f":"data1!NW103","v":52.811805952894602},{"$f":"data1!NX103","v":55.722222222222221},{"$f":"data1!NY103","v":50.666666666666664},{"$f":"data1!NZ103","v":54.495855069141079},{"$f":"data1!OA103","v":54.833333333333336},{"$f":"data1!OB103","v":51.65308664604467},{"$f":"data1!OC103","v":55.888888888888886},{"$f":"data1!OD103","v":52.585534892797924},{"$f":"data1!OE103","v":51.923239348932185},{"$f":"data1!OF103","v":56.277777777777779},{"$f":"data1!OG103","v":59.12453258511718},{"$f":"data1!OH103","v":49.333333333333336},{"$f":"data1!OI103","v":57.246276822788865},{"$f":"data1!OJ103","v":47.166666666666664},{"$f":"data1!OK103","v":47.758207833265359},{"$f":"data1!OL103","v":54.055555555555557},{"$f":"data1!OM103","v":57.666666666666664},{"$f":"data1!ON103","v":57.722222222222221},{"$f":"data1!OO103","v":57.333333333333336},{"$f":"data1!OP103","v":55.944444444444443},{"$f":"data1!OQ103","v":53.555555555555557},{"$f":"data1!OR103","v":52.555042092062138},{"$f":"data1!OS103","v":49.679135928531551},{"$f":"data1!OT103","v":51.722222222222221},{"$f":"data1!OU103","v":53.28817785114019},{"$f":"data1!OV103","v":49.318237589578757},{"$f":"data1!OW103","v":59.247262341320493},{"$f":"data1!OX103","v":46.611111111111114},{"$f":"data1!OY103","v":54.71661337654816},{"$f":"data1!OZ103","v":51.767824140305379},{"$f":"data1!PA103","v":53.703489835004291},{"$f":"data1!PB103","v":50.236671815461627},{"$f":"data1!PC103","v":59.611111111111114},{"$f":"data1!PD103","v":58.666666666666664},{"$f":"data1!PE103","v":54.024332152491674},{"$f":"data1!PF103","v":48.571741376274595},{"$f":"data1!PG103","v":55.388888888888886},{"$f":"data1!PH103","v":53.35507463865914},{"$f":"data1!PI103","v":50.666666666666664},{"$f":"data1!PJ103","v":53.263550706941473},{"$f":"data1!PK103","v":52.444444444444443},{"$f":"data1!PL103","v":55.944444444444443},{"$f":"data1!PM103","v":54.166666666666664},{"$f":"data1!PN103","v":52.555555555555557},{"$f":"data1!PO103","v":53.99841402318944},{"$f":"data1!PP103","v":55.444444444444443},{"$f":"data1!PQ103","v":50.187051985372264},{"$f":"data1!PR103","v":45.944444444444443},{"$f":"data1!PS103","v":49.005929166219516},{"$f":"data1!PT103","v":50.160907890190543},{"$f":"data1!PU103","v":59.666666666666664},{"$f":"data1!PV103","v":55.444444444444443},{"$f":"data1!PW103","v":49.444444444444443},{"$f":"data1!PX103","v":50.589302424102648},{"$f":"data1!PY103","v":53.543601613614015},{"$f":"data1!PZ103","v":45.722222222222221},{"$f":"data1!QA103","v":52.065011782048501},{"$f":"data1!QB103","v":56.645466569544375},{"$f":"data1!QC103","v":56.944444444444443},{"$f":"data1!QD103","v":58.555555555555557},{"$f":"data1!QE103","v":51.067925365458947},{"$f":"data1!QF103","v":54.777777777777779},{"$f":"data1!QG103","v":54.745633696598148},{"$f":"data1!QH103","v":55.222222222222221},{"$f":"data1!QI103","v":54.111111111111114},{"$f":"data1!QJ103","v":48.888888888888886},{"$f":"data1!QK103","v":56.136560369849398},{"$f":"data1!QL103","v":54.055555555555557},{"$f":"data1!QM103","v":60.277777777777779},{"$f":"data1!QN103","v":55.722222222222221},{"$f":"data1!QO103","v":53.277777777777779},{"$f":"data1!QP103","v":51.8257990220187},{"$f":"data1!QQ103","v":58.611111111111114},{"$f":"data1!QR103","v":48.232695091127653},{"$f":"data1!QS103","v":52.214507619431522},{"$f":"data1!QT103","v":55.833333333333336},{"$f":"data1!QU103","v":58.089471254243385},{"$f":"data1!QV103","v":52.27205963932964},{"$f":"data1!QW103","v":49.417920021984962},{"$f":"data1!QX103","v":48.91269994302484},{"$f":"data1!QY103","v":55.5},{"$f":"data1!QZ103","v":55.908238647372031},{"$f":"data1!RA103","v":55.201342253407127},{"$f":"data1!RB103","v":55.833333333333336},{"$f":"data1!RC103","v":56.77553530706453},{"$f":"data1!RD103","v":58.111111111111114},{"$f":"data1!RE103","v":55.042944944490252},{"$f":"data1!RF103","v":55.440254845073213},{"$f":"data1!RG103","v":53.055555555555557},{"$f":"data1!RH103","v":49.111111111111114},{"$f":"data1!RI103","v":54.532203789346468},{"$f":"data1!RJ103","v":57.152370481536863},{"$f":"data1!RK103","v":49.998893823930224},{"$f":"data1!RL103","v":46.555555555555557},{"$f":"data1!RM103","v":56.722222222222221},{"$f":"data1!RN103","v":54.222222222222221},{"$f":"data1!RO103","v":46.388888888888886},{"$f":"data1!RP103","v":48.555555555555557},{"$f":"data1!RQ103","v":55.958764447318487},{"$f":"data1!RR103","v":55.722222222222221},{"$f":"data1!RS103","v":50.895833875641991},{"$f":"data1!RT103","v":53.438114607298758},{"$f":"data1!RU103","v":59.611111111111114},{"$f":"data1!RV103","v":53.060390316400706},{"$f":"data1!RW103","v":51.97075024270773},{"$f":"data1!RX103","v":52.342413900229985},{"$f":"data1!RY103","v":44.570970161050582},{"$f":"data1!RZ103","v":56.055555555555557},{"$f":"data1!SA103","v":49.844334222589474},{"$f":"data1!SB103","v":53.56761532363825},{"$f":"data1!SC103","v":51.734981318098335},{"$f":"data1!SD103","v":53.185661118635203},{"$f":"data1!SE103","v":55.338655814487112},{"$f":"data1!SF103","v":55.944444444444443},{"$f":"data1!SG103","v":57.777777777777779},{"$f":"data1!SH103","v":56.388888888888886},{"$f":"data1!SI103","v":47.641784408674376},{"$f":"data1!SJ103","v":53.923523024188512},{"$f":"data1!SK103","v":56.611111111111114},{"$f":"data1!SL103","v":57.21185170831609},{"$f":"data1!SM103","v":55.152071900869998},{"$f":"data1!SN103","v":60.444444444444443},{"$f":"data1!SO103","v":52.815922747189688},{"$f":"data1!SP103","v":49.608413061274625},{"$f":"data1!SQ103","v":44.5},{"$f":"data1!SR103","v":52.743520216656151},{"$f":"data1!SS103","v":40.888888888888886},{"$f":"data1!ST103","v":48.944444444444443},{"$f":"data1!SU103","v":53.891350599419305},{"$f":"data1!SV103","v":59.166666666666664},{"$f":"data1!SW103","v":54.222222222222221},{"$f":"data1!SX103","v":54.68141991941522},{"$f":"data1!SY103","v":57.388888888888886},{"$f":"data1!SZ103","v":54.209186942963157},{"$f":"data1!TA103","v":56.196683452363501},{"$f":"data1!TB103","v":60.606292099838548},{"$f":"data1!TC103","v":57.329758124617143},{"$f":"data1!TD103","v":49.163180937708347},{"$f":"data1!TE103","v":51.600621656920403},{"$f":"data1!TF103","v":45.461493903563458},{"$f":"data1!TG103","v":54.362689471990571},{"$f":"data1!TH103","v":46.180961900337962},{"$f":"data1!TI103","v":50.898640748351085},{"$f":"data1!TJ103","v":52.351639374779111},{"$f":"data1!TK103","v":51.666666666666664},{"$f":"data1!TL103","v":54.611111111111114},{"$f":"data1!TM103","v":57.153577482126401},{"$f":"data1!TN103","v":61.333333333333336},{"$f":"data1!TO103","v":50.377196167782138},{"$f":"data1!TP103","v":51.666666666666664},{"$f":"data1!TQ103","v":51.90376854251258},{"$f":"data1!TR103","v":55.833532382788718},{"$f":"data1!TS103","v":54.555555555555557},{"$f":"data1!TT103","v":51.333333333333336},{"$f":"data1!TU103","v":51.944444444444443},{"$f":"data1!TV103","v":51.375234082982168},{"$f":"data1!TW103","v":50.168271179751919},{"$f":"data1!TX103","v":41.944444444444443},{"$f":"data1!TY103","v":47.555555555555557},{"$f":"data1!TZ103","v":51.764666642735655},{"$f":"data1!UA103","v":55.896820289234455},{"$f":"data1!UB103","v":51.138761736499887},{"$f":"data1!UC103","v":56.611111111111114},{"$f":"data1!UD103","v":53.303016276401678},{"$f":"data1!UE103","v":56.555555555555557},{"$f":"data1!UF103","v":56.590069243446365},{"$f":"data1!UG103","v":55.33192157285675},{"$f":"data1!UH103","v":57.06021724632847},{"$f":"data1!UI103","v":50.282357784324617},{"$f":"data1!UJ103","v":58.055555555555557},{"$f":"data1!UK103","v":42.833333333333336},{"$f":"data1!UL103","v":54.722222222222221},{"$f":"data1!UM103","v":53.919720650269923},{"$f":"data1!UN103","v":50.111111111111114},{"$f":"data1!UO103","v":53.096613380466387},{"$f":"data1!UP103","v":55.17527809647796},{"$f":"data1!UQ103","v":53.777777777777779},{"$f":"data1!UR103","v":47.669409742436088},{"$f":"data1!US103","v":48.480653567780323},{"$f":"data1!UT103","v":55.333333333333336},{"$f":"data1!UU103","v":57.444444444444443},{"$f":"data1!UV103","v":49.38896106005263},{"$f":"data1!UW103","v":59.722222222222221},{"$f":"data1!UX103","v":52.029382567477782},{"$f":"data1!UY103","v":52.055555555555557},{"$f":"data1!UZ103","v":51.317694068560385},{"$f":"data1!VA103","v":54.166666666666664},{"$f":"data1!VB103","v":51.942450465886196},{"$f":"data1!VC103","v":52.944797530557679},{"$f":"data1!VD103","v":48.277777777777779},{"$f":"data1!VE103","v":58.666666666666664},{"$f":"data1!VF103","v":50.731804622264718},{"$f":"data1!VG103","v":54.497655513601401},{"$f":"data1!VH103","v":45.944444444444443},{"$f":"data1!VI103","v":58.385371190360758},{"$f":"data1!VJ103","v":53.055555555555557},{"$f":"data1!VK103","v":53.277777777777779},{"$f":"data1!VL103","v":52.508181763239364},{"$f":"data1!VM103","v":56.833333333333336},{"$f":"data1!VN103","v":55.833333333333336},{"$f":"data1!VO103","v":51.111111111111114},{"$f":"data1!VP103","v":54.888888888888886},{"$f":"data1!VQ103","v":52.222222222222221},{"$f":"data1!VR103","v":49.570648204959561},{"$f":"data1!VS103","v":47.005536999670277},{"$f":"data1!VT103","v":52.668119138137257},{"$f":"data1!VU103","v":55.833333333333336},{"$f":"data1!VV103","v":61.444444444444443},{"$f":"data1!VW103","v":49.611111111111114},{"$f":"data1!VX103","v":50.054696391643624},{"$f":"data1!VY103","v":51.171473633914232},{"$f":"data1!VZ103","v":53.490640738951598},{"$f":"data1!WA103","v":56.611111111111114},{"$f":"data1!WB103","v":53.555555555555557},{"$f":"data1!WC103","v":47.725278332031849},{"$f":"data1!WD103","v":47.854457118004007},{"$f":"data1!WE103","v":52.720154614635604},{"$f":"data1!WF103","v":54.884699198553555},{"$f":"data1!WG103","v":54.277777777777779},{"$f":"data1!WH103","v":48.568864994103464},{"$f":"data1!WI103","v":51.5189082320776},{"$f":"data1!WJ103","v":47.287148693207634},{"$f":"data1!WK103","v":53.444444444444443},{"$f":"data1!WL103","v":50.692244152627936},{"$f":"data1!WM103","v":52.722222222222221},{"$f":"data1!WN103","v":50.762082071727868},{"$f":"data1!WO103","v":59.166666666666664},{"$f":"data1!WP103","v":51.991807516334255},{"$f":"data1!WQ103","v":54.777777777777779},{"$f":"data1!WR103","v":52.06735957815863},{"$f":"data1!WS103","v":55.944444444444443},{"$f":"data1!WT103","v":52.088154814354667},{"$f":"data1!WU103","v":54.222072465309743},{"$f":"data1!WV103","v":58.055555555555557},{"$f":"data1!WW103","v":57.019527739113805},{"$f":"data1!WX103","v":56},{"$f":"data1!WY103","v":52.277777777777779},{"$f":"data1!WZ103","v":53.666666666666664},{"$f":"data1!XA103","v":56.807360712968247},{"$f":"data1!XB103","v":53.888888888888886},{"$f":"data1!XC103","v":46.695891612808936},{"$f":"data1!XD103","v":49.911421246623583},{"$f":"data1!XE103","v":52.65392230967668},{"$f":"data1!XF103","v":50.297773342099823},{"$f":"data1!XG103","v":51.944444444444443},{"$f":"data1!XH103","v":56.256119603354136},{"$f":"data1!XI103","v":55.388888888888886},{"$f":"data1!XJ103","v":58.888888888888886},{"$f":"data1!XK103","v":52.833333333333336},{"$f":"data1!XL103","v":54.222222222222221},{"$f":"data1!XM103","v":53.722222222222221},{"$f":"data1!XN103","v":46.333333333333336},{"$f":"data1!XO103","v":53.722222222222221},{"$f":"data1!XP103","v":49.30856012896956},{"$f":"data1!XQ103","v":53.5},{"$f":"data1!XR103","v":52.150938905857181},{"$f":"data1!XS103","v":56.333333333333336},{"$f":"data1!XT103","v":52.202555417921111},{"$f":"data1!XU103","v":60.055555555555557},{"$f":"data1!XV103","v":52.244935845093629},{"$f":"data1!XW103","v":51.444444444444443},{"$f":"data1!XX103","v":59.611111111111114},{"$f":"data1!XY103","v":50.849971857875012},{"$f":"data1!XZ103","v":62.277777777777779},{"$f":"data1!YA103","v":44.549426767401393},{"$f":"data1!YB103","v":55.445072423465085},{"$f":"data1!YC103","v":57.888888888888886},{"$f":"data1!YD103","v":54.623167042975247},{"$f":"data1!YE103","v":56.944444444444443},{"$f":"data1!YF103","v":53.594491863684866},{"$f":"data1!YG103","v":48.611111111111114},{"$f":"data1!YH103","v":52.592451072961502},{"$f":"data1!YI103","v":55.973571011747794},{"$f":"data1!YJ103","v":52.273944764466286},{"$f":"data1!YK103","v":55},{"$f":"data1!YL103","v":53.24418224405472},{"$f":"data1!YM103","v":57.754701527218316},{"$f":"data1!YN103","v":44.444444444444443},{"$f":"data1!YO103","v":52.555555555555557},{"$f":"data1!YP103","v":56.666249513816339},{"$f":"data1!YQ103","v":53.480273073684309},{"$f":"data1!YR103","v":42.5},{"$f":"data1!YS103","v":50.9242614845272},{"$f":"data1!YT103","v":54.414681940966496},{"$f":"data1!YU103","v":56.666666666666664},{"$f":"data1!YV103","v":41.944444444444443},{"$f":"data1!YW103","v":56.666666666666664},{"$f":"data1!YX103","v":47.295378134007237},{"$f":"data1!YY103","v":53.775184406091},{"$f":"data1!YZ103","v":50.790548654973144},{"$f":"data1!ZA103","v":47.990472272125366},{"$f":"data1!ZB103","v":54.803436415891866},{"$f":"data1!ZC103","v":55.364267240354984},{"$f":"data1!ZD103","v":52.077787420340314},{"$f":"data1!ZE103","v":49.006443651369779},{"$f":"data1!ZF103","v":55.140726286610594},{"$f":"data1!ZG103","v":53.947128158187709},{"$f":"data1!ZH103","v":57.944444444444443},{"$f":"data1!ZI103","v":49.886781159779325},{"$f":"data1!ZJ103","v":53.055555555555557},{"$f":"data1!ZK103","v":54.828845623226442},{"$f":"data1!ZL103","v":51.068308769717497},{"$f":"data1!ZM103","v":55.444444444444443},{"$f":"data1!ZN103","v":55.855679309123268},{"$f":"data1!ZO103","v":53.561236747455062},{"$f":"data1!ZP103","v":57.611111111111114},{"$f":"data1!ZQ103","v":54.527918835891192},{"$f":"data1!ZR103","v":53.833430353611597},{"$f":"data1!ZS103","v":54.289330072216863},{"$f":"data1!ZT103","v":47.171119117091884},{"$f":"data1!ZU103","v":44},{"$f":"data1!ZV103","v":49.712787518564703},{"$f":"data1!ZW103","v":50.226246622284151},{"$f":"data1!ZX103","v":48.711979255687567},{"$f":"data1!ZY103","v":54.557210488373883},{"$f":"data1!ZZ103","v":55.30095457578237},{"$f":"data1!AAA103","v":48.746704467009216},{"$f":"data1!AAB103","v":52.225759061204215},{"$f":"data1!AAC103","v":54.611111111111114},{"$f":"data1!AAD103","v":59},{"$f":"data1!AAE103","v":50.675515685280828},{"$f":"data1!AAF103","v":46.444444444444443},{"$f":"data1!AAG103","v":59},{"$f":"data1!AAH103","v":50.431106397711133},{"$f":"data1!AAI103","v":51.777777777777779},{"$f":"data1!AAJ103","v":54.986778738189415},{"$f":"data1!AAK103","v":56.661216459021631},{"$f":"data1!AAL103","v":52.775067244323324},{"$f":"data1!AAM103","v":55.26780003603514},{"$f":"data1!AAN103","v":49.722222222222221},{"$f":"data1!AAO103","v":54.222222222222221},{"$f":"data1!AAP103","v":55.228025077186381},{"$f":"data1!AAQ103","v":54.515325917503588},{"$f":"data1!AAR103","v":51.722222222222221},{"$f":"data1!AAS103","v":48.106695366037961},{"$f":"data1!AAT103","v":53.12077393673755},{"$f":"data1!AAU103","v":45.777777777777779},{"$f":"data1!AAV103","v":57.888888888888886},{"$f":"data1!AAW103","v":52.222222222222221},{"$f":"data1!AAX103","v":52.718401354215594},{"$f":"data1!AAY103","v":59.166666666666664},{"$f":"data1!AAZ103","v":51.326634647077348},{"$f":"data1!ABA103","v":52.944444444444443},{"$f":"data1!ABB103","v":48.166666666666664},{"$f":"data1!ABC103","v":56.944444444444443},{"$f":"data1!ABD103","v":56.055555555555557},{"$f":"data1!ABE103","v":46.388888888888886},{"$f":"data1!ABF103","v":50.824110484837348},{"$f":"data1!ABG103","v":52.579598454464644},{"$f":"data1!ABH103","v":54.073556610095828},{"$f":"data1!ABI103","v":49.451660387934552},{"$f":"data1!ABJ103","v":53.555555555555557},{"$f":"data1!ABK103","v":49.246981730917582},{"$f":"data1!ABL103","v":53.055555555555557},{"$f":"data1!ABM103","v":57.111111111111114},{"$f":"data1!ABN103","v":51.946047916109841},{"$f":"data1!ABO103","v":41.333333333333336},{"$f":"data1!ABP103","v":53.766111229507459},{"$f":"data1!ABQ103","v":47.033601852989044},{"$f":"data1!ABR103","v":57.722222222222221},{"$f":"data1!ABS103","v":51.384043423266725},{"$f":"data1!ABT103","v":52.793618959612758},{"$f":"data1!ABU103","v":56.700235041435569},{"$f":"data1!ABV103","v":49.777810611519072},{"$f":"data1!ABW103","v":48.611111111111114},{"$f":"data1!ABX103","v":53.726604258275827},{"$f":"data1!ABY103","v":56.18850901948953},{"$f":"data1!ABZ103","v":48.037840812757857},{"$f":"data1!ACA103","v":55.611111111111114},{"$f":"data1!ACB103","v":56.055555555555557},{"$f":"data1!ACC103","v":57.298611396197188},{"$f":"data1!ACD103","v":52.532945956273849},{"$f":"data1!ACE103","v":44.111111111111114},{"$f":"data1!ACF103","v":54.777777777777779},{"$f":"data1!ACG103","v":54.222222222222221},{"$f":"data1!ACH103","v":57.722222222222221},{"$f":"data1!ACI103","v":49.107459677036914},{"$f":"data1!ACJ103","v":53.292685567026346},{"$f":"data1!ACK103","v":58.555555555555557},{"$f":"data1!ACL103","v":57.833333333333336},{"$f":"data1!ACM103","v":54.115867317159122},{"$f":"data1!ACN103","v":58.5},{"$f":"data1!ACO103","v":55.277777777777779},{"$f":"data1!ACP103","v":54.524067720532521},{"$f":"data1!ACQ103","v":56.839931744913834},{"$f":"data1!ACR103","v":52.738996858967923},{"$f":"data1!ACS103","v":54.640629576451637},{"$f":"data1!ACT103","v":48.388888888888886},{"$f":"data1!ACU103","v":58.666666666666664},{"$f":"data1!ACV103","v":53.73346129118012},{"$f":"data1!ACW103","v":56.681505555091022},{"$f":"data1!ACX103","v":52.288621369613878},{"$f":"data1!ACY103","v":56.835458177584144},{"$f":"data1!ACZ103","v":51.634910236922529},{"$f":"data1!ADA103","v":57.642115927587355},{"$f":"data1!ADB103","v":50.401360293730427},{"$f":"data1!ADC103","v":59.611111111111114},{"$f":"data1!ADD103","v":52.605920532231131},{"$f":"data1!ADE103","v":57.944444444444443},{"$f":"data1!ADF103","v":52.444444444444443},{"$f":"data1!ADG103","v":51.715695045123923},{"$f":"data1!ADH103","v":53.938500476662348},{"$f":"data1!ADI103","v":53.99214963688658},{"$f":"data1!ADJ103","v":55.068022682710151},{"$f":"data1!ADK103","v":50.539652488163483},{"$f":"data1!ADL103","v":55.333333333333336},{"$f":"data1!ADM103","v":56.666666666666664},{"$f":"data1!ADN103","v":49.521176162955726},{"$f":"data1!ADO103","v":49.34671691160753},{"$f":"data1!ADP103","v":58.444444444444443},{"$f":"data1!ADQ103","v":58},{"$f":"data1!ADR103","v":61},{"$f":"data1!ADS103","v":50.941463421533349},{"$f":"data1!ADT103","v":54.16200831035232},{"$f":"data1!ADU103","v":48.832798480136248},{"$f":"data1!ADV103","v":53.944444444444443},{"$f":"data1!ADW103","v":48.763252092588502},{"$f":"data1!ADX103","v":48.758055219207961},{"$f":"data1!ADY103","v":53.330695319786543},{"$f":"data1!ADZ103","v":54.388888888888886},{"$f":"data1!AEA103","v":59.833333333333336},{"$f":"data1!AEB103","v":52.920634656529948},{"$f":"data1!AEC103","v":55.444444444444443},{"$f":"data1!AED103","v":56.722222222222221},{"$f":"data1!AEE103","v":55.333333333333336},{"$f":"data1!AEF103","v":42.444444444444443},{"$f":"data1!AEG103","v":54.5},{"$f":"data1!AEH103","v":52.368507428514555},{"$f":"data1!AEI103","v":52.936937944404576},{"$f":"data1!AEJ103","v":54.888516309355808},{"$f":"data1!AEK103","v":45.722222222222221},{"$f":"data1!AEL103","v":56.93162372536878},{"$f":"data1!AEM103","v":55.944444444444443},{"$f":"data1!AEN103","v":57.833333333333336},{"$f":"data1!AEO103","v":52.409240089345317},{"$f":"data1!AEP103","v":57.236139018754393},{"$f":"data1!AEQ103","v":55.333333333333336},{"$f":"data1!AER103","v":53.925365501230644},{"$f":"data1!AES103","v":54.055430208318427},{"$f":"data1!AET103","v":52.333333333333336},{"$f":"data1!AEU103","v":51.383371968263724},{"$f":"data1!AEV103","v":50.431622686010684},{"$f":"data1!AEW103","v":56.154707742307657},{"$f":"data1!AEX103","v":51.228662879656085},{"$f":"data1!AEY103","v":50.898640748351092},{"$f":"data1!AEZ103","v":55.222222222222221},{"$f":"data1!AFA103","v":50.338484779760677},{"$f":"data1!AFB103","v":52.904832606300268},{"$f":"data1!AFC103","v":50.119567850087257},{"$f":"data1!AFD103","v":53.555555555555557},{"$f":"data1!AFE103","v":56.111111111111114},{"$f":"data1!AFF103","v":51.357718921528324},{"$f":"data1!AFG103","v":49.186961569796068},{"$f":"data1!AFH103","v":54.888888888888886},{"$f":"data1!AFI103","v":49.888888888888886},{"$f":"data1!AFJ103","v":50.888888888888886},{"$f":"data1!AFK103","v":58.722222222222221},{"$f":"data1!AFL103","v":56.243566636973036},{"$f":"data1!AFM103","v":56.833333333333336},{"$f":"data1!AFN103","v":57.333333333333336},{"$f":"data1!AFO103","v":53.666666666666664},{"$f":"data1!AFP103","v":43.489123689380982},{"$f":"data1!AFQ103","v":56.035341050449318},{"$f":"data1!AFR103","v":49.333333333333336},{"$f":"data1!AFS103","v":48.777777777777779},{"$f":"data1!AFT103","v":46.357602168785355},{"$f":"data1!AFU103","v":52.944444444444443},{"$f":"data1!AFV103","v":50.725827496351599},{"$f":"data1!AFW103","v":50.362315067726868},{"$f":"data1!AFX103","v":47},{"$f":"data1!AFY103","v":54.333333333333336},{"$f":"data1!AFZ103","v":54.111111111111114},{"$f":"data1!AGA103","v":52.634909982394895},{"$f":"data1!AGB103","v":55.782922596579866},{"$f":"data1!AGC103","v":53.166666666666664},{"$f":"data1!AGD103","v":58.666666666666664},{"$f":"data1!AGE103","v":53.230428440844385},{"$f":"data1!AGF103","v":55.518789036695175},{"$f":"data1!AGG103","v":45.333333333333336},{"$f":"data1!AGH103","v":52.077424822750551},{"$f":"data1!AGI103","v":51.568184879520146},{"$f":"data1!AGJ103","v":52.616304184205461},{"$f":"data1!AGK103","v":59.055555555555557},{"$f":"data1!AGL103","v":56.666666666666664},{"$f":"data1!AGM103","v":50.012111844121186},{"$f":"data1!AGN103","v":57.467606513540481},{"$f":"data1!AGO103","v":60.444444444444443},{"$f":"data1!AGP103","v":53.066972341875385},{"$f":"data1!AGQ103","v":56.205026262691817},{"$f":"data1!AGR103","v":58.5},{"$f":"data1!AGS103","v":50.880621312413808},{"$f":"data1!AGT103","v":54.073641984978579},{"$f":"data1!AGU103","v":55.921106161004587},{"$f":"data1!AGV103","v":53.749047557321894},{"$f":"data1!AGW103","v":51.035604933925406},{"$f":"data1!AGX103","v":48.620971975457152},{"$f":"data1!AGY103","v":47.389864705810247},{"$f":"data1!AGZ103","v":48.286892714645624},{"$f":"data1!AHA103","v":56.222222222222221},{"$f":"data1!AHB103","v":55.171014876855601},{"$f":"data1!AHC103","v":50.592016155506208},{"$f":"data1!AHD103","v":58.111111111111114},{"$f":"data1!AHE103","v":57.611111111111114},{"$f":"data1!AHF103","v":54.722222222222221},{"$f":"data1!AHG103","v":47.187050818559925},{"$f":"data1!AHH103","v":48.97463933922765},{"$f":"data1!AHI103","v":51.253511764858438},{"$f":"data1!AHJ103","v":51.507658273897839},{"$f":"data1!AHK103","v":48.268459290911665},{"$f":"data1!AHL103","v":52.84186351411342},{"$f":"data1!AHM103","v":51.6699909932751},{"$f":"data1!AHN103","v":41.222222222222221},{"$f":"data1!AHO103","v":48.730078534577224},{"$f":"data1!AHP103","v":54.148305297200345},{"$f":"data1!AHQ103","v":52.760000508702078},{"$f":"data1!AHR103","v":48.444444444444443},{"$f":"data1!AHS103","v":49.912804996352328},{"$f":"data1!AHT103","v":53.730855375878861},{"$f":"data1!AHU103","v":45.337977541677191},{"$f":"data1!AHV103","v":54.277777777777779},{"$f":"data1!AHW103","v":50.5},{"$f":"data1!AHX103","v":53.722222222222221},{"$f":"data1!AHY103","v":50.944444444444443},{"$f":"data1!AHZ103","v":57.458862910937746},{"$f":"data1!AIA103","v":56.166666666666664},{"$f":"data1!AIB103","v":51.401763982818288},{"$f":"data1!AIC103","v":49.647441016373207},{"$f":"data1!AID103","v":51.48289631909924},{"$f":"data1!AIE103","v":46.611111111111114},{"$f":"data1!AIF103","v":46.444444444444443},{"$f":"data1!AIG103","v":52.888888888888886},{"$f":"data1!AIH103","v":51.932232404948429},{"$f":"data1!AII103","v":55.245589137212818},{"$f":"data1!AIJ103","v":54.649143743974811},{"$f":"data1!AIK103","v":57.709154903446198},{"$f":"data1!AIL103","v":55.666666666666664},{"$f":"data1!AIM103","v":48.341422147531063},{"$f":"data1!AIN103","v":50.63311727178553},{"$f":"data1!AIO103","v":56.613159250145742},{"$f":"data1!AIP103","v":52.650674823634326},{"$f":"data1!AIQ103","v":47.174139415610249},{"$f":"data1!AIR103","v":54.777777777777779},{"$f":"data1!AIS103","v":57.944444444444443},{"$f":"data1!AIT103","v":54.294724619119464},{"$f":"data1!AIU103","v":47.111111111111114},{"$f":"data1!AIV103","v":47.264536792167782},{"$f":"data1!AIW103","v":51.388888888888886},{"$f":"data1!AIX103","v":52.11491399041207},{"$f":"data1!AIY103","v":56.388888888888886},{"$f":"data1!AIZ103","v":48.533777225014695},{"$f":"data1!AJA103","v":51},{"$f":"data1!AJB103","v":51.18579480053009},{"$f":"data1!AJC103","v":51},{"$f":"data1!AJD103","v":57.888888888888886},{"$f":"data1!AJE103","v":48.993481476058903},{"$f":"data1!AJF103","v":55.444444444444443},{"$f":"data1!AJG103","v":54.732454422395286},{"$f":"data1!AJH103","v":51.368473891213142},{"$f":"data1!AJI103","v":55.833333333333336},{"$f":"data1!AJJ103","v":54.004066660406053},{"$f":"data1!AJK103","v":51.894748033036095},{"$f":"data1!AJL103","v":53.409229149776756},{"$f":"data1!AJM103","v":53.876685273087645},{"$f":"data1!AJN103","v":49.551315156655846},{"$f":"data1!AJO103","v":58.559050390060392},{"$f":"data1!AJP103","v":50.803604524712895},{"$f":"data1!AJQ103","v":53.605960978515782},{"$f":"data1!AJR103","v":51.2566629371807},{"$f":"data1!AJS103","v":57.333333333333336},{"$f":"data1!AJT103","v":59.944444444444443},{"$f":"data1!AJU103","v":56.333333333333336},{"$f":"data1!AJV103","v":51.532610998469664},{"$f":"data1!AJW103","v":59.666666666666664},{"$f":"data1!AJX103","v":58.388888888888886},{"$f":"data1!AJY103","v":57.777777777777779},{"$f":"data1!AJZ103","v":55},{"$f":"data1!AKA103","v":52.109223082238245},{"$f":"data1!AKB103","v":51},{"$f":"data1!AKC103","v":55},{"$f":"data1!AKD103","v":56.611111111111114},{"$f":"data1!AKE103","v":52.555555555555557},{"$f":"data1!AKF103","v":47.193941717198726},{"$f":"data1!AKG103","v":57.222222222222221},{"$f":"data1!AKH103","v":49.134560620749731},{"$f":"data1!AKI103","v":52.674573505081305},{"$f":"data1!AKJ103","v":46.813581176103199},{"$f":"data1!AKK103","v":51.111111111111114},{"$f":"data1!AKL103","v":54.518326902994978},{"$f":"data1!AKM103","v":50.370125679473176},{"$f":"data1!AKN103","v":48.743143866185321},{"$f":"data1!AKO103","v":47.648308939753875},{"$f":"data1!AKP103","v":59.333333333333336},{"$f":"data1!AKQ103","v":53.770631406814054},{"$f":"data1!AKR103","v":50.555555555555557},{"$f":"data1!AKS103","v":51.206603773361962},{"$f":"data1!AKT103","v":53.960806445154631},{"$f":"data1!AKU103","v":54.777777777777779},{"$f":"data1!AKV103","v":55.388888888888886},{"$f":"data1!AKW103","v":52.758463080013271},{"$f":"data1!AKX103","v":50.921686673689088},{"$f":"data1!AKY103","v":55.5},{"$f":"data1!AKZ103","v":53.988543966616149},{"$f":"data1!ALA103","v":53.722222222222221},{"$f":"data1!ALB103","v":48.880947443867996},{"$f":"data1!ALC103","v":52.25703691077473},{"$f":"data1!ALD103","v":55.944444444444443},{"$f":"data1!ALE103","v":49.105317210388648},{"$f":"data1!ALF103","v":53.514646811235203},{"$f":"data1!ALG103","v":49.469899058573361},{"$f":"data1!ALH103","v":55.777777777777779},{"$f":"data1!ALI103","v":51.666666666666664},{"$f":"data1!ALJ103","v":53.555555555555557},{"$f":"data1!ALK103","v":49.623568190542215},{"$f":"data1!ALL103","v":52.648303750941274},{"$f":"data1!ALM103","v":53.24472822240493},{"$f":"data1!ALN103","v":56.388888888888886},{"$f":"data1!ALO103","v":58.611111111111114},{"$f":"data1!ALP103","v":47.29190625375125},{"$f":"data1!ALQ103","v":52.818033858413372},{"$f":"data1!ALR103","v":48.398247622393427},{"$f":"data1!ALS103","v":55.944444444444443},{"$f":"data1!ALT103","v":54.194615173417972},{"$f":"data1!ALU103","v":54.833333333333336},{"$f":"data1!ALV103","v":50.591521896314902},{"$f":"data1!ALW103","v":57.166062249527414},{"$f":"data1!ALX103","v":51.944444444444443},{"$f":"data1!ALY103","v":54.277777777777779},{"$f":"data1!ALZ103","v":54.666666666666664},{"$f":"data1!AMA103","v":52.611111111111114},{"$f":"data1!AMB103","v":53.430135017613068},{"$f":"data1!AMC103","v":49.042923744047343},{"$f":"data1!AMD103","v":54.222222222222221},{"$f":"data1!AME103","v":44.611111111111114},{"$f":"data1!AMF103","v":50.270325947786695},{"$f":"data1!AMG103","v":49.841736701934565},{"$f":"data1!AMH103","v":50.866806430800239},{"$f":"data1!AMI103","v":59.888888888888886},{"$f":"data1!AMJ103","v":48.778497165212407},{"$f":"data1!AMK103","v":51.241225049438725},{"$f":"data1!AML103","v":55.944444444444443},{"$f":"data1!AMM103","v":56.888888888888886},{"$f":"data1!AMN103","v":53.795218925462393},{"$f":"data1!AMO103","v":55.918758776385062},{"$f":"data1!AMP103","v":54.635644242442851},{"$f":"data1!AMQ103","v":56.763885490469342},{"$f":"data1!AMR103","v":50.222222222222221},{"$f":"data1!AMS103","v":45.722222222222221},{"$f":"data1!AMT103","v":51.918867786190994},{"$f":"data1!AMU103","v":45.490199963908353},{"$f":"data1!AMV103","v":55.336319542287114},{"$f":"data1!AMW103","v":52.699841027597287},{"$f":"data1!AMX103","v":56.335150952484831},{"$f":"data1!AMY103","v":54.722222222222221},{"$f":"data1!AMZ103","v":55.555555555555557},{"$f":"data1!ANA103","v":61.444444444444443},{"$f":"data1!ANB103","v":55.03120122050386},{"$f":"data1!ANC103","v":46.5},{"$f":"data1!AND103","v":48.469454036089445},{"$f":"data1!ANE103","v":50.757759931206721},{"$f":"data1!ANF103","v":51.473422253796507},{"$f":"data1!ANG103","v":52.888888888888886},{"$f":"data1!ANH103","v":50.3161711923971},{"$f":"data1!ANI103","v":45.666666666666664},{"$f":"data1!ANJ103","v":53.388888888888886},{"$f":"data1!ANK103","v":50.876861024605994},{"$f":"data1!ANL103","v":48.710726425484296},{"$f":"data1!ANM103","v":57.166666666666664},{"$f":"data1!ANN103","v":49.83975977715324},{"$f":"data1!ANO103","v":47.656937049823306},{"$f":"data1!ANP103","v":53.857283852097844},{"$f":"data1!ANQ103","v":54.944444444444443},{"$f":"data1!ANR103","v":50.074021652729328},{"$f":"data1!ANS103","v":56.111111111111114},{"$f":"data1!ANT103","v":55.388888888888886},{"$f":"data1!ANU103","v":50.718642301686998},{"$f":"data1!ANV103","v":52.845161972520977},{"$f":"data1!ANW103","v":52.777777777777779},{"$f":"data1!ANX103","v":53.914980806234503},{"$f":"data1!ANY103","v":54.441097409167128},{"$f":"data1!ANZ103","v":53.726341461923127},{"$f":"data1!AOA103","v":58.633753410905427},{"$f":"data1!AOB103","v":57.333333333333336},{"$f":"data1!AOC103","v":45.055555555555557},{"$f":"data1!AOD103","v":55.924147116553058},{"$f":"data1!AOE103","v":50.349048448818046},{"$f":"data1!AOF103","v":50.246923286013626},{"$f":"data1!AOG103","v":46.320932458002694},{"$f":"data1!AOH103","v":45.944444444444443},{"$f":"data1!AOI103","v":51.833333333333336},{"$f":"data1!AOJ103","v":49.893981650522456},{"$f":"data1!AOK103","v":53.055555555555557},{"$f":"data1!AOL103","v":57.833333333333336},{"$f":"data1!AOM103","v":55.831746114212947},{"$f":"data1!AON103","v":45.484892215537698},{"$f":"data1!AOO103","v":53.277777777777779},{"$f":"data1!AOP103","v":53.072810451151199},{"$f":"data1!AOQ103","v":55.936660145115255},{"$f":"data1!AOR103","v":49.430310137095326},{"$f":"data1!AOS103","v":54.432701546332474},{"$f":"data1!AOT103","v":52.655985576737606},{"$f":"data1!AOU103","v":52.944444444444443},{"$f":"data1!AOV103","v":40.611111111111114},{"$f":"data1!AOW103","v":55.666666666666664},{"$f":"data1!AOX103","v":54.268505342344739},{"$f":"data1!AOY103","v":53.722222222222221},{"$f":"data1!AOZ103","v":53.070186494852337},{"$f":"data1!APA103","v":57.111111111111114},{"$f":"data1!APB103","v":51.277206462835274},{"$f":"data1!APC103","v":60.444444444444443},{"$f":"data1!APD103","v":57.11310174325375},{"$f":"data1!APE103","v":52.077481653275072},{"$f":"data1!APF103","v":52.653561913038587},{"$f":"data1!APG103","v":51.722222222222221},{"$f":"data1!APH103","v":54.195788325949742},{"$f":"data1!API103","v":54.745150531232248},{"$f":"data1!APJ103","v":45.555555555555557},{"$f":"data1!APK103","v":52.277777777777779},{"$f":"data1!APL103","v":54.166666666666664},{"$f":"data1!APM103","v":41.888888888888886},{"$f":"data1!APN103","v":54.393869220628943},{"$f":"data1!APO103","v":51.113868685006373},{"$f":"data1!APP103","v":47.907392293794146},{"$f":"data1!APQ103","v":52.680449192535121},{"$f":"data1!APR103","v":49.859707879170884},{"$f":"data1!APS103","v":54.448026204559966},{"$f":"data1!APT103","v":53.725176385110522},{"$f":"data1!APU103","v":53.473691575006377},{"$f":"data1!APV103","v":51.166666666666664},{"$f":"data1!APW103","v":53.055555555555557},{"$f":"data1!APX103","v":58.111111111111114},{"$f":"data1!APY103","v":55.333333333333336},{"$f":"data1!APZ103","v":57.888888888888886},{"$f":"data1!AQA103","v":47.769014452771927},{"$f":"data1!AQB103","v":52.520380870257071},{"$f":"data1!AQC103","v":54.799441526988517},{"$f":"data1!AQD103","v":55.158512068407767},{"$f":"data1!AQE103","v":51.669047277023566},{"$f":"data1!AQF103","v":48.157352369091441},{"$f":"data1!AQG103","v":52.47153559222982},{"$f":"data1!AQH103","v":53.460247308180314},{"$f":"data1!AQI103","v":55.066729844891306},{"$f":"data1!AQJ103","v":49.513395231704415},{"$f":"data1!AQK103","v":56},{"$f":"data1!AQL103","v":48.645801674567871},{"$f":"data1!AQM103","v":52.222222222222221},{"$f":"data1!AQN103","v":50.162552669654332},{"$f":"data1!AQO103","v":56.666666666666664},{"$f":"data1!AQP103","v":54.666666666666664},{"$f":"data1!AQQ103","v":53.777777777777779},{"$f":"data1!AQR103","v":56.555555555555557},{"$f":"data1!AQS103","v":53.190448954396508},{"$f":"data1!AQT103","v":54.010087297570848},{"$f":"data1!AQU103","v":57.333333333333336},{"$f":"data1!AQV103","v":60.832117323390712},{"$f":"data1!AQW103","v":56.277777777777779},{"$f":"data1!AQX103","v":49.595117956458061},{"$f":"data1!AQY103","v":56.072585178317382},{"$f":"data1!AQZ103","v":50.055415175826042},{"$f":"data1!ARA103","v":51.966490071176615},{"$f":"data1!ARB103","v":45.388888888888886},{"$f":"data1!ARC103","v":55.468526139344171},{"$f":"data1!ARD103","v":52.130010749698144},{"$f":"data1!ARE103","v":48.222222222222221},{"$f":"data1!ARF103","v":50.777777777777779},{"$f":"data1!ARG103","v":45},{"$f":"data1!ARH103","v":55.291762938235408},{"$f":"data1!ARI103","v":54.833333333333336},{"$f":"data1!ARJ103","v":57.277777777777779},{"$f":"data1!ARK103","v":53.358831686055495},{"$f":"data1!ARL103","v":48.159072952998805},{"$f":"data1!ARM103","v":50.200594692629039},{"$f":"data1!ARN103","v":59},{"$f":"data1!ARO103","v":53.981837571212537},{"$f":"data1!ARP103","v":45.869738280991406},{"$f":"data1!ARQ103","v":55.205470381721902},{"$f":"data1!ARR103","v":55.388888888888886},{"$f":"data1!ARS103","v":56.111111111111114},{"$f":"data1!ART103","v":54.767756154085404},{"$f":"data1!ARU103","v":53.366956778017567},{"$f":"data1!ARV103","v":52.03877041027576},{"$f":"data1!ARW103","v":54.099298901338983},{"$f":"data1!ARX103","v":56.723297692833448},{"$f":"data1!ARY103","v":46.601207433500996},{"$f":"data1!ARZ103","v":55.5},{"$f":"data1!ASA103","v":49.512687418023006},{"$f":"data1!ASB103","v":52.447265228882053},{"$f":"data1!ASC103","v":58.277777777777779},{"$f":"data1!ASD103","v":52.492946592396365},{"$f":"data1!ASE103","v":54.055555555555557},{"$f":"data1!ASF103","v":55.867684688196555},{"$f":"data1!ASG103","v":50.24338803086362},{"$f":"data1!ASH103","v":54.111111111111114},{"$f":"data1!ASI103","v":54.888888888888886},{"$f":"data1!ASJ103","v":48.611111111111114},{"$f":"data1!ASK103","v":53.258667230168854},{"$f":"data1!ASL103","v":51.587185493347505},{"$f":"data1!ASM103","v":52.722222222222221},{"$f":"data1!ASN103","v":54.187195864711008},{"$f":"data1!ASO103","v":48.058116949999288},{"$f":"data1!ASP103","v":57.163506145184982},{"$f":"data1!ASQ103","v":49.277777777777779},{"$f":"data1!ASR103","v":57.777777777777779},{"$f":"data1!ASS103","v":59.555555555555557},{"$f":"data1!AST103","v":54.042563049161231},{"$f":"data1!ASU103","v":51.330091750860291},{"$f":"data1!ASV103","v":59.071054108729612},{"$f":"data1!ASW103","v":59.308663597422033},{"$f":"data1!ASX103","v":52.907248662303488},{"$f":"data1!ASY103","v":48.677614083632733},{"$f":"data1!ASZ103","v":56.684181153350345},{"$f":"data1!ATA103","v":43.111111111111114},{"$f":"data1!ATB103","v":53.611111111111114},{"$f":"data1!ATC103","v":55.388888888888886},{"$f":"data1!ATD103","v":57.675628377289435},{"$f":"data1!ATE103","v":57.111111111111114},{"$f":"data1!ATF103","v":53.222222222222221},{"$f":"data1!ATG103","v":49.929230990682541},{"$f":"data1!ATH103","v":51.111111111111114},{"$f":"data1!ATI103","v":52.521262948544894},{"$f":"data1!ATJ103","v":50.283330509465259},{"$f":"data1!ATK103","v":52.434295847271159},{"$f":"data1!ATL103","v":46.277777777777779},{"$f":"data1!ATM103","v":51.01587165014358},{"$f":"data1!ATN103","v":58.141185012679138},{"$f":"data1!ATO103","v":58.055555555555557},{"$f":"data1!ATP103","v":48.782103929401146},{"$f":"data1!ATQ103","v":51.772453125235472},{"$f":"data1!ATR103","v":47.722222222222221},{"$f":"data1!ATS103","v":55.339266190044093},{"$f":"data1!ATT103","v":52.162743647704048},{"$f":"data1!ATU103","v":45.055555555555557},{"$f":"data1!ATV103","v":50.108735113660714},{"$f":"data1!ATW103","v":52.636921968680248},{"$f":"data1!ATX103","v":57.388888888888886},{"$f":"data1!ATY103","v":56.055555555555557},{"$f":"data1!ATZ103","v":58.611111111111114},{"$f":"data1!AUA103","v":48.748861293601607},{"$f":"data1!AUB103","v":51.923008769944346},{"$f":"data1!AUC103","v":48.97565290399114},{"$f":"data1!AUD103","v":55.5},{"$f":"data1!AUE103","v":58.563065028019359},{"$f":"data1!AUF103","v":54.750606558891818},{"$f":"data1!AUG103","v":50.640194948438676},{"$f":"data1!AUH103","v":50.860429037803229},{"$f":"data1!AUI103","v":56.333333333333336},{"$f":"data1!AUJ103","v":52.484247647228457},{"$f":"data1!AUK103","v":57.722222222222221},{"$f":"data1!AUL103","v":51.331810494135489},{"$f":"data1!AUM103","v":47.111111111111114},{"$f":"data1!AUN103","v":53.5},{"$f":"data1!AUO103","v":53.111111111111114},{"$f":"data1!AUP103","v":48.296363672187645},{"$f":"data1!AUQ103","v":54},{"$f":"data1!AUR103","v":52.372615565154405},{"$f":"data1!AUS103","v":50.219368618989016},{"$f":"data1!AUT103","v":47.987912425666138},{"$f":"data1!AUU103","v":56.019138726795575},{"$f":"data1!AUV103","v":48.148306365919609},{"$f":"data1!AUW103","v":57.333333333333336},{"$f":"data1!AUX103","v":56.611111111111114},{"$f":"data1!AUY103","v":47.655960730607774},{"$f":"data1!AUZ103","v":52.166666666666664},{"$f":"data1!AVA103","v":55.5},{"$f":"data1!AVB103","v":49.364606432623269},{"$f":"data1!AVC103","v":59.222222222222221},{"$f":"data1!AVD103","v":44.722222222222221},{"$f":"data1!AVE103","v":48.507622496423288},{"$f":"data1!AVF103","v":51.400590104182371},{"$f":"data1!AVG103","v":57.782564364669142},{"$f":"data1!AVH103","v":57.460105729618576},{"$f":"data1!AVI103","v":53.111111111111114},{"$f":"data1!AVJ103","v":51.258424656012423},{"$f":"data1!AVK103","v":53.484001254722216},{"$f":"data1!AVL103","v":52.920634922761671},{"$f":"data1!AVM103","v":51.491044623591378},{"$f":"data1!AVN103","v":55.611111111111114},{"$f":"data1!AVO103","v":55.888888888888886},{"$f":"data1!AVP103","v":56.555555555555557},{"$f":"data1!AVQ103","v":53.166666666666664},{"$f":"data1!AVR103","v":60.833333333333336},{"$f":"data1!AVS103","v":44.555555555555557},{"$f":"data1!AVT103","v":53.373185015261015},{"$f":"data1!AVU103","v":51.311693674680086},{"$f":"data1!AVV103","v":43.222222222222221},{"$f":"data1!AVW103","v":53.798263364777839},{"$f":"data1!AVX103","v":56},{"$f":"data1!AVY103","v":54.555555555555557},{"$f":"data1!AVZ103","v":45.333333333333336},{"$f":"data1!AWA103","v":59.333333333333336},{"$f":"data1!AWB103","v":59.944444444444443},{"$f":"data1!AWC103","v":55.397790070970245},{"$f":"data1!AWD103","v":53.388888888888886},{"$f":"data1!AWE103","v":52.087967237195407},{"$f":"data1!AWF103","v":55.1882654617051},{"$f":"data1!AWG103","v":48.633634480716488},{"$f":"data1!AWH103","v":55.833333333333336},{"$f":"data1!AWI103","v":54.055555555555557},{"$f":"data1!AWJ103","v":54.607710798321349},{"$f":"data1!AWK103","v":53.543432453480605},{"$f":"data1!AWL103","v":55.444444444444443},{"$f":"data1!AWM103","v":59.166666666666664},{"$f":"data1!AWN103","v":51.502153402774084},{"$f":"data1!AWO103","v":52.555555555555557},{"$f":"data1!AWP103","v":58.333333333333336},{"$f":"data1!AWQ103","v":52.053279530965568},{"$f":"data1!AWR103","v":54.009006228039553},{"$f":"data1!AWS103","v":46.974752101844608},{"$f":"data1!AWT103","v":53.388888888888886},{"$f":"data1!AWU103","v":58.444444444444443},{"$f":"data1!AWV103","v":51.432121216434631},{"$f":"data1!AWW103","v":54.055555555555557},{"$f":"data1!AWX103","v":54.595120492656285},{"$f":"data1!AWY103","v":48.79727450903993},{"$f":"data1!AWZ103","v":52.722222222222221},{"$f":"data1!AXA103","v":55.288621432284259},{"$f":"data1!AXB103","v":55.939949032409132},{"$f":"data1!AXC103","v":55.444444444444443},{"$f":"data1!AXD103","v":51.752396220652017},{"$f":"data1!AXE103","v":54},{"$f":"data1!AXF103","v":54.522497126736113},{"$f":"data1!AXG103","v":55.444444444444443},{"$f":"data1!AXH103","v":48.727218946919606},{"$f":"data1!AXI103","v":52.856002650897501},{"$f":"data1!AXJ103","v":54.930981974084247},{"$f":"data1!AXK103","v":54.762363230327729},{"$f":"data1!AXL103","v":52.772079045274118},{"$f":"data1!AXM103","v":49.214508096686423},{"$f":"data1!AXN103","v":53.950478520302084},{"$f":"data1!AXO103","v":47.695649915648055},{"$f":"data1!AXP103","v":46.277777777777779},{"$f":"data1!AXQ103","v":40.5},{"$f":"data1!AXR103","v":54.290117270766096},{"$f":"data1!AXS103","v":51.918497361123613},{"$f":"data1!AXT103","v":54.055555555555557},{"$f":"data1!AXU103","v":56.416690796148409},{"$f":"data1!AXV103","v":53.408848905865334},{"$f":"data1!AXW103","v":45.833333333333336},{"$f":"data1!AXX103","v":54.090884895946573},{"$f":"data1!AXY103","v":57.742221667683985},{"$f":"data1!AXZ103","v":54.222222222222221},{"$f":"data1!AYA103","v":54.833333333333336},{"$f":"data1!AYB103","v":48.576003890700001},{"$f":"data1!AYC103","v":55.388888888888886},{"$f":"data1!AYD103","v":54.352568473539044},{"$f":"data1!AYE103","v":59.444444444444443},{"$f":"data1!AYF103","v":54.944444444444443},{"$f":"data1!AYG103","v":48.364201362126749},{"$f":"data1!AYH103","v":55.912131203792526},{"$f":"data1!AYI103","v":54.277777777777779},{"$f":"data1!AYJ103","v":54.56562197476002},{"$f":"data1!AYK103","v":55.333333333333336},{"$f":"data1!AYL103","v":55.617895904480314},{"$f":"data1!AYM103","v":48.28293687909197},{"$f":"data1!AYN103","v":44.493442327599773},{"$f":"data1!AYO103","v":52.783321418998327},{"$f":"data1!AYP103","v":52.744853781434273},{"$f":"data1!AYQ103","v":55.265144938320503},{"$f":"data1!AYR103","v":55.920290771149581},{"$f":"data1!AYS103","v":50.264080768267114},{"$f":"data1!AYT103","v":48.784322368403792},{"$f":"data1!AYU103","v":52.555555555555557},{"$f":"data1!AYV103","v":59.388888888888886},{"$f":"data1!AYW103","v":50.831337164426685},{"$f":"data1!AYX103","v":42.277777777777779},{"$f":"data1!AYY103","v":47.562497965574835},{"$f":"data1!AYZ103","v":51.15673392290492},{"$f":"data1!AZA103","v":51.297531182902816},{"$f":"data1!AZB103","v":47.555555555555557},{"$f":"data1!AZC103","v":53.471418566708834},{"$f":"data1!AZD103","v":52.388969568822077},{"$f":"data1!AZE103","v":59.111111111111114},{"$f":"data1!AZF103","v":56.944444444444443},{"$f":"data1!AZG103","v":51.645463195200961},{"$f":"data1!AZH103","v":53.550144111384441},{"$f":"data1!AZI103","v":53.530853851313694},{"$f":"data1!AZJ103","v":55.444444444444443},{"$f":"data1!AZK103","v":51.115502269621338},{"$f":"data1!AZL103","v":57.277777777777779},{"$f":"data1!AZM103","v":53.213999384454723},{"$f":"data1!AZN103","v":48.743143866185321},{"$f":"data1!AZO103","v":57.996777326951978},{"$f":"data1!AZP103","v":50.666666666666664},{"$f":"data1!AZQ103","v":41.666666666666664},{"$f":"data1!AZR103","v":51.222222222222221},{"$f":"data1!AZS103","v":47.400229141481255},{"$f":"data1!AZT103","v":56.28231742885481},{"$f":"data1!AZU103","v":58.388888888888886},{"$f":"data1!AZV103","v":55.087549727327847},{"$f":"data1!AZW103","v":44.055555555555557},{"$f":"data1!AZX103","v":53.444444444444443},{"$f":"data1!AZY103","v":52.543062360001677},{"$f":"data1!AZZ103","v":49.388888888888886},{"$f":"data1!BAA103","v":53.444444444444443},{"$f":"data1!BAB103","v":54.222222222222221},{"$f":"data1!BAC103","v":52.113649842667577},{"$f":"data1!BAD103","v":53.874752323920205},{"$f":"data1!BAE103","v":47.722222222222221},{"$f":"data1!BAF103","v":51.188401449155783},{"$f":"data1!BAG103","v":50.570560778154871},{"$f":"data1!BAH103","v":52.987669275045718},{"$f":"data1!BAI103","v":57.166666666666664},{"$f":"data1!BAJ103","v":57.888888888888886},{"$f":"data1!BAK103","v":57.965816674837711},{"$f":"data1!BAL103","v":54.15665329429077},{"$f":"data1!BAM103","v":58.222222222222221},{"$f":"data1!BAN103","v":48.611111111111114},{"$f":"data1!BAO103","v":53.256776386006926},{"$f":"data1!BAP103","v":59.222222222222221},{"$f":"data1!BAQ103","v":50.758156311657089},{"$f":"data1!BAR103","v":55.388888888888886},{"$f":"data1!BAS103","v":56.762865639030373},{"$f":"data1!BAT103","v":60.444444444444443},{"$f":"data1!BAU103","v":53.135562677501376},{"$f":"data1!BAV103","v":48.722222222222221},{"$f":"data1!BAW103","v":55.857791343146218},{"$f":"data1!BAX103","v":55.277777777777779},{"$f":"data1!BAY103","v":46.944444444444443},{"$f":"data1!BAZ103","v":52.819144417809717},{"$f":"data1!BBA103","v":54.444444444444443},{"$f":"data1!BBB103","v":53.894458337101334},{"$f":"data1!BBC103","v":55.444444444444443},{"$f":"data1!BBD103","v":54.965297985553462},{"$f":"data1!BBE103","v":58.555555555555557},{"$f":"data1!BBF103","v":57.722222222222221},{"$f":"data1!BBG103","v":53.555555555555557},{"$f":"data1!BBH103","v":48.588124607466433},{"$f":"data1!BBI103","v":53.111111111111114},{"$f":"data1!BBJ103","v":51.920671448552376},{"$f":"data1!BBK103","v":59.555555555555557},{"$f":"data1!BBL103","v":53.666666666666664},{"$f":"data1!BBM103","v":56.163838789279161},{"$f":"data1!BBN103","v":52.731650913606799},{"$f":"data1!BBO103","v":64.611111111111114},{"$f":"data1!BBP103","v":54.111111111111114},{"$f":"data1!BBQ103","v":49},{"$f":"data1!BBR103","v":54.055555555555557},{"$f":"data1!BBS103","v":53.335218723480374},{"$f":"data1!BBT103","v":46.555555555555557},{"$f":"data1!BBU103","v":57.333333333333336},{"$f":"data1!BBV103","v":57.388888888888886},{"$f":"data1!BBW103","v":46.857415197139225},{"$f":"data1!BBX103","v":54.777777777777779},{"$f":"data1!BBY103","v":51.555555555555557},{"$f":"data1!BBZ103","v":55.777777777777779},{"$f":"data1!BCA103","v":48.162270404123902},{"$f":"data1!BCB103","v":53.42987800294874},{"$f":"data1!BCC103","v":55.888888888888886},{"$f":"data1!BCD103","v":48.733207056774802},{"$f":"data1!BCE103","v":58.722222222222221},{"$f":"data1!BCF103","v":54.391411910573133},{"$f":"data1!BCG103","v":51.125875963970465},{"$f":"data1!BCH103","v":51.055759743925172},{"$f":"data1!BCI103","v":51.055555555555557},{"$f":"data1!BCJ103","v":56.501403134464354},{"$f":"data1!BCK103","v":56.374445486835867},{"$f":"data1!BCL103","v":58.611111111111114},{"$f":"data1!BCM103","v":47.055555555555557},{"$f":"data1!BCN103","v":54.476203597833553},{"$f":"data1!BCO103","v":53.943805146315675},{"$f":"data1!BCP103","v":52.055555555555557},{"$f":"data1!BCQ103","v":47.777777777777779},{"$f":"data1!BCR103","v":51.643756477725447},{"$f":"data1!BCS103","v":55.545230912175228},{"$f":"data1!BCT103","v":54.124972321488521},{"$f":"data1!BCU103","v":52.781111495249007},{"$f":"data1!BCV103","v":57.166666666666664},{"$f":"data1!BCW103","v":56.833333333333336},{"$f":"data1!BCX103","v":56.166666666666664},{"$f":"data1!BCY103","v":54.986758751819387},{"$f":"data1!BCZ103","v":57.777777777777779},{"$f":"data1!BDA103","v":49.4408206155193},{"$f":"data1!BDB103","v":60.111111111111114},{"$f":"data1!BDC103","v":47.388888888888886},{"$f":"data1!BDD103","v":55.833333333333336},{"$f":"data1!BDE103","v":50.27531794135885},{"$f":"data1!BDF103","v":53.222222222222221},{"$f":"data1!BDG103","v":48.9555802844772},{"$f":"data1!BDH103","v":45.777777777777779},{"$f":"data1!BDI103","v":47.921088100881335},{"$f":"data1!BDJ103","v":58.666666666666664},{"$f":"data1!BDK103","v":50.35775185891729},{"$f":"data1!BDL103","v":52.118413655297175},{"$f":"data1!BDM103","v":51.690668919678288},{"$f":"data1!BDN103","v":57.333333333333336},{"$f":"data1!BDO103","v":55.833333333333336},{"$f":"data1!BDP103","v":55.888888888888886},{"$f":"data1!BDQ103","v":53.5},{"$f":"data1!BDR103","v":52.888888888888886},{"$f":"data1!BDS103","v":55.722222222222221},{"$f":"data1!BDT103","v":54.722222222222221},{"$f":"data1!BDU103","v":53.444444444444443},{"$f":"data1!BDV103","v":57.5},{"$f":"data1!BDW103","v":54.666666666666664},{"$f":"data1!BDX103","v":50.04865519232785},{"$f":"data1!BDY103","v":52.841933406931517},{"$f":"data1!BDZ103","v":51.555555555555557},{"$f":"data1!BEA103","v":56.888888888888886},{"$f":"data1!BEB103","v":60.888888888888886},{"$f":"data1!BEC103","v":56.428259123926544},{"$f":"data1!BED103","v":50.945083639447908},{"$f":"data1!BEE103","v":55.536097349118876},{"$f":"data1!BEF103","v":44.722222222222221},{"$f":"data1!BEG103","v":51.41565479708504},{"$f":"data1!BEH103","v":53.982385235563193},{"$f":"data1!BEI103","v":57.222222222222221},{"$f":"data1!BEJ103","v":53.000294458817052},{"$f":"data1!BEK103","v":52.043216048120215},{"$f":"data1!BEL103","v":47.722222222222221},{"$f":"data1!BEM103","v":50.555555555555557},{"$f":"data1!BEN103","v":48.786334012722236},{"$f":"data1!BEO103","v":60.245925072731502},{"$f":"data1!BEP103","v":52.756395165392284},{"$f":"data1!BEQ103","v":56},{"$f":"data1!BER103","v":48.254565503205313},{"$f":"data1!BES103","v":53},{"$f":"data1!BET103","v":52.521056409943249},{"$f":"data1!BEU103","v":58.111111111111114},{"$f":"data1!BEV103","v":50.666666666666664},{"$f":"data1!BEW103","v":55.645543314111038},{"$f":"data1!BEX103","v":48.33028954669058},{"$f":"data1!BEY103","v":48.731357684124525},{"$f":"data1!BEZ103","v":52.841862152345826},{"$f":"data1!BFA103","v":56.420749414441715},{"$f":"data1!BFB103","v":51.937424886183585},{"$f":"data1!BFC103","v":50.850781313989636},{"$f":"data1!BFD103","v":48.406190861692771},{"$f":"data1!BFE103","v":52.725490672607869},{"$f":"data1!BFF103","v":54.111111111111114},{"$f":"data1!BFG103","v":50.855293333986864},{"$f":"data1!BFH103","v":52.157661092761145},{"$f":"data1!BFI103","v":44.333333333333336},{"$f":"data1!BFJ103","v":54.464341470151467},{"$f":"data1!BFK103","v":56.055555555555557},{"$f":"data1!BFL103","v":49.777777777777779},{"$f":"data1!BFM103","v":47.802711480185444},{"$f":"data1!BFN103","v":49.388888888888886},{"$f":"data1!BFO103","v":54.514702471187093},{"$f":"data1!BFP103","v":56.611111111111114},{"$f":"data1!BFQ103","v":50.555555555555557},{"$f":"data1!BFR103","v":47},{"$f":"data1!BFS103","v":48.678556742403821},{"$f":"data1!BFT103","v":51.657314576974414},{"$f":"data1!BFU103","v":53.229747605237407},{"$f":"data1!BFV103","v":59.666666666666664},{"$f":"data1!BFW103","v":57.166666666666664},{"$f":"data1!BFX103","v":55.777777777777779},{"$f":"data1!BFY103","v":54.388888888888886},{"$f":"data1!BFZ103","v":52.29668425741022},{"$f":"data1!BGA103","v":56.666666666666664},{"$f":"data1!BGB103","v":56.0253071228626},{"$f":"data1!BGC103","v":56.492537038185283},{"$f":"data1!BGD103","v":50.177414034255698},{"$f":"data1!BGE103","v":56.670367366860397},{"$f":"data1!BGF103","v":51.538199306661568},{"$f":"data1!BGG103","v":53.426530439422351},{"$f":"data1!BGH103","v":54.222222222222221},{"$f":"data1!BGI103","v":58.666666666666664},{"$f":"data1!BGJ103","v":58.743321410476611},{"$f":"data1!BGK103","v":54.944444444444443},{"$f":"data1!BGL103","v":50.539383608892358},{"$f":"data1!BGM103","v":53.709567578506565},{"$f":"data1!BGN103","v":50.762866154973281},{"$f":"data1!BGO103","v":52.777777777777779},{"$f":"data1!BGP103","v":55.333333333333336},{"$f":"data1!BGQ103","v":61},{"$f":"data1!BGR103","v":57.277777777777779},{"$f":"data1!BGS103","v":54.055555555555557},{"$f":"data1!BGT103","v":49.075081441436524},{"$f":"data1!BGU103","v":56.166666666666664},{"$f":"data1!BGV103","v":55.611111111111114},{"$f":"data1!BGW103","v":51.646856438128601},{"$f":"data1!BGX103","v":52.97204142685419},{"$f":"data1!BGY103","v":55.055555555555557},{"$f":"data1!BGZ103","v":53.111111111111114},{"$f":"data1!BHA103","v":56.611111111111114},{"$f":"data1!BHB103","v":55.200977805945023},{"$f":"data1!BHC103","v":54.847075554468105},{"$f":"data1!BHD103","v":50.250256641608495},{"$f":"data1!BHE103","v":54.770225669799068},{"$f":"data1!BHF103","v":51.595404707707708},{"$f":"data1!BHG103","v":47.793123996336398},{"$f":"data1!BHH103","v":46.478455837592328},{"$f":"data1!BHI103","v":51.614755987495798},{"$f":"data1!BHJ103","v":54.666666666666664},{"$f":"data1!BHK103","v":53.722222222222221},{"$f":"data1!BHL103","v":51.372024487137324},{"$f":"data1!BHM103","v":58.5},{"$f":"data1!BHN103","v":57.166666666666664},{"$f":"data1!BHO103","v":49.630462442234979},{"$f":"data1!BHP103","v":49.468757308101615},{"$f":"data1!BHQ103","v":56.46724331718606},{"$f":"data1!BHR103","v":57.277777777777779},{"$f":"data1!BHS103","v":53.845034347567044},{"$f":"data1!BHT103","v":40.833333333333336},{"$f":"data1!BHU103","v":46.051730080143074},{"$f":"data1!BHV103","v":55.279257313996965},{"$f":"data1!BHW103","v":47.833333333333336},{"$f":"data1!BHX103","v":54.028950229025007},{"$f":"data1!BHY103","v":53.974333307063915},{"$f":"data1!BHZ103","v":53.444444444444443},{"$f":"data1!BIA103","v":47.555555555555557},{"$f":"data1!BIB103","v":53.935274397503207},{"$f":"data1!BIC103","v":54.487505015974506},{"$f":"data1!BID103","v":54.098370629474033},{"$f":"data1!BIE103","v":60.4196792511881},{"$f":"data1!BIF103","v":52.510385181833584},{"$f":"data1!BIG103","v":48.923578715265279},{"$f":"data1!BIH103","v":51.166666666666664},{"$f":"data1!BII103","v":53.496027104342822},{"$f":"data1!BIJ103","v":51.976484936621404},{"$f":"data1!BIK103","v":48.205342548363973},{"$f":"data1!BIL103","v":60.333333333333336},{"$f":"data1!BIM103","v":52.298275236172778},{"$f":"data1!BIN103","v":52.833333333333336},{"$f":"data1!BIO103","v":53.471419162106095},{"$f":"data1!BIP103","v":54.635654802824156},{"$f":"data1!BIQ103","v":52.084025971794937},{"$f":"data1!BIR103","v":57.388888888888886},{"$f":"data1!BIS103","v":50.41346822134026},{"$f":"data1!BIT103","v":56.037071344259289},{"$f":"data1!BIU103","v":52.666666666666664},{"$f":"data1!BIV103","v":50.944444444444443},{"$f":"data1!BIW103","v":46.388888888888886},{"$f":"data1!BIX103","v":40.777777777777779},{"$f":"data1!BIY103","v":56.542761817911405},{"$f":"data1!BIZ103","v":52.611111111111114},{"$f":"data1!BJA103","v":50.271087252636264},{"$f":"data1!BJB103","v":48.761981104364949},{"$f":"data1!BJC103","v":50},{"$f":"data1!BJD103","v":54.722222222222221},{"$f":"data1!BJE103","v":57.833333333333336},{"$f":"data1!BJF103","v":53.888516309355808},{"$f":"data1!BJG103","v":49.149641911495813},{"$f":"data1!BJH103","v":47.230077823652813},{"$f":"data1!BJI103","v":56.059076976346056},{"$f":"data1!BJJ103","v":53.447919386804017},{"$f":"data1!BJK103","v":44.944444444444443},{"$f":"data1!BJL103","v":49.378141662746991},{"$f":"data1!BJM103","v":48.296869730624067},{"$f":"data1!BJN103","v":57.777777777777779},{"$f":"data1!BJO103","v":46.515641713856638},{"$f":"data1!BJP103","v":56.932095151200542},{"$f":"data1!BJQ103","v":58.111111111111114},{"$f":"data1!BJR103","v":56.046940672717419},{"$f":"data1!BJS103","v":51.801131754087038},{"$f":"data1!BJT103","v":49.739989201420173},{"$f":"data1!BJU103","v":51.969227000311172},{"$f":"data1!BJV103","v":58.055555555555557},{"$f":"data1!BJW103","v":54.024228480197138},{"$f":"data1!BJX103","v":54.496218313197659},{"$f":"data1!BJY103","v":54.166666666666664},{"$f":"data1!BJZ103","v":51.607956962735265},{"$f":"data1!BKA103","v":56},{"$f":"data1!BKB103","v":54.339485769949029},{"$f":"data1!BKC103","v":49.154243815230224},{"$f":"data1!BKD103","v":51.7623502044028},{"$f":"data1!BKE103","v":54.055555555555557},{"$f":"data1!BKF103","v":50.689677105844972},{"$f":"data1!BKG103","v":54.666666666666664},{"$f":"data1!BKH103","v":57.262231954129646},{"$f":"data1!BKI103","v":55.277777777777779},{"$f":"data1!BKJ103","v":47.258543145599525},{"$f":"data1!BKK103","v":55.277777777777779},{"$f":"data1!BKL103","v":48.277777777777779},{"$f":"data1!BKM103","v":45.353401449189171},{"$f":"data1!BKN103","v":52.834764948660037},{"$f":"data1!BKO103","v":53.935046733630287},{"$f":"data1!BKP103","v":49.877093786101142},{"$f":"data1!BKQ103","v":48.268499851112878},{"$f":"data1!BKR103","v":49.741402754230613},{"$f":"data1!BKS103","v":51.481201469262963},{"$f":"data1!BKT103","v":55.888888888888886},{"$f":"data1!BKU103","v":52.83471175043826},{"$f":"data1!BKV103","v":51.417865135306002},{"$f":"data1!BKW103","v":58.117282092700052},{"$f":"data1!BKX103","v":52},{"$f":"data1!BKY103","v":50.690229257547053},{"$f":"data1!BKZ103","v":59.959063149376789},{"$f":"data1!BLA103","v":42.611111111111114},{"$f":"data1!BLB103","v":57.277777777777779},{"$f":"data1!BLC103","v":57.444444444444443},{"$f":"data1!BLD103","v":54.740137704156545},{"$f":"data1!BLE103","v":49.222222222222221},{"$f":"data1!BLF103","v":57.611111111111114},{"$f":"data1!BLG103","v":49.171670995663085},{"$f":"data1!BLH103","v":49.137970742934627},{"$f":"data1!BLI103","v":54.611111111111114},{"$f":"data1!BLJ103","v":53.282402743252625},{"$f":"data1!BLK103","v":54.829931063846828},{"$f":"data1!BLL103","v":57.333333333333336},{"$f":"data1!BLM103","v":55.113690171902768},{"$f":"data1!BLN103","v":57.666666666666664},{"$f":"data1!BLO103","v":49.938135913056598},{"$f":"data1!BLP103","v":53.666666666666664},{"$f":"data1!BLQ103","v":56},{"$f":"data1!BLR103","v":54.888888888888886},{"$f":"data1!BLS103","v":53.888888888888886},{"$f":"data1!BLT103","v":50.064154382110786},{"$f":"data1!BLU103","v":56.944444444444443},{"$f":"data1!BLV103","v":54.166666666666664},{"$f":"data1!BLW103","v":51.281867258756023},{"$f":"data1!BLX103","v":50.570751720989591},{"$f":"data1!BLY103","v":53.059803390290689},{"$f":"data1!BLZ103","v":55.973817720637193},{"$f":"data1!BMA103","v":52.254178950796025},{"$f":"data1!BMB103","v":59.666666666666664},{"$f":"data1!BMC103","v":56.666666666666664},{"$f":"data1!BMD103","v":50.878095538899487},{"$f":"data1!BME103","v":52.555555555555557},{"$f":"data1!BMF103","v":54.745243594369363},{"$f":"data1!BMG103","v":54.444444444444443},{"$f":"data1!BMH103","v":52.388888888888886},{"$f":"data1!BMI103","v":46.388888888888886},{"$f":"data1!BMJ103","v":58.166666666666664},{"$f":"data1!BMK103","v":53.612832216899278},{"$f":"data1!BML103","v":48.069889127492182},{"$f":"data1!BMM103","v":54.944444444444443},{"$f":"data1!BMN103","v":50.069722058493603},{"$f":"data1!BMO103","v":56.277777777777779},{"$f":"data1!BMP103","v":53.907341721474282},{"$f":"data1!BMQ103","v":44.777777777777779},{"$f":"data1!BMR103","v":37.111111111111114},{"$f":"data1!BMS103","v":54.166666666666664},{"$f":"data1!BMT103","v":57.146223863958049},{"$f":"data1!BMU103","v":56.833333333333336},{"$f":"data1!BMV103","v":54.388888888888886},{"$f":"data1!BMW103","v":53.444444444444443},{"$f":"data1!BMX103","v":54.705264105610041},{"$f":"data1!BMY103","v":51.975178901991136},{"$f":"data1!BMZ103","v":56},{"$f":"data1!BNA103","v":56.222222222222221},{"$f":"data1!BNB103","v":56.111111111111114},{"$f":"data1!BNC103","v":57.833333333333336},{"$f":"data1!BND103","v":56.206431377787943},{"$f":"data1!BNE103","v":56.055555555555557},{"$f":"data1!BNF103","v":54.014183753906259},{"$f":"data1!BNG103","v":47.303774073116308},{"$f":"data1!BNH103","v":53.600219822318337},{"$f":"data1!BNI103","v":52.680984042307919},{"$f":"data1!BNJ103","v":46.277777777777779},{"$f":"data1!BNK103","v":49.511947003116724},{"$f":"data1!BNL103","v":54.658974200836013},{"$f":"data1!BNM103","v":52.333333333333336},{"$f":"data1!BNN103","v":57.722222222222221},{"$f":"data1!BNO103","v":54.722222222222221},{"$f":"data1!BNP103","v":54.833333333333336},{"$f":"data1!BNQ103","v":52.5},{"$f":"data1!BNR103","v":53.977704335640205},{"$f":"data1!BNS103","v":55.260033461358795},{"$f":"data1!BNT103","v":51.611111111111114},{"$f":"data1!BNU103","v":53.857502885686294},{"$f":"data1!BNV103","v":55.666666666666664},{"$f":"data1!BNW103","v":53.380819907211695},{"$f":"data1!BNX103","v":43.888888888888886},{"$f":"data1!BNY103","v":50.894447392467448},{"$f":"data1!BNZ103","v":54.277777777777779},{"$f":"data1!BOA103","v":52.565097106441677},{"$f":"data1!BOB103","v":51.554383325052335},{"$f":"data1!BOC103","v":55},{"$f":"data1!BOD103","v":52.588322194358334},{"$f":"data1!BOE103","v":50.555555555555557},{"$f":"data1!BOF103","v":51.525210073853742},{"$f":"data1!BOG103","v":55.436239710732956},{"$f":"data1!BOH103","v":53.129583833152523},{"$f":"data1!BOI103","v":49.470028300191693},{"$f":"data1!BOJ103","v":48.337477402222689},{"$f":"data1!BOK103","v":55.833333333333336},{"$f":"data1!BOL103","v":57.944444444444443},{"$f":"data1!BOM103","v":55.944444444444443},{"$f":"data1!BON103","v":51.48290849519281},{"$f":"data1!BOO103","v":57.111111111111114},{"$f":"data1!BOP103","v":58.055555555555557},{"$f":"data1!BOQ103","v":51.169548176018679},{"$f":"data1!BOR103","v":54.166666666666664},{"$f":"data1!BOS103","v":50.3245819960391},{"$f":"data1!BOT103","v":48.795982718378603},{"$f":"data1!BOU103","v":50.054696391643624},{"$f":"data1!BOV103","v":53},{"$f":"data1!BOW103","v":50.06882526262622},{"$f":"data1!BOX103","v":53.555555555555557},{"$f":"data1!BOY103","v":51.262679813723288},{"$f":"data1!BOZ103","v":54.611111111111114},{"$f":"data1!BPA103","v":55.666666666666664},{"$f":"data1!BPB103","v":52.049183623862234},{"$f":"data1!BPC103","v":48.95595847088169},{"$f":"data1!BPD103","v":48.312498501598675},{"$f":"data1!BPE103","v":51.111111111111114},{"$f":"data1!BPF103","v":51.330397886761325},{"$f":"data1!BPG103","v":55.555555555555557},{"$f":"data1!BPH103","v":46.990958244090685},{"$f":"data1!BPI103","v":44.166666666666664},{"$f":"data1!BPJ103","v":54.111111111111114},{"$f":"data1!BPK103","v":49.722222222222221},{"$f":"data1!BPL103","v":56.242309205966095},{"$f":"data1!BPM103","v":53.348645094533531},{"$f":"data1!BPN103","v":45.722222222222221},{"$f":"data1!BPO103","v":57.239538538860415},{"$f":"data1!BPP103","v":53.777777777777779},{"$f":"data1!BPQ103","v":51.209880689922542},{"$f":"data1!BPR103","v":48.77063570358203},{"$f":"data1!BPS103","v":52.773520594919908},{"$f":"data1!BPT103","v":53.421848634535579},{"$f":"data1!BPU103","v":53.710975283463988},{"$f":"data1!BPV103","v":55.388888888888886},{"$f":"data1!BPW103","v":53.582122921678803},{"$f":"data1!BPX103","v":57.424378766791357},{"$f":"data1!BPY103","v":50.890409806687558},{"$f":"data1!BPZ103","v":54.222222222222221},{"$f":"data1!BQA103","v":58.388888888888886},{"$f":"data1!BQB103","v":50.333333333333336},{"$f":"data1!BQC103","v":56.333333333333336},{"$f":"data1!BQD103","v":54.732435062677467},{"$f":"data1!BQE103","v":52.944444444444443},{"$f":"data1!BQF103","v":54.333333333333336},{"$f":"data1!BQG103","v":56.061277024722784},{"$f":"data1!BQH103","v":62.388888888888886},{"$f":"data1!BQI103","v":52.422915354957645},{"$f":"data1!BQJ103","v":54.261502783598139},{"$f":"data1!BQK103","v":41.611111111111114},{"$f":"data1!BQL103","v":45.888888888888886},{"$f":"data1!BQM103","v":47.975557647518357},{"$f":"data1!BQN103","v":53.206793632986205},{"$f":"data1!BQO103","v":61.222222222222221},{"$f":"data1!BQP103","v":54.892689093818987},{"$f":"data1!BQQ103","v":53.833333333333336},{"$f":"data1!BQR103","v":54.657314940526575},{"$f":"data1!BQS103","v":53.870333729990655},{"$f":"data1!BQT103","v":56.277777777777779},{"$f":"data1!BQU103","v":54.502973365630368},{"$f":"data1!BQV103","v":48.652232922074909},{"$f":"data1!BQW103","v":57.671268214188039},{"$f":"data1!BQX103","v":57.980978720449734},{"$f":"data1!BQY103","v":46.383995075543368},{"$f":"data1!BQZ103","v":59.888888888888886},{"$f":"data1!BRA103","v":55.777777777777779},{"$f":"data1!BRB103","v":55.342944836252812},{"$f":"data1!BRC103","v":51.52676462032408},{"$f":"data1!BRD103","v":54.479190547564748},{"$f":"data1!BRE103","v":53.020212169921095},{"$f":"data1!BRF103","v":52.845917399625719},{"$f":"data1!BRG103","v":48.553604549807702},{"$f":"data1!BRH103","v":58.480406421464181},{"$f":"data1!BRI103","v":51.777777777777779},{"$f":"data1!BRJ103","v":51.525261125409202},{"$f":"data1!BRK103","v":52.077778892985407},{"$f":"data1!BRL103","v":58.055555555555557},{"$f":"data1!BRM103","v":57.166666666666664},{"$f":"data1!BRN103","v":53.234710347068621},{"$f":"data1!BRO103","v":47.144991815271169},{"$f":"data1!BRP103","v":50.611111111111114},{"$f":"data1!BRQ103","v":51.401129569040954},{"$f":"data1!BRR103","v":56.5},{"$f":"data1!BRS103","v":56.222222222222221},{"$f":"data1!BRT103","v":58.611111111111114},{"$f":"data1!BRU103","v":52.943529020715943},{"$f":"data1!BRV103","v":50.220060983759602},{"$f":"data1!BRW103","v":50.79144803907861},{"$f":"data1!BRX103","v":56.078261031487258},{"$f":"data1!BRY103","v":53.368287083754211},{"$f":"data1!BRZ103","v":58.343651810131824},{"$f":"data1!BSA103","v":55.333333333333336},{"$f":"data1!BSB103","v":45},{"$f":"data1!BSC103","v":57.417734555629217},{"$f":"data1!BSD103","v":48.260923271710304},{"$f":"data1!BSE103","v":55.6361693067348},{"$f":"data1!BSF103","v":48.486910909903791},{"$f":"data1!BSG103","v":47.684688459501608},{"$f":"data1!BSH103","v":53.055555555555557},{"$f":"data1!BSI103","v":51.228062865871365},{"$f":"data1!BSJ103","v":54.166666666666664},{"$f":"data1!BSK103","v":47.657780076868583},{"$f":"data1!BSL103","v":53.769528159269129},{"$f":"data1!BSM103","v":56.666666666666664},{"$f":"data1!BSN103","v":52.048986319621342},{"$f":"data1!BSO103","v":49.501401660563808},{"$f":"data1!BSP103","v":52.680505579852827},{"$f":"data1!BSQ103","v":54.901222549873893},{"$f":"data1!BSR103","v":51.018831124098632},{"$f":"data1!BSS103","v":46.345403518584682},{"$f":"data1!BST103","v":49.617080486703443},{"$f":"data1!BSU103","v":50.767829191096048},{"$f":"data1!BSV103","v":56.666666666666664},{"$f":"data1!BSW103","v":49.590598991307033},{"$f":"data1!BSX103","v":58.388888888888886},{"$f":"data1!BSY103","v":53.555555555555557},{"$f":"data1!BSZ103","v":50.077846963327751},{"$f":"data1!BTA103","v":63.5},{"$f":"data1!BTB103","v":61.666666666666664},{"$f":"data1!BTC103","v":47.736046292224124},{"$f":"data1!BTD103","v":54.227248128860815},{"$f":"data1!BTE103","v":54.277777777777779},{"$f":"data1!BTF103","v":53.555555555555557},{"$f":"data1!BTG103","v":55.055555555555557},{"$f":"data1!BTH103","v":56.140095029137683},{"$f":"data1!BTI103","v":59.5},{"$f":"data1!BTJ103","v":43.722222222222221},{"$f":"data1!BTK103","v":54.722222222222221},{"$f":"data1!BTL103","v":47.5},{"$f":"data1!BTM103","v":56.722222222222221},{"$f":"data1!BTN103","v":52.945711110713127},{"$f":"data1!BTO103","v":57},{"$f":"data1!BTP103","v":51.015803629301544},{"$f":"data1!BTQ103","v":51.861674807583789},{"$f":"data1!BTR103","v":49.468624155223765},{"$f":"data1!BTS103","v":44.5},{"$f":"data1!BTT103","v":54.777777777777779},{"$f":"data1!BTU103","v":49.183172195225922},{"$f":"data1!BTV103","v":59.055555555555557},{"$f":"data1!BTW103","v":55.277777777777779},{"$f":"data1!BTX103","v":55.723651946258791},{"$f":"data1!BTY103","v":54.4927961534693},{"$f":"data1!BTZ103","v":52.026901490933852},{"$f":"data1!BUA103","v":55.120569995355453},{"$f":"data1!BUB103","v":48.719617416755078},{"$f":"data1!BUC103","v":52.746919801438928},{"$f":"data1!BUD103","v":51.444444444444443},{"$f":"data1!BUE103","v":49.756016010727087},{"$f":"data1!BUF103","v":51.340699455118639},{"$f":"data1!BUG103","v":57.266384603074371},{"$f":"data1!BUH103","v":52.25281199975182},{"$f":"data1!BUI103","v":59.783268211249101},{"$f":"data1!BUJ103","v":59.722222222222221},{"$f":"data1!BUK103","v":45.968700763757774},{"$f":"data1!BUL103","v":54.918279074292833},{"$f":"data1!BUM103","v":42},{"$f":"data1!BUN103","v":57.166666666666664},{"$f":"data1!BUO103","v":52.555555555555557},{"$f":"data1!BUP103","v":60.111111111111114},{"$f":"data1!BUQ103","v":55.022965840776187},{"$f":"data1!BUR103","v":55.015486399225843},{"$f":"data1!BUS103","v":56.65735399378763},{"$f":"data1!BUT103","v":48.98725864671043},{"$f":"data1!BUU103","v":55.042493871239714},{"$f":"data1!BUV103","v":52.394416098503562},{"$f":"data1!BUW103","v":54.055555555555557},{"$f":"data1!BUX103","v":53.555555555555557},{"$f":"data1!BUY103","v":50.940598260610813},{"$f":"data1!BUZ103","v":56.594346856009608},{"$f":"data1!BVA103","v":57.230159774313137},{"$f":"data1!BVB103","v":51.055555555555557},{"$f":"data1!BVC103","v":52.783318257250812},{"$f":"data1!BVD103","v":50.700483817173421},{"$f":"data1!BVE103","v":47},{"$f":"data1!BVF103","v":52.277777777777779},{"$f":"data1!BVG103","v":57.111111111111114},{"$f":"data1!BVH103","v":59.611111111111114},{"$f":"data1!BVI103","v":53.89545138683151},{"$f":"data1!BVJ103","v":54.501777266636353},{"$f":"data1!BVK103","v":54.277777777777779},{"$f":"data1!BVL103","v":48.790280171228005},{"$f":"data1!BVM103","v":52.914376760611248},{"$f":"data1!BVN103","v":55.029540778629411},{"$f":"data1!BVO103","v":48.741810901948419},{"$f":"data1!BVP103","v":54.531834334445975},{"$f":"data1!BVQ103","v":56.611111111111114},{"$f":"data1!BVR103","v":51.277733551201401},{"$f":"data1!BVS103","v":53.199732630259781},{"$f":"data1!BVT103","v":52.601754527765856},{"$f":"data1!BVU103","v":56.736380581004966},{"$f":"data1!BVV103","v":50.055555555555557},{"$f":"data1!BVW103","v":57.277777777777779},{"$f":"data1!BVX103","v":55.444444444444443},{"$f":"data1!BVY103","v":52.831368113316088},{"$f":"data1!BVZ103","v":55.222909935712615},{"$f":"data1!BWA103","v":60.555555555555557},{"$f":"data1!BWB103","v":57.777777777777779},{"$f":"data1!BWC103","v":42.611111111111114},{"$f":"data1!BWD103","v":57.611111111111114},{"$f":"data1!BWE103","v":53.360049038341053},{"$f":"data1!BWF103","v":53},{"$f":"data1!BWG103","v":53.105602663965975},{"$f":"data1!BWH103","v":51.722222222222221},{"$f":"data1!BWI103","v":51.026643917421694},{"$f":"data1!BWJ103","v":51.818579998632913},{"$f":"data1!BWK103","v":38.722222222222221},{"$f":"data1!BWL103","v":52.888888888888886},{"$f":"data1!BWM103","v":52.222222222222221},{"$f":"data1!BWN103","v":53.960806445154631},{"$f":"data1!BWO103","v":48.705403368540836},{"$f":"data1!BWP103","v":57.111111111111114},{"$f":"data1!BWQ103","v":54.749552666977529},{"$f":"data1!BWR103","v":51.888888888888886},{"$f":"data1!BWS103","v":52.202842302352771},{"$f":"data1!BWT103","v":50.617412171667802},{"$f":"data1!BWU103","v":51.539383352020891},{"$f":"data1!BWV103","v":51.598325111235965},{"$f":"data1!BWW103","v":54.305042516171618},{"$f":"data1!BWX103","v":54.97631060145244},{"$f":"data1!BWY103","v":59.880639423565491},{"$f":"data1!BWZ103","v":53.885102362722705},{"$f":"data1!BXA103","v":57.222222222222221},{"$f":"data1!BXB103","v":54.627934486367444},{"$f":"data1!BXC103","v":46.118394815965381},{"$f":"data1!BXD103","v":54.326199138895994},{"$f":"data1!BXE103","v":53.388888888888886},{"$f":"data1!BXF103","v":55.633439575393631},{"$f":"data1!BXG103","v":55.162792787769924},{"$f":"data1!BXH103","v":50.933346310495267},{"$f":"data1!BXI103","v":48.823647211001337},{"$f":"data1!BXJ103","v":44.611111111111114},{"$f":"data1!BXK103","v":56.380455745432158},{"$f":"data1!BXL103","v":57.222222222222221},{"$f":"data1!BXM103","v":51.306324969166624},{"$f":"data1!BXN103","v":59.166666666666664},{"$f":"data1!BXO103","v":51.881018098127647},{"$f":"data1!BXP103","v":59.055555555555557},{"$f":"data1!BXQ103","v":55.178795640354586},{"$f":"data1!BXR103","v":53},{"$f":"data1!BXS103","v":52.286889204661378},{"$f":"data1!BXT103","v":52.212244733499716},{"$f":"data1!BXU103","v":53.5},{"$f":"data1!BXV103","v":46.333333333333336},{"$f":"data1!BXW103","v":53.555555555555557},{"$f":"data1!BXX103","v":54.055555555555557},{"$f":"data1!BXY103","v":57.444444444444443},{"$f":"data1!BXZ103","v":48.394429451427577},{"$f":"data1!BYA103","v":57.111111111111114},{"$f":"data1!BYB103","v":55.722222222222221},{"$f":"data1!BYC103","v":53.944444444444443},{"$f":"data1!BYD103","v":53.333333333333336},{"$f":"data1!BYE103","v":54.506522569427617},{"$f":"data1!BYF103","v":57.833333333333336},{"$f":"data1!BYG103","v":55.280250971362833},{"$f":"data1!BYH103","v":55.931994284627585},{"$f":"data1!BYI103","v":56.666666666666664},{"$f":"data1!BYJ103","v":53.491684408070036},{"$f":"data1!BYK103","v":54.405802108753001},{"$f":"data1!BYL103","v":47.388888888888886},{"$f":"data1!BYM103","v":52.167827097262553},{"$f":"data1!BYN103","v":57.111111111111114},{"$f":"data1!BYO103","v":54.277777777777779},{"$f":"data1!BYP103","v":50.632532372451749},{"$f":"data1!BYQ103","v":49.011400426353902},{"$f":"data1!BYR103","v":50.094768132406912},{"$f":"data1!BYS103","v":53.310144819194775},{"$f":"data1!BYT103","v":56.555555555555557},{"$f":"data1!BYU103","v":51.68389844939653},{"$f":"data1!BYV103","v":45.35532028563378},{"$f":"data1!BYW103","v":52.222222222222221},{"$f":"data1!BYX103","v":53.388888888888886},{"$f":"data1!BYY103","v":53.051489660344998},{"$f":"data1!BYZ103","v":49.695249360888099},{"$f":"data1!BZA103","v":55.888888888888886},{"$f":"data1!BZB103","v":47.241468967165389},{"$f":"data1!BZC103","v":57.333333333333336},{"$f":"data1!BZD103","v":53.171727727621501},{"$f":"data1!BZE103","v":58.444444444444443},{"$f":"data1!BZF103","v":48.854505734638352},{"$f":"data1!BZG103","v":60.277777777777779},{"$f":"data1!BZH103","v":52.333333333333336},{"$f":"data1!BZI103","v":56.166666666666664},{"$f":"data1!BZJ103","v":55.30399783880312},{"$f":"data1!BZK103","v":48.7099270505107},{"$f":"data1!BZL103","v":56.7128230771159},{"$f":"data1!BZM103","v":52.920479411024772},{"$f":"data1!BZN103","v":61.388888888888886},{"$f":"data1!BZO103","v":46.611111111111114},{"$f":"data1!BZP103","v":51.166666666666664},{"$f":"data1!BZQ103","v":51.89978747186732},{"$f":"data1!BZR103","v":50.944444444444443},{"$f":"data1!BZS103","v":43.611111111111114},{"$f":"data1!BZT103","v":46.984017362635115},{"$f":"data1!BZU103","v":47.666666666666664},{"$f":"data1!BZV103","v":50.53549121807324},{"$f":"data1!BZW103","v":56.777777777777779},{"$f":"data1!BZX103","v":54.277777777777779},{"$f":"data1!BZY103","v":52.956949651167932},{"$f":"data1!BZZ103","v":56.777777777777779},{"$f":"data1!CAA103","v":56.055555555555557},{"$f":"data1!CAB103","v":58.055555555555557},{"$f":"data1!CAC103","v":54.666666666666664},{"$f":"data1!CAD103","v":53.12453136714732},{"$f":"data1!CAE103","v":58.611111111111114},{"$f":"data1!CAF103","v":55.982236454867824},{"$f":"data1!CAG103","v":50.264252504642137},{"$f":"data1!CAH103","v":54.397515240528101},{"$f":"data1!CAI103","v":45.833333333333336},{"$f":"data1!CAJ103","v":49.602201608289178},{"$f":"data1!CAK103","v":56.555555555555557},{"$f":"data1!CAL103","v":53.444444444444443},{"$f":"data1!CAM103","v":56.061176253483055},{"$f":"data1!CAN103","v":57.143728408709499},{"$f":"data1!CAO103","v":57.611111111111114},{"$f":"data1!CAP103","v":52.333333333333336},{"$f":"data1!CAQ103","v":55.888888888888886},{"$f":"data1!CAR103","v":56.440607619174585},{"$f":"data1!CAS103","v":49.944444444444443},{"$f":"data1!CAT103","v":54.722222222222221},{"$f":"data1!CAU103","v":58.555555555555557},{"$f":"data1!CAV103","v":48.14018278553457},{"$f":"data1!CAW103","v":45.277777777777779},{"$f":"data1!CAX103","v":57.111111111111114},{"$f":"data1!CAY103","v":53.555555555555557},{"$f":"data1!CAZ103","v":52.765519677025736},{"$f":"data1!CBA103","v":58.611111111111114},{"$f":"data1!CBB103","v":56.277777777777779},{"$f":"data1!CBC103","v":54.111111111111114},{"$f":"data1!CBD103","v":55.611111111111114},{"$f":"data1!CBE103","v":48.97557392347062},{"$f":"data1!CBF103","v":61.444444444444443},{"$f":"data1!CBG103","v":56.388888888888886},{"$f":"data1!CBH103","v":56.055555555555557},{"$f":"data1!CBI103","v":49.952129324501158},{"$f":"data1!CBJ103","v":51.222222222222221},{"$f":"data1!CBK103","v":55.342477318749914},{"$f":"data1!CBL103","v":57.944444444444443},{"$f":"data1!CBM103","v":50.97517589307639},{"$f":"data1!CBN103","v":57.833333333333336},{"$f":"data1!CBO103","v":54.027651927296816},{"$f":"data1!CBP103","v":55.643554632577988},{"$f":"data1!CBQ103","v":50.333333333333336},{"$f":"data1!CBR103","v":50.944444444444443},{"$f":"data1!CBS103","v":55.437052717137405},{"$f":"data1!CBT103","v":50.981643147993339},{"$f":"data1!CBU103","v":47.420526398561101},{"$f":"data1!CBV103","v":59.222222222222221},{"$f":"data1!CBW103","v":54.166666666666664},{"$f":"data1!CBX103","v":58.444444444444443},{"$f":"data1!CBY103","v":56.060081009506007},{"$f":"data1!CBZ103","v":51.333333333333336},{"$f":"data1!CCA103","v":58.277777777777779},{"$f":"data1!CCB103","v":56.833333333333336},{"$f":"data1!CCC103","v":56.833333333333336},{"$f":"data1!CCD103","v":53.338337833329824},{"$f":"data1!CCE103","v":55.611111111111114},{"$f":"data1!CCF103","v":52.777777777777779},{"$f":"data1!CCG103","v":51.563794521584072},{"$f":"data1!CCH103","v":51.525332499004335},{"$f":"data1!CCI103","v":52.944444444444443},{"$f":"data1!CCJ103","v":54.888888888888886},{"$f":"data1!CCK103","v":50.283627120842503},{"$f":"data1!CCL103","v":51.368110913413446},{"$f":"data1!CCM103","v":57.611111111111114},{"$f":"data1!CCN103","v":53.44095734837601},{"$f":"data1!CCO103","v":55.927451563447939},{"$f":"data1!CCP103","v":43.888888888888886},{"$f":"data1!CCQ103","v":55.065570678742326},{"$f":"data1!CCR103","v":40.722222222222221},{"$f":"data1!CCS103","v":50.88886906476074},{"$f":"data1!CCT103","v":58.444444444444443},{"$f":"data1!CCU103","v":49.510078769512781},{"$f":"data1!CCV103","v":56.611111111111114},{"$f":"data1!CCW103","v":54.666666666666664},{"$f":"data1!CCX103","v":52.341506837229311},{"$f":"data1!CCY103","v":53.641373194358593},{"$f":"data1!CCZ103","v":52.108385087360901},{"$f":"data1!CDA103","v":54.111111111111114},{"$f":"data1!CDB103","v":50.283040285251332},{"$f":"data1!CDC103","v":51.152359942711769},{"$f":"data1!CDD103","v":44.944444444444443},{"$f":"data1!CDE103","v":52.100037095124179},{"$f":"data1!CDF103","v":51.990470933403593},{"$f":"data1!CDG103","v":51.213229662763666},{"$f":"data1!CDH103","v":47.5},{"$f":"data1!CDI103","v":54.777777777777779},{"$f":"data1!CDJ103","v":54.015429561195496},{"$f":"data1!CDK103","v":55.222222222222221},{"$f":"data1!CDL103","v":50.055555555555557},{"$f":"data1!CDM103","v":56.666666666666664},{"$f":"data1!CDN103","v":56.833333333333336},{"$f":"data1!CDO103","v":54.722222222222221},{"$f":"data1!CDP103","v":50.947749125562645},{"$f":"data1!CDQ103","v":53.333333333333336},{"$f":"data1!CDR103","v":54.347197611674133},{"$f":"data1!CDS103","v":57.19045060925891},{"$f":"data1!CDT103","v":57.944444444444443},{"$f":"data1!CDU103","v":53.954194307585077},{"$f":"data1!CDV103","v":51.401889038363485},{"$f":"data1!CDW103","v":51.339721305314498},{"$f":"data1!CDX103","v":51.275977969838607},{"$f":"data1!CDY103","v":51.781396556796963},{"$f":"data1!CDZ103","v":50.352402802911399},{"$f":"data1!CEA103","v":52.611111111111114},{"$f":"data1!CEB103","v":52.944444444444443},{"$f":"data1!CEC103","v":48.241397155925299},{"$f":"data1!CED103","v":59.666666666666664},{"$f":"data1!CEE103","v":52.895599547714355},{"$f":"data1!CEF103","v":56},{"$f":"data1!CEG103","v":46.333333333333336},{"$f":"data1!CEH103","v":44.888888888888886},{"$f":"data1!CEI103","v":56.424161892099079},{"$f":"data1!CEJ103","v":54.527761835376197},{"$f":"data1!CEK103","v":49.403965831577253},{"$f":"data1!CEL103","v":50.518908482157954},{"$f":"data1!CEM103","v":53.812137740450304},{"$f":"data1!CEN103","v":54.124621602483323},{"$f":"data1!CEO103","v":58.779163896368978},{"$f":"data1!CEP103","v":54.611111111111114},{"$f":"data1!CEQ103","v":50.229256332569747},{"$f":"data1!CER103","v":54.027277119579431},{"$f":"data1!CES103","v":56.5},{"$f":"data1!CET103","v":56},{"$f":"data1!CEU103","v":55.5},{"$f":"data1!CEV103","v":49.908438032890537},{"$f":"data1!CEW103","v":54.666666666666664},{"$f":"data1!CEX103","v":57.055555555555557},{"$f":"data1!CEY103","v":50.333333333333336},{"$f":"data1!CEZ103","v":47.5},{"$f":"data1!CFA103","v":56.305735657953896},{"$f":"data1!CFB103","v":54.082041484462053},{"$f":"data1!CFC103","v":49.403640889549628},{"$f":"data1!CFD103","v":54.5},{"$f":"data1!CFE103","v":48.423566051110349},{"$f":"data1!CFF103","v":52.888888888888886},{"$f":"data1!CFG103","v":60.5},{"$f":"data1!CFH103","v":54.611111111111114},{"$f":"data1!CFI103","v":58.463393315053104},{"$f":"data1!CFJ103","v":50.401242583551067},{"$f":"data1!CFK103","v":60.222222222222221},{"$f":"data1!CFL103","v":49.242666050492545},{"$f":"data1!CFM103","v":43.333333333333336},{"$f":"data1!CFN103","v":48.222222222222221},{"$f":"data1!CFO103","v":50.441495181847735},{"$f":"data1!CFP103","v":58.416544891576876},{"$f":"data1!CFQ103","v":59.277777777777779},{"$f":"data1!CFR103","v":60.444444444444443},{"$f":"data1!CFS103","v":49.399353643406705},{"$f":"data1!CFT103","v":49.204698456831494},{"$f":"data1!CFU103","v":46.388888888888886},{"$f":"data1!CFV103","v":55.888888888888886},{"$f":"data1!CFW103","v":42.388888888888886},{"$f":"data1!CFX103","v":56.55990816094792},{"$f":"data1!CFY103","v":48.932238403651915},{"$f":"data1!CFZ103","v":52.507359756478259},{"$f":"data1!CGA103","v":47.444444444444443},{"$f":"data1!CGB103","v":50.599408043905264},{"$f":"data1!CGC103","v":52.130328741724988},{"$f":"data1!CGD103","v":53.697727461361282},{"$f":"data1!CGE103","v":57.233859793002893},{"$f":"data1!CGF103","v":49.709604461095296},{"$f":"data1!CGG103","v":51.374459285557322},{"$f":"data1!CGH103","v":52},{"$f":"data1!CGI103","v":50.766520965970074},{"$f":"data1!CGJ103","v":57.235445817486088},{"$f":"data1!CGK103","v":55.333333333333336},{"$f":"data1!CGL103","v":54.722222222222221},{"$f":"data1!CGM103","v":54.228578974909944},{"$f":"data1!CGN103","v":56.555555555555557},{"$f":"data1!CGO103","v":49.388383392883568},{"$f":"data1!CGP103","v":49.724197752270612},{"$f":"data1!CGQ103","v":53.722222222222221},{"$f":"data1!CGR103","v":57.333333333333336},{"$f":"data1!CGS103","v":57.166666666666664},{"$f":"data1!CGT103","v":52.111111111111114},{"$f":"data1!CGU103","v":52.021808946120103},{"$f":"data1!CGV103","v":56.555555555555557},{"$f":"data1!CGW103","v":50.666666666666664},{"$f":"data1!CGX103","v":51.860963899418294},{"$f":"data1!CGY103","v":54.61112965867445},{"$f":"data1!CGZ103","v":53.248869179800252},{"$f":"data1!CHA103","v":60.555555555555557},{"$f":"data1!CHB103","v":55.49053802765458},{"$f":"data1!CHC103","v":53.216875475653893},{"$f":"data1!CHD103","v":54.022777337824145},{"$f":"data1!CHE103","v":52.777777777777779},{"$f":"data1!CHF103","v":43.111111111111114},{"$f":"data1!CHG103","v":51.638416253158638},{"$f":"data1!CHH103","v":54.888888888888886},{"$f":"data1!CHI103","v":56.5},{"$f":"data1!CHJ103","v":59.666666666666664},{"$f":"data1!CHK103","v":47.888888888888886},{"$f":"data1!CHL103","v":50.451658454987637},{"$f":"data1!CHM103","v":52.063142865345519},{"$f":"data1!CHN103","v":53.611111111111114},{"$f":"data1!CHO103","v":53.209414453007597},{"$f":"data1!CHP103","v":50.555555555555557},{"$f":"data1!CHQ103","v":54.140790370424334},{"$f":"data1!CHR103","v":52.676743636645178},{"$f":"data1!CHS103","v":54.164854153860716},{"$f":"data1!CHT103","v":53.198779090378657},{"$f":"data1!CHU103","v":56.944444444444443},{"$f":"data1!CHV103","v":53.940723932881404},{"$f":"data1!CHW103","v":54.944444444444443},{"$f":"data1!CHX103","v":56.611111111111114},{"$f":"data1!CHY103","v":56.611111111111114},{"$f":"data1!CHZ103","v":48.388888888888886},{"$f":"data1!CIA103","v":54.619037001075476},{"$f":"data1!CIB103","v":50.166666666666664},{"$f":"data1!CIC103","v":59.611111111111114},{"$f":"data1!CID103","v":48.947376529022385},{"$f":"data1!CIE103","v":52.335586007871349},{"$f":"data1!CIF103","v":56.783504102279366},{"$f":"data1!CIG103","v":48.00006551528184},{"$f":"data1!CIH103","v":54.777777777777779},{"$f":"data1!CII103","v":56.055555555555557},{"$f":"data1!CIJ103","v":46.222222222222221},{"$f":"data1!CIK103","v":48.67411530994125},{"$f":"data1!CIL103","v":51.587185493347505},{"$f":"data1!CIM103","v":53.166666666666664},{"$f":"data1!CIN103","v":59.280960442154424},{"$f":"data1!CIO103","v":52.417632982967767},{"$f":"data1!CIP103","v":55.388888888888886},{"$f":"data1!CIQ103","v":57.015426456013152},{"$f":"data1!CIR103","v":53},{"$f":"data1!CIS103","v":56.111111111111114},{"$f":"data1!CIT103","v":53.888888888888886},{"$f":"data1!CIU103","v":52.722222222222221},{"$f":"data1!CIV103","v":53.025482479970798},{"$f":"data1!CIW103","v":50.269754114446869},{"$f":"data1!CIX103","v":49.222222222222221},{"$f":"data1!CIY103","v":55.611111111111114},{"$f":"data1!CIZ103","v":52.666666666666664},{"$f":"data1!CJA103","v":50.315720679690394},{"$f":"data1!CJB103","v":45.777777777777779},{"$f":"data1!CJC103","v":60.166666666666664},{"$f":"data1!CJD103","v":55.111111111111114},{"$f":"data1!CJE103","v":52.822636539160484},{"$f":"data1!CJF103","v":49.753839357022542},{"$f":"data1!CJG103","v":54.277777777777779},{"$f":"data1!CJH103","v":59.777777777777779},{"$f":"data1!CJI103","v":55.418791326362822},{"$f":"data1!CJJ103","v":54.720118441127788},{"$f":"data1!CJK103","v":52.057767799601407},{"$f":"data1!CJL103","v":47.48933946494563},{"$f":"data1!CJM103","v":48.977359907673048},{"$f":"data1!CJN103","v":56.087038386952401},{"$f":"data1!CJO103","v":47.055555555555557},{"$f":"data1!CJP103","v":57.14750838229304},{"$f":"data1!CJQ103","v":47.074882776309103},{"$f":"data1!CJR103","v":49.243807080135092},{"$f":"data1!CJS103","v":57.944444444444443},{"$f":"data1!CJT103","v":55.897435782374387},{"$f":"data1!CJU103","v":49.494480157211278},{"$f":"data1!CJV103","v":54.795273656730629},{"$f":"data1!CJW103","v":60.888888888888886},{"$f":"data1!CJX103","v":51.987379776982543},{"$f":"data1!CJY103","v":53.5},{"$f":"data1!CJZ103","v":57.514231446233566},{"$f":"data1!CKA103","v":54.864433516903631},{"$f":"data1!CKB103","v":53.783267051366323},{"$f":"data1!CKC103","v":57.277777777777779},{"$f":"data1!CKD103","v":47.905622997253936},{"$f":"data1!CKE103","v":54.389956937318402},{"$f":"data1!CKF103","v":46.611111111111114},{"$f":"data1!CKG103","v":51.91197163569376},{"$f":"data1!CKH103","v":47.055555555555557},{"$f":"data1!CKI103","v":59.111111111111114},{"$f":"data1!CKJ103","v":58.021291719731913},{"$f":"data1!CKK103","v":48.102224388191708},{"$f":"data1!CKL103","v":45.902459002860411},{"$f":"data1!CKM103","v":49.16054362063025},{"$f":"data1!CKN103","v":45.777777777777779},{"$f":"data1!CKO103","v":55.387614533326314},{"$f":"data1!CKP103","v":49.342376293976457},{"$f":"data1!CKQ103","v":53.78534361034454},{"$f":"data1!CKR103","v":52.463053051191807},{"$f":"data1!CKS103","v":50.173476719160568},{"$f":"data1!CKT103","v":53.084916383811333},{"$f":"data1!CKU103","v":52.06257411313603},{"$f":"data1!CKV103","v":53.960806445154631},{"$f":"data1!CKW103","v":58.333333333333336},{"$f":"data1!CKX103","v":43.722222222222221},{"$f":"data1!CKY103","v":53.8197024715124},{"$f":"data1!CKZ103","v":48.01454804474924},{"$f":"data1!CLA103","v":42.611111111111114},{"$f":"data1!CLB103","v":47.285324613891873},{"$f":"data1!CLC103","v":54.722222222222221},{"$f":"data1!CLD103","v":45.222222222222221},{"$f":"data1!CLE103","v":50.768841633735747},{"$f":"data1!CLF103","v":59.166666666666664},{"$f":"data1!CLG103","v":56.763455576032911},{"$f":"data1!CLH103","v":50.18175492843072},{"$f":"data1!CLI103","v":55.24659773038497},{"$f":"data1!CLJ103","v":54.388888888888886},{"$f":"data1!CLK103","v":54.166666666666664},{"$f":"data1!CLL103","v":58.567820193238454},{"$f":"data1!CLM103","v":57.166666666666664},{"$f":"data1!CLN103","v":53.175673378573265},{"$f":"data1!CLO103","v":52.595108855560788},{"$f":"data1!CLP103","v":44.833333333333336},{"$f":"data1!CLQ103","v":57.277777777777779},{"$f":"data1!CLR103","v":54.262347689635099},{"$f":"data1!CLS103","v":56.038794684025419},{"$f":"data1!CLT103","v":52.055555555555557},{"$f":"data1!CLU103","v":55.844721554311626},{"$f":"data1!CLV103","v":52.637806651783258},{"$f":"data1!CLW103","v":56.888888888888886},{"$f":"data1!CLX103","v":58.444444444444443},{"$f":"data1!CLY103","v":58.555555555555557},{"$f":"data1!CLZ103","v":51.696966133521691},{"$f":"data1!CMA103","v":45.555555555555557},{"$f":"data1!CMB103","v":57.024474933083638},{"$f":"data1!CMC103","v":57.722222222222221},{"$f":"data1!CMD103","v":50.847485286402815},{"$f":"data1!CME103","v":55.333333333333336},{"$f":"data1!CMF103","v":51.266294791072113},{"$f":"data1!CMG103","v":58.277777777777779},{"$f":"data1!CMH103","v":57.555555555555557},{"$f":"data1!CMI103","v":52.121129839739012},{"$f":"data1!CMJ103","v":55.944444444444443},{"$f":"data1!CMK103","v":52.504970500481797},{"$f":"data1!CML103","v":56},{"$f":"data1!CMM103","v":53.950373703772016},{"$f":"data1!CMN103","v":56.055555555555557},{"$f":"data1!CMO103","v":57.160645903293371},{"$f":"data1!CMP103","v":58.611111111111114},{"$f":"data1!CMQ103","v":54.722222222222221},{"$f":"data1!CMR103","v":55.944444444444443},{"$f":"data1!CMS103","v":47.726105411766113},{"$f":"data1!CMT103","v":50.705207211921056},{"$f":"data1!CMU103","v":55.444444444444443},{"$f":"data1!CMV103","v":58.611111111111114},{"$f":"data1!CMW103","v":54.764161978509009},{"$f":"data1!CMX103","v":56.388888888888886},{"$f":"data1!CMY103","v":54.722222222222221},{"$f":"data1!CMZ103","v":50.542843614070279},{"$f":"data1!CNA103","v":49.666666666666664},{"$f":"data1!CNB103","v":61.055555555555557},{"$f":"data1!CNC103","v":53.333333333333336},{"$f":"data1!CND103","v":52.944444444444443},{"$f":"data1!CNE103","v":55},{"$f":"data1!CNF103","v":49.689818465212696},{"$f":"data1!CNG103","v":48.277777777777779},{"$f":"data1!CNH103","v":57.111111111111114},{"$f":"data1!CNI103","v":54.5},{"$f":"data1!CNJ103","v":56.5},{"$f":"data1!CNK103","v":54.333333333333336},{"$f":"data1!CNL103","v":48.777777777777779},{"$f":"data1!CNM103","v":56.055555555555557},{"$f":"data1!CNN103","v":42.833333333333336},{"$f":"data1!CNO103","v":56.225905624352379},{"$f":"data1!CNP103","v":57.333333333333336},{"$f":"data1!CNQ103","v":51.666666666666664},{"$f":"data1!CNR103","v":50.632532372451749},{"$f":"data1!CNS103","v":59.166666666666664},{"$f":"data1!CNT103","v":53.722222222222221},{"$f":"data1!CNU103","v":49.54167206898795},{"$f":"data1!CNV103","v":53.553079614655672},{"$f":"data1!CNW103","v":54.222222222222221},{"$f":"data1!CNX103","v":55.388888888888886},{"$f":"data1!CNY103","v":49.58139341065813},{"$f":"data1!CNZ103","v":57.833333333333336},{"$f":"data1!COA103","v":55.214479257980834},{"$f":"data1!COB103","v":59.722222222222221},{"$f":"data1!COC103","v":50.539767322583117},{"$f":"data1!COD103","v":53.5},{"$f":"data1!COE103","v":55.481957245437499},{"$f":"data1!COF103","v":55.388888888888886},{"$f":"data1!COG103","v":56.666666666666664},{"$f":"data1!COH103","v":56.166666666666664},{"$f":"data1!COI103","v":59.777777777777779},{"$f":"data1!COJ103","v":51.222222222222221},{"$f":"data1!COK103","v":43.944444444444443},{"$f":"data1!COL103","v":56},{"$f":"data1!COM103","v":49.868887294242278},{"$f":"data1!CON103","v":57.54822783242227},{"$f":"data1!COO103","v":57.833333333333336},{"$f":"data1!COP103","v":53.290717873907141},{"$f":"data1!COQ103","v":52.222222222222221},{"$f":"data1!COR103","v":55.555555555555557},{"$f":"data1!COS103","v":51.347945851182104},{"$f":"data1!COT103","v":50.928893187644476},{"$f":"data1!COU103","v":48.227212173064615},{"$f":"data1!COV103","v":52.079975771596075},{"$f":"data1!COW103","v":54.722222222222221},{"$f":"data1!COX103","v":48.277777777777779},{"$f":"data1!COY103","v":53.43379330281708},{"$f":"data1!COZ103","v":54.040647918877227},{"$f":"data1!CPA103","v":54.631476072712623},{"$f":"data1!CPB103","v":47.944444444444443},{"$f":"data1!CPC103","v":50.5},{"$f":"data1!CPD103","v":60.222222222222221},{"$f":"data1!CPE103","v":52.388888888888886},{"$f":"data1!CPF103","v":53.125344681894319},{"$f":"data1!CPG103","v":48.485593304099744},{"$f":"data1!CPH103","v":53.055555555555557},{"$f":"data1!CPI103","v":52.00756258833637},{"$f":"data1!CPJ103","v":55.063373944266722},{"$f":"data1!CPK103","v":55.830501329946188},{"$f":"data1!CPL103","v":51.833333333333336},{"$f":"data1!CPM103","v":50.777668043124557},{"$f":"data1!CPN103","v":56.388888888888886},{"$f":"data1!CPO103","v":57.433187611285888},{"$f":"data1!CPP103","v":57},{"$f":"data1!CPQ103","v":54.14081794183361},{"$f":"data1!CPR103","v":52.055555555555557},{"$f":"data1!CPS103","v":52.5},{"$f":"data1!CPT103","v":46.833333333333336},{"$f":"data1!CPU103","v":44.39804395334933},{"$f":"data1!CPV103","v":50.611111111111114},{"$f":"data1!CPW103","v":58.5},{"$f":"data1!CPX103","v":51.612644276111752},{"$f":"data1!CPY103","v":51.13980529276936},{"$f":"data1!CPZ103","v":53.5},{"$f":"data1!CQA103","v":54.228062344726034},{"$f":"data1!CQB103","v":53.903649635726602},{"$f":"data1!CQC103","v":56.055555555555557},{"$f":"data1!CQD103","v":56.611111111111114},{"$f":"data1!CQE103","v":55.666666666666664},{"$f":"data1!CQF103","v":51.413546317224913},{"$f":"data1!CQG103","v":51.309409044453631},{"$f":"data1!CQH103","v":53.101532134039843},{"$f":"data1!CQI103","v":60.222222222222221},{"$f":"data1!CQJ103","v":53.953010681257744},{"$f":"data1!CQK103","v":54.888888888888886},{"$f":"data1!CQL103","v":55.222222222222221},{"$f":"data1!CQM103","v":50.874293748726537},{"$f":"data1!CQN103","v":51.611111111111114},{"$f":"data1!CQO103","v":57.222222222222221},{"$f":"data1!CQP103","v":54.833333333333336},{"$f":"data1!CQQ103","v":51.864893935454248},{"$f":"data1!CQR103","v":51.547805046714934},{"$f":"data1!CQS103","v":46.111111111111114},{"$f":"data1!CQT103","v":51.336168914528457},{"$f":"data1!CQU103","v":51.611111111111114},{"$f":"data1!CQV103","v":46},{"$f":"data1!CQW103","v":51.379579693093383},{"$f":"data1!CQX103","v":49.312501349109731},{"$f":"data1!CQY103","v":46.333333333333336},{"$f":"data1!CQZ103","v":56.733735230637059},{"$f":"data1!CRA103","v":53.388888888888886},{"$f":"data1!CRB103","v":51.555555555555557},{"$f":"data1!CRC103","v":52.305708112726606},{"$f":"data1!CRD103","v":47.095824118399783},{"$f":"data1!CRE103","v":54.114640836652079},{"$f":"data1!CRF103","v":47.888888888888886},{"$f":"data1!CRG103","v":52.944444444444443},{"$f":"data1!CRH103","v":53.160992766992152},{"$f":"data1!CRI103","v":52.618553376722261},{"$f":"data1!CRJ103","v":61.333333333333336},{"$f":"data1!CRK103","v":46.333333333333336},{"$f":"data1!CRL103","v":55.555555555555557},{"$f":"data1!CRM103","v":53.946767926296857},{"$f":"data1!CRN103","v":56.722222222222221},{"$f":"data1!CRO103","v":49.440347423388452},{"$f":"data1!CRP103","v":58.388888888888886},{"$f":"data1!CRQ103","v":59},{"$f":"data1!CRR103","v":55.244117831116384},{"$f":"data1!CRS103","v":51.934156231935162},{"$f":"data1!CRT103","v":50.888888888888886},{"$f":"data1!CRU103","v":46.611111111111114},{"$f":"data1!CRV103","v":47.611111111111114},{"$f":"data1!CRW103","v":56.111111111111114},{"$f":"data1!CRX103","v":53.911356765777342},{"$f":"data1!CRY103","v":55.444444444444443},{"$f":"data1!CRZ103","v":44.786355614130656},{"$f":"data1!CSA103","v":54.12224870182748},{"$f":"data1!CSB103","v":51.122277499512194},{"$f":"data1!CSC103","v":50.736429226116094},{"$f":"data1!CSD103","v":56.296728200169923},{"$f":"data1!CSE103","v":56.744784463498313},{"$f":"data1!CSF103","v":53.249104714205799},{"$f":"data1!CSG103","v":43.5},{"$f":"data1!CSH103","v":52.073440619946751},{"$f":"data1!CSI103","v":49.833333333333336},{"$f":"data1!CSJ103","v":55.777777777777779},{"$f":"data1!CSK103","v":52.222222222222221},{"$f":"data1!CSL103","v":44.555555555555557},{"$f":"data1!CSM103","v":56.209617673679389},{"$f":"data1!CSN103","v":47.804380472511298},{"$f":"data1!CSO103","v":49.010188745990867},{"$f":"data1!CSP103","v":49.553193778144283},{"$f":"data1!CSQ103","v":48.555555555555557},{"$f":"data1!CSR103","v":40.444444444444443},{"$f":"data1!CSS103","v":52.464832627129326},{"$f":"data1!CST103","v":42.799015584656047},{"$f":"data1!CSU103","v":52.111111111111114},{"$f":"data1!CSV103","v":52.422670000117577},{"$f":"data1!CSW103","v":52.292914171366043},{"$f":"data1!CSX103","v":49.903305425057198},{"$f":"data1!CSY103","v":52.694510101240809},{"$f":"data1!CSZ103","v":53.722222222222221},{"$f":"data1!CTA103","v":47.555555555555557},{"$f":"data1!CTB103","v":56.111111111111114},{"$f":"data1!CTC103","v":48.3067093401935},{"$f":"data1!CTD103","v":53.728171411360535},{"$f":"data1!CTE103","v":58.222222222222221},{"$f":"data1!CTF103","v":50.166666666666664},{"$f":"data1!CTG103","v":54.166666666666664},{"$f":"data1!CTH103","v":55},{"$f":"data1!CTI103","v":47.27609823690667},{"$f":"data1!CTJ103","v":52.603178397503754},{"$f":"data1!CTK103","v":47.269976802325132},{"$f":"data1!CTL103","v":56.193729065873647},{"$f":"data1!CTM103","v":50.357369278206356},{"$f":"data1!CTN103","v":56.111111111111114},{"$f":"data1!CTO103","v":52.055555555555557},{"$f":"data1!CTP103","v":55.501827647933482},{"$f":"data1!CTQ103","v":47.434928123217368},{"$f":"data1!CTR103","v":48.599538058221142},{"$f":"data1!CTS103","v":49.111111111111114},{"$f":"data1!CTT103","v":54.823714000100686},{"$f":"data1!CTU103","v":58.944444444444443},{"$f":"data1!CTV103","v":49.272861827416286},{"$f":"data1!CTW103","v":51.388888888888886},{"$f":"data1!CTX103","v":51.405652632093492},{"$f":"data1!CTY103","v":57.166666666666664},{"$f":"data1!CTZ103","v":54.469329874846778},{"$f":"data1!CUA103","v":59.055555555555557},{"$f":"data1!CUB103","v":49.317363234311806},{"$f":"data1!CUC103","v":51.893979605708736},{"$f":"data1!CUD103","v":55.95911641544884},{"$f":"data1!CUE103","v":47.694603525032896},{"$f":"data1!CUF103","v":48.785115247262148},{"$f":"data1!CUG103","v":51.833333333333336},{"$f":"data1!CUH103","v":53.305735824757207},{"$f":"data1!CUI103","v":52.833333333333336},{"$f":"data1!CUJ103","v":49.762844898742792},{"$f":"data1!CUK103","v":53.385196002943289},{"$f":"data1!CUL103","v":52.777777777777779},{"$f":"data1!CUM103","v":56.104001950312849},{"$f":"data1!CUN103","v":58.030292908566331},{"$f":"data1!CUO103","v":52.076046567330124},{"$f":"data1!CUP103","v":53.178420074857087},{"$f":"data1!CUQ103","v":46.333333333333336},{"$f":"data1!CUR103","v":52.273953565776537},{"$f":"data1!CUS103","v":48.92706860480483},{"$f":"data1!CUT103","v":50.963582722133751},{"$f":"data1!CUU103","v":45.166666666666664},{"$f":"data1!CUV103","v":53.317364369696712},{"$f":"data1!CUW103","v":55.518505810815427},{"$f":"data1!CUX103","v":52.777777777777779},{"$f":"data1!CUY103","v":55.444444444444443},{"$f":"data1!CUZ103","v":46.166666666666664},{"$f":"data1!CVA103","v":51.2295368864363},{"$f":"data1!CVB103","v":60.722222222222221},{"$f":"data1!CVC103","v":58.767396469770773},{"$f":"data1!CVD103","v":53.797160363501156},{"$f":"data1!CVE103","v":59.121904643765319},{"$f":"data1!CVF103","v":52.897544842018711},{"$f":"data1!CVG103","v":54.888888888888886},{"$f":"data1!CVH103","v":54.829635985379134},{"$f":"data1!CVI103","v":53.884198182835135},{"$f":"data1!CVJ103","v":58.555555555555557},{"$f":"data1!CVK103","v":53.333333333333336},{"$f":"data1!CVL103","v":47.66742731208079},{"$f":"data1!CVM103","v":57.158868496148393},{"$f":"data1!CVN103","v":58.437068202117288},{"$f":"data1!CVO103","v":53.166666666666664},{"$f":"data1!CVP103","v":60.222222222222221},{"$f":"data1!CVQ103","v":55.5},{"$f":"data1!CVR103","v":55.864955552589194},{"$f":"data1!CVS103","v":45.777777777777779},{"$f":"data1!CVT103","v":59.611111111111114},{"$f":"data1!CVU103","v":48.112797157412807},{"$f":"data1!CVV103","v":53.238413535374967},{"$f":"data1!CVW103","v":53.686162172455283},{"$f":"data1!CVX103","v":51.675551944122454},{"$f":"data1!CVY103","v":53.337580576703054},{"$f":"data1!CVZ103","v":48.721761786371836},{"$f":"data1!CWA103","v":41.166666666666664},{"$f":"data1!CWB103","v":57.111111111111114},{"$f":"data1!CWC103","v":49.500026051274972},{"$f":"data1!CWD103","v":50.901851780025247},{"$f":"data1!CWE103","v":54.777777777777779},{"$f":"data1!CWF103","v":50.503803574541507},{"$f":"data1!CWG103","v":57},{"$f":"data1!CWH103","v":45.485229239106211},{"$f":"data1!CWI103","v":54.833333333333336},{"$f":"data1!CWJ103","v":50.246925371500197},{"$f":"data1!CWK103","v":52.652840348132642},{"$f":"data1!CWL103","v":50.879136027575051},{"$f":"data1!CWM103","v":51.257498704702286},{"$f":"data1!CWN103","v":60.5},{"$f":"data1!CWO103","v":54.888888888888886},{"$f":"data1!CWP103","v":47.215818942659013},{"$f":"data1!CWQ103","v":57.055555555555557},{"$f":"data1!CWR103","v":51.65349802945348},{"$f":"data1!CWS103","v":52.444444444444443},{"$f":"data1!CWT103","v":52.175278635042709},{"$f":"data1!CWU103","v":62.777777777777779},{"$f":"data1!CWV103","v":52.888888888888886},{"$f":"data1!CWW103","v":57.777777777777779},{"$f":"data1!CWX103","v":53.444444444444443},{"$f":"data1!CWY103","v":48.888894344963916},{"$f":"data1!CWZ103","v":59.222222222222221},{"$f":"data1!CXA103","v":58.111111111111114},{"$f":"data1!CXB103","v":48.915411099641055},{"$f":"data1!CXC103","v":52.832273806332978},{"$f":"data1!CXD103","v":51.722222222222221},{"$f":"data1!CXE103","v":55.944444444444443},{"$f":"data1!CXF103","v":58.722222222222221},{"$f":"data1!CXG103","v":62.777777777777779},{"$f":"data1!CXH103","v":52.888888888888886},{"$f":"data1!CXI103","v":53.50915390217228},{"$f":"data1!CXJ103","v":52.4145834402959},{"$f":"data1!CXK103","v":50.915662304238083},{"$f":"data1!CXL103","v":51.055555555555557},{"$f":"data1!CXM103","v":44.055555555555557},{"$f":"data1!CXN103","v":57.277777777777779},{"$f":"data1!CXO103","v":57.777777777777779},{"$f":"data1!CXP103","v":57.888888888888886},{"$f":"data1!CXQ103","v":51.253874292229654},{"$f":"data1!CXR103","v":49.111111111111114},{"$f":"data1!CXS103","v":50.888888888888886},{"$f":"data1!CXT103","v":52.333333333333336},{"$f":"data1!CXU103","v":54.277777777777779},{"$f":"data1!CXV103","v":51.833333333333336},{"$f":"data1!CXW103","v":53.807181665559966},{"$f":"data1!CXX103","v":57.833333333333336},{"$f":"data1!CXY103","v":59.833333333333336},{"$f":"data1!CXZ103","v":56.57747464524958},{"$f":"data1!CYA103","v":55.833333333333336},{"$f":"data1!CYB103","v":50.082520038881704},{"$f":"data1!CYC103","v":59.111111111111114},{"$f":"data1!CYD103","v":54.269050852540744},{"$f":"data1!CYE103","v":49.222222222222221},{"$f":"data1!CYF103","v":55.888888888888886},{"$f":"data1!CYG103","v":50.43197266146359},{"$f":"data1!CYH103","v":52.379325288887948},{"$f":"data1!CYI103","v":55.833333333333336},{"$f":"data1!CYJ103","v":54.556729101033277},{"$f":"data1!CYK103","v":47.865277671243149},{"$f":"data1!CYL103","v":47.568015874159855},{"$f":"data1!CYM103","v":55.833333333333336},{"$f":"data1!CYN103","v":52.081726576438733},{"$f":"data1!CYO103","v":53.148207159536206},{"$f":"data1!CYP103","v":48.077002467295216},{"$f":"data1!CYQ103","v":52.019860802802036},{"$f":"data1!CYR103","v":56.777777777777779},{"$f":"data1!CYS103","v":53.694628715182631},{"$f":"data1!CYT103","v":51.962416114241705},{"$f":"data1!CYU103","v":50.309400817576908},{"$f":"data1!CYV103","v":53.333333333333336},{"$f":"data1!CYW103","v":52.555555555555557},{"$f":"data1!CYX103","v":57.607040144726319},{"$f":"data1!CYY103","v":55.85529345494799},{"$f":"data1!CYZ103","v":45.833333333333336},{"$f":"data1!CZA103","v":53.990641771705761},{"$f":"data1!CZB103","v":54.556729101033277},{"$f":"data1!CZC103","v":46.444444444444443},{"$f":"data1!CZD103","v":46.403278730490698},{"$f":"data1!CZE103","v":56.833333333333336},{"$f":"data1!CZF103","v":52.222222222222221},{"$f":"data1!CZG103","v":52.940340649509835},{"$f":"data1!CZH103","v":57.889894147345409},{"$f":"data1!CZI103","v":51.653941222681851},{"$f":"data1!CZJ103","v":47},{"$f":"data1!CZK103","v":52.722222222222221},{"$f":"data1!CZL103","v":56.277777777777779},{"$f":"data1!CZM103","v":50},{"$f":"data1!CZN103","v":53.994894917297692},{"$f":"data1!CZO103","v":52.108312622033672},{"$f":"data1!CZP103","v":53.388888888888886},{"$f":"data1!CZQ103","v":51.5},{"$f":"data1!CZR103","v":49.853048192734235},{"$f":"data1!CZS103","v":53.555555555555557},{"$f":"data1!CZT103","v":58.5},{"$f":"data1!CZU103","v":52.371211917923667},{"$f":"data1!CZV103","v":53.826325748963761},{"$f":"data1!CZW103","v":52.888888888888886},{"$f":"data1!CZX103","v":50.334560628506644},{"$f":"data1!CZY103","v":56.722222222222221},{"$f":"data1!CZZ103","v":49.513779670782519},{"$f":"data1!DAA103","v":59.0395595708248},{"$f":"data1!DAB103","v":57.388888888888886},{"$f":"data1!DAC103","v":52.674573505081305},{"$f":"data1!DAD103","v":55.166666666666664},{"$f":"data1!DAE103","v":48.958384794010307},{"$f":"data1!DAF103","v":61.444444444444443},{"$f":"data1!DAG103","v":53.972700837507503},{"$f":"data1!DAH103","v":52.678617752182056},{"$f":"data1!DAI103","v":52.949635214939512},{"$f":"data1!DAJ103","v":47.697451839499294},{"$f":"data1!DAK103","v":50.039182923000809},{"$f":"data1!DAL103","v":58.611111111111114},{"$f":"data1!DAM103","v":57.222222222222221},{"$f":"data1!DAN103","v":55.833333333333336},{"$f":"data1!DAO103","v":51.544290080799982},{"$f":"data1!DAP103","v":52.559865012098982},{"$f":"data1!DAQ103","v":53.516881238476216},{"$f":"data1!DAR103","v":51.551198773742442},{"$f":"data1!DAS103","v":56.055555555555557},{"$f":"data1!DAT103","v":56.570750162505014},{"$f":"data1!DAU103","v":54.052710833995555},{"$f":"data1!DAV103","v":54.767396172136138},{"$f":"data1!DAW103","v":52.726316236109966},{"$f":"data1!DAX103","v":51.555555555555557},{"$f":"data1!DAY103","v":51.333333333333336},{"$f":"data1!DAZ103","v":44.095915412885944},{"$f":"data1!DBA103","v":42.111111111111114},{"$f":"data1!DBB103","v":59.555555555555557},{"$f":"data1!DBC103","v":53.888156039213804},{"$f":"data1!DBD103","v":53.383205215244885},{"$f":"data1!DBE103","v":49.119622512203058},{"$f":"data1!DBF103","v":58.388888888888886},{"$f":"data1!DBG103","v":54.944444444444443},{"$f":"data1!DBH103","v":48.525152746845642},{"$f":"data1!DBI103","v":52.151971483301701},{"$f":"data1!DBJ103","v":51.375597605840539},{"$f":"data1!DBK103","v":55.774975425175484},{"$f":"data1!DBL103","v":52.522142935685352},{"$f":"data1!DBM103","v":54.5},{"$f":"data1!DBN103","v":52.490537745875422},{"$f":"data1!DBO103","v":52.066921719825096},{"$f":"data1!DBP103","v":55.388888888888886},{"$f":"data1!DBQ103","v":50.277777777777779},{"$f":"data1!DBR103","v":53.500275907660111},{"$f":"data1!DBS103","v":54.888888888888886},{"$f":"data1!DBT103","v":56.333333333333336},{"$f":"data1!DBU103","v":46.722222222222221},{"$f":"data1!DBV103","v":54.722222222222221},{"$f":"data1!DBW103","v":58.235472889022809},{"$f":"data1!DBX103","v":48.937385765768745},{"$f":"data1!DBY103","v":43.166666666666664},{"$f":"data1!DBZ103","v":48.284388628588808},{"$f":"data1!DCA103","v":49.444444444444443},{"$f":"data1!DCB103","v":47.111111111111114},{"$f":"data1!DCC103","v":57.750655748700105},{"$f":"data1!DCD103","v":52.5},{"$f":"data1!DCE103","v":50.643755222069963},{"$f":"data1!DCF103","v":51.666666666666664},{"$f":"data1!DCG103","v":52.170250772994251},{"$f":"data1!DCH103","v":46.152361572337291},{"$f":"data1!DCI103","v":49.097922453277619},{"$f":"data1!DCJ103","v":52.867371326534425},{"$f":"data1!DCK103","v":50.764162748092112},{"$f":"data1!DCL103","v":51.055555555555557},{"$f":"data1!DCM103","v":51.444707367881421},{"$f":"data1!DCN103","v":55.196860692137967},{"$f":"data1!DCO103","v":52.142298175544738},{"$f":"data1!DCP103","v":50.444444444444443},{"$f":"data1!DCQ103","v":54.508261994367047},{"$f":"data1!DCR103","v":52.727687435869747},{"$f":"data1!DCS103","v":56.777777777777779},{"$f":"data1!DCT103","v":48.222222222222221},{"$f":"data1!DCU103","v":57},{"$f":"data1!DCV103","v":50.131864470843894},{"$f":"data1!DCW103","v":46},{"$f":"data1!DCX103","v":52.5},{"$f":"data1!DCY103","v":50.119150940006342},{"$f":"data1!DCZ103","v":51.220058762672302},{"$f":"data1!DDA103","v":57.944444444444443},{"$f":"data1!DDB103","v":51.959820698666391},{"$f":"data1!DDC103","v":53.990960329064833},{"$f":"data1!DDD103","v":57.777777777777779},{"$f":"data1!DDE103","v":54.459824381118032},{"$f":"data1!DDF103","v":49.029155230146621},{"$f":"data1!DDG103","v":54.888888888888886},{"$f":"data1!DDH103","v":55.722222222222221},{"$f":"data1!DDI103","v":43.388888888888886},{"$f":"data1!DDJ103","v":51.895659225706822},{"$f":"data1!DDK103","v":47.429460864215507},{"$f":"data1!DDL103","v":50.242764415398128},{"$f":"data1!DDM103","v":53.388888888888886},{"$f":"data1!DDN103","v":50.059813377174692},{"$f":"data1!DDO103","v":52.682503202344002},{"$f":"data1!DDP103","v":45.625592344627094},{"$f":"data1!DDQ103","v":56.226150728498425},{"$f":"data1!DDR103","v":53.870334530113297},{"$f":"data1!DDS103","v":56.069463591717472},{"$f":"data1!DDT103","v":57},{"$f":"data1!DDU103","v":52.637807219228982},{"$f":"data1!DDV103","v":55.461403941312284},{"$f":"data1!DDW103","v":52.708058392603867},{"$f":"data1!DDX103","v":54.682407264838666},{"$f":"data1!DDY103","v":53.123275623827261},{"$f":"data1!DDZ103","v":57.333333333333336},{"$f":"data1!DEA103","v":52.295905412252118},{"$f":"data1!DEB103","v":51.777777777777779},{"$f":"data1!DEC103","v":53.630524187671469},{"$f":"data1!DED103","v":49.658975210968578},{"$f":"data1!DEE103","v":50.769011523746762},{"$f":"data1!DEF103","v":57.111111111111114},{"$f":"data1!DEG103","v":49.551701390788288},{"$f":"data1!DEH103","v":49.332134083359406},{"$f":"data1!DEI103","v":56.777777777777779},{"$f":"data1!DEJ103","v":50.477766429541091},{"$f":"data1!DEK103","v":56.424548912782043},{"$f":"data1!DEL103","v":58.722222222222221},{"$f":"data1!DEM103","v":44.555555555555557},{"$f":"data1!DEN103","v":48.529595904673371},{"$f":"data1!DEO103","v":55.189080207889077},{"$f":"data1!DEP103","v":59.166666666666664},{"$f":"data1!DEQ103","v":54.777777777777779},{"$f":"data1!DER103","v":45.111111111111114},{"$f":"data1!DES103","v":58.833333333333336},{"$f":"data1!DET103","v":58.055555555555557},{"$f":"data1!DEU103","v":55.388888888888886},{"$f":"data1!DEV103","v":53.271590621292916},{"$f":"data1!DEW103","v":49.817250012650241},{"$f":"data1!DEX103","v":50.888888888888886},{"$f":"data1!DEY103","v":45.777777777777779},{"$f":"data1!DEZ103","v":56.416060697349081},{"$f":"data1!DFA103","v":46.166666666666664},{"$f":"data1!DFB103","v":56.32354127668831},{"$f":"data1!DFC103","v":52.333333333333336},{"$f":"data1!DFD103","v":49.552088212835983},{"$f":"data1!DFE103","v":54},{"$f":"data1!DFF103","v":57.179720854298722},{"$f":"data1!DFG103","v":54.833333333333336},{"$f":"data1!DFH103","v":57.555555555555557},{"$f":"data1!DFI103","v":48.040842383565185},{"$f":"data1!DFJ103","v":50.944444444444443},{"$f":"data1!DFK103","v":56.111111111111114},{"$f":"data1!DFL103","v":57.444444444444443},{"$f":"data1!DFM103","v":54.460171525170828},{"$f":"data1!DFN103","v":51.057181129813443},{"$f":"data1!DFO103","v":43.888888888888886},{"$f":"data1!DFP103","v":56.777777777777779},{"$f":"data1!DFQ103","v":45.932801607427081},{"$f":"data1!DFR103","v":53.318422035485391},{"$f":"data1!DFS103","v":54.611111111111114},{"$f":"data1!DFT103","v":50.148483711442879},{"$f":"data1!DFU103","v":44.777777777777779},{"$f":"data1!DFV103","v":50.888888888888886},{"$f":"data1!DFW103","v":56.111111111111114},{"$f":"data1!DFX103","v":56.722222222222221},{"$f":"data1!DFY103","v":55.705867400544342},{"$f":"data1!DFZ103","v":53.63751854219975},{"$f":"data1!DGA103","v":57.722222222222221},{"$f":"data1!DGB103","v":57.445644371816371},{"$f":"data1!DGC103","v":50.818985941448467},{"$f":"data1!DGD103","v":48.773439797568557},{"$f":"data1!DGE103","v":53.468877773719356},{"$f":"data1!DGF103","v":45.166666666666664},{"$f":"data1!DGG103","v":59.055555555555557},{"$f":"data1!DGH103","v":50.444444444444443},{"$f":"data1!DGI103","v":48.948344188065285},{"$f":"data1!DGJ103","v":57.888888888888886},{"$f":"data1!DGK103","v":55.555555555555557},{"$f":"data1!DGL103","v":56.873068320044887},{"$f":"data1!DGM103","v":53.202467492976567},{"$f":"data1!DGN103","v":59.722222222222221},{"$f":"data1!DGO103","v":52.030657953476506},{"$f":"data1!DGP103","v":53.472347553682852},{"$f":"data1!DGQ103","v":47.5},{"$f":"data1!DGR103","v":49.490598763175321},{"$f":"data1!DGS103","v":51.987399386357396},{"$f":"data1!DGT103","v":51.349068057777316},{"$f":"data1!DGU103","v":58.111111111111114},{"$f":"data1!DGV103","v":52.888888888888886},{"$f":"data1!DGW103","v":50.8440400772499},{"$f":"data1!DGX103","v":50.849412280197463},{"$f":"data1!DGY103","v":52.944444444444443},{"$f":"data1!DGZ103","v":54.135562677501376},{"$f":"data1!DHA103","v":48.796278775851256},{"$f":"data1!DHB103","v":52.787496684277905},{"$f":"data1!DHC103","v":52.426892599664285},{"$f":"data1!DHD103","v":53.641342939564424},{"$f":"data1!DHE103","v":53.777777777777779},{"$f":"data1!DHF103","v":55.538738302130987},{"$f":"data1!DHG103","v":52.277777777777779},{"$f":"data1!DHH103","v":59.055555555555557},{"$f":"data1!DHI103","v":51.466245777336923},{"$f":"data1!DHJ103","v":56.777777777777779},{"$f":"data1!DHK103","v":53.351421803888549},{"$f":"data1!DHL103","v":48.333333333333336},{"$f":"data1!DHM103","v":45.983375701572172},{"$f":"data1!DHN103","v":54.82449567381164},{"$f":"data1!DHO103","v":50.839556961827959},{"$f":"data1!DHP103","v":57.444444444444443},{"$f":"data1!DHQ103","v":59.222222222222221},{"$f":"data1!DHR103","v":46.277777777777779},{"$f":"data1!DHS103","v":52.460518666955551},{"$f":"data1!DHT103","v":57.444444444444443},{"$f":"data1!DHU103","v":53.015803367711158},{"$f":"data1!DHV103","v":53.363882994512124},{"$f":"data1!DHW103","v":48.388888888888886},{"$f":"data1!DHX103","v":55.054942830874324},{"$f":"data1!DHY103","v":53.109450237403486},{"$f":"data1!DHZ103","v":51.408332590071886},{"$f":"data1!DIA103","v":50.444444444444443},{"$f":"data1!DIB103","v":50.328975438499604},{"$f":"data1!DIC103","v":53.268674849437645},{"$f":"data1!DID103","v":42.111111111111114},{"$f":"data1!DIE103","v":58.444444444444443},{"$f":"data1!DIF103","v":52.337724806743282},{"$f":"data1!DIG103","v":52.277777777777779},{"$f":"data1!DIH103","v":50.813884400989039},{"$f":"data1!DII103","v":52.670571334483668},{"$f":"data1!DIJ103","v":51.277777777777779},{"$f":"data1!DIK103","v":61},{"$f":"data1!DIL103","v":57.112325203489796},{"$f":"data1!DIM103","v":53.460239584927372},{"$f":"data1!DIN103","v":56.5},{"$f":"data1!DIO103","v":54.932284763206049},{"$f":"data1!DIP103","v":51.144558988984947},{"$f":"data1!DIQ103","v":56.807360737668461},{"$f":"data1!DIR103","v":57.333333333333336},{"$f":"data1!DIS103","v":53.155846527618436},{"$f":"data1!DIT103","v":53.21010475399698},{"$f":"data1!DIU103","v":54.722222222222221},{"$f":"data1!DIV103","v":49.387397101618063},{"$f":"data1!DIW103","v":58.35154420811827},{"$f":"data1!DIX103","v":46.791298798408015},{"$f":"data1!DIY103","v":53.964923562581887},{"$f":"data1!DIZ103","v":55.706545978461371},{"$f":"data1!DJA103","v":55.888888888888886},{"$f":"data1!DJB103","v":56.555555555555557},{"$f":"data1!DJC103","v":46.166742481040778},{"$f":"data1!DJD103","v":53.73268516444346},{"$f":"data1!DJE103","v":46.555555555555557},{"$f":"data1!DJF103","v":53.611111111111114},{"$f":"data1!DJG103","v":52.720031071782465},{"$f":"data1!DJH103","v":50.210508179023755},{"$f":"data1!DJI103","v":57.341506182849244},{"$f":"data1!DJJ103","v":49.388888888888886},{"$f":"data1!DJK103","v":57.945495871493904},{"$f":"data1!DJL103","v":48.83945894326061},{"$f":"data1!DJM103","v":53.444444444444443},{"$f":"data1!DJN103","v":54.722222222222221},{"$f":"data1!DJO103","v":53.944444444444443},{"$f":"data1!DJP103","v":55.246585854906378},{"$f":"data1!DJQ103","v":53.388888888888886},{"$f":"data1!DJR103","v":49.229257262409838},{"$f":"data1!DJS103","v":53},{"$f":"data1!DJT103","v":48.394201247383336},{"$f":"data1!DJU103","v":52.777777777777779},{"$f":"data1!DJV103","v":56.111111111111114},{"$f":"data1!DJW103","v":54.925253033564566},{"$f":"data1!DJX103","v":52},{"$f":"data1!DJY103","v":51.611111111111114},{"$f":"data1!DJZ103","v":54.888888888888886},{"$f":"data1!DKA103","v":49.055555555555557},{"$f":"data1!DKB103","v":45},{"$f":"data1!DKC103","v":51.407705189533537},{"$f":"data1!DKD103","v":57.833333333333336},{"$f":"data1!DKE103","v":52.653921728450172},{"$f":"data1!DKF103","v":46.661964715103892},{"$f":"data1!DKG103","v":47.722222222222221},{"$f":"data1!DKH103","v":61},{"$f":"data1!DKI103","v":54.421120125977495},{"$f":"data1!DKJ103","v":56.582124531751738},{"$f":"data1!DKK103","v":54},{"$f":"data1!DKL103","v":58.026162141211834},{"$f":"data1!DKM103","v":51.915318600991903},{"$f":"data1!DKN103","v":58.555555555555557},{"$f":"data1!DKO103","v":54.085901072412888},{"$f":"data1!DKP103","v":57.888888888888886},{"$f":"data1!DKQ103","v":55.888888888888886},{"$f":"data1!DKR103","v":56.777777777777779},{"$f":"data1!DKS103","v":47.822413475427453},{"$f":"data1!DKT103","v":49.919210596670396},{"$f":"data1!DKU103","v":50.229537882313686},{"$f":"data1!DKV103","v":51.866292645610571},{"$f":"data1!DKW103","v":57.277777777777779},{"$f":"data1!DKX103","v":49.166666666666664},{"$f":"data1!DKY103","v":53.5},{"$f":"data1!DKZ103","v":54.388888888888886},{"$f":"data1!DLA103","v":46.610998887549187},{"$f":"data1!DLB103","v":54.444444444444443},{"$f":"data1!DLC103","v":52.403483593537423},{"$f":"data1!DLD103","v":48.37012758807014},{"$f":"data1!DLE103","v":52.944444444444443},{"$f":"data1!DLF103","v":48.166666666666664},{"$f":"data1!DLG103","v":50.413195494810424},{"$f":"data1!DLH103","v":62.333333333333336},{"$f":"data1!DLI103","v":52.5},{"$f":"data1!DLJ103","v":58.333333333333336},{"$f":"data1!DLK103","v":49.065871624626105},{"$f":"data1!DLL103","v":54.653976220361557},{"$f":"data1!DLM103","v":48.396851139958784},{"$f":"data1!DLN103","v":50.795859928605701},{"$f":"data1!DLO103","v":51.222222222222221},{"$f":"data1!DLP103","v":56.743414430212638},{"$f":"data1!DLQ103","v":58.888888888888886},{"$f":"data1!DLR103","v":51.573456725461909},{"$f":"data1!DLS103","v":56.555555555555557},{"$f":"data1!DLT103","v":55.166666666666664},{"$f":"data1!DLU103","v":51.222222222222221},{"$f":"data1!DLV103","v":52.468067635251799},{"$f":"data1!DLW103","v":53.52291516128475},{"$f":"data1!DLX103","v":52.860076563253578},{"$f":"data1!DLY103","v":54.622413507072828},{"$f":"data1!DLZ103","v":60.237188920449853},{"$f":"data1!DMA103","v":51.423004633198353},{"$f":"data1!DMB103","v":52.277777777777779},{"$f":"data1!DMC103","v":54.678381046423048},{"$f":"data1!DMD103","v":57.308459863811827},{"$f":"data1!DME103","v":56.471999318399725},{"$f":"data1!DMF103","v":49.403862884549866},{"$f":"data1!DMG103","v":53.395650309534481},{"$f":"data1!DMH103","v":50.5},{"$f":"data1!DMI103","v":54.666666666666664},{"$f":"data1!DMJ103","v":49.306825913119738},{"$f":"data1!DMK103","v":56.652804019968215},{"$f":"data1!DML103","v":56.444444444444443},{"$f":"data1!DMM103","v":57},{"$f":"data1!DMN103","v":50.819975677271245},{"$f":"data1!DMO103","v":54.222222222222221},{"$f":"data1!DMP103","v":59.388888888888886},{"$f":"data1!DMQ103","v":55.5},{"$f":"data1!DMR103","v":50.813061279383241},{"$f":"data1!DMS103","v":50.666666666666664},{"$f":"data1!DMT103","v":50.624644629084905},{"$f":"data1!DMU103","v":54.849034836940163},{"$f":"data1!DMV103","v":51.462404714581858},{"$f":"data1!DMW103","v":57.222222222222221},{"$f":"data1!DMX103","v":55.388888888888886},{"$f":"data1!DMY103","v":54.777777777777779},{"$f":"data1!DMZ103","v":54.888888888888886},{"$f":"data1!DNA103","v":53.372387787075866},{"$f":"data1!DNB103","v":54.388888888888886},{"$f":"data1!DNC103","v":53},{"$f":"data1!DND103","v":51.405758303748456},{"$f":"data1!DNE103","v":52.57619399503227},{"$f":"data1!DNF103","v":57.450547787564318},{"$f":"data1!DNG103","v":48.958540103352142},{"$f":"data1!DNH103","v":48.937389646568789},{"$f":"data1!DNI103","v":48.055555555555557},{"$f":"data1!DNJ103","v":56.111111111111114},{"$f":"data1!DNK103","v":46.595030992694696},{"$f":"data1!DNL103","v":56.111111111111114},{"$f":"data1!DNM103","v":53.759499445783803},{"$f":"data1!DNN103","v":56.709156237897929},{"$f":"data1!DNO103","v":54.185517221215882},{"$f":"data1!DNP103","v":51.928579470505312},{"$f":"data1!DNQ103","v":51.637171968624074},{"$f":"data1!DNR103","v":53.099289265161445},{"$f":"data1!DNS103","v":43.370895630490494},{"$f":"data1!DNT103","v":48.838614094622862},{"$f":"data1!DNU103","v":53.948812409886777},{"$f":"data1!DNV103","v":48.418782845438322},{"$f":"data1!DNW103","v":53.670109574979143},{"$f":"data1!DNX103","v":54},{"$f":"data1!DNY103","v":47.676672548351654},{"$f":"data1!DNZ103","v":55.333333333333336},{"$f":"data1!DOA103","v":42.444444444444443},{"$f":"data1!DOB103","v":55.555555555555557},{"$f":"data1!DOC103","v":46.868824316333047},{"$f":"data1!DOD103","v":47.78899977406023},{"$f":"data1!DOE103","v":52.046895016715261},{"$f":"data1!DOF103","v":57.555771803107518},{"$f":"data1!DOG103","v":53.879068342277577},{"$f":"data1!DOH103","v":54.944444444444443},{"$f":"data1!DOI103","v":55.202069680924261},{"$f":"data1!DOJ103","v":52.470391717592975},{"$f":"data1!DOK103","v":55.944444444444443},{"$f":"data1!DOL103","v":56.111111111111114},{"$f":"data1!DOM103","v":55.554384864246146},{"$f":"data1!DON103","v":52.215933151817289},{"$f":"data1!DOO103","v":48.722222222222221},{"$f":"data1!DOP103","v":51.771262706961188},{"$f":"data1!DOQ103","v":49.22626120243217},{"$f":"data1!DOR103","v":50.226220467677095},{"$f":"data1!DOS103","v":57.388888888888886},{"$f":"data1!DOT103","v":57.166666666666664},{"$f":"data1!DOU103","v":56.971722839212099},{"$f":"data1!DOV103","v":51.848262433784726},{"$f":"data1!DOW103","v":51.818033858413372},{"$f":"data1!DOX103","v":56.055555555555557},{"$f":"data1!DOY103","v":48.936321460880094},{"$f":"data1!DOZ103","v":58.345175744032787},{"$f":"data1!DPA103","v":53.222222222222221},{"$f":"data1!DPB103","v":46.444444444444443},{"$f":"data1!DPC103","v":53.812137740450304},{"$f":"data1!DPD103","v":55.397443401506706},{"$f":"data1!DPE103","v":53.722222222222221},{"$f":"data1!DPF103","v":59.111111111111114},{"$f":"data1!DPG103","v":54.470725230201651},{"$f":"data1!DPH103","v":55.817597562847951},{"$f":"data1!DPI103","v":56.833333333333336},{"$f":"data1!DPJ103","v":57.833333333333336},{"$f":"data1!DPK103","v":45.388888888888886},{"$f":"data1!DPL103","v":52.058860483082213},{"$f":"data1!DPM103","v":53.126991387692918},{"$f":"data1!DPN103","v":48.5},{"$f":"data1!DPO103","v":55.833333333333336},{"$f":"data1!DPP103","v":56.005928482709756},{"$f":"data1!DPQ103","v":40.888888888888886},{"$f":"data1!DPR103","v":51.868345751594489},{"$f":"data1!DPS103","v":49.322777049463873},{"$f":"data1!DPT103","v":53.987785681055989},{"$f":"data1!DPU103","v":53.300039607427671},{"$f":"data1!DPV103","v":53.722222222222221},{"$f":"data1!DPW103","v":52.888888888888886},{"$f":"data1!DPX103","v":56.555555555555557},{"$f":"data1!DPY103","v":55.197708411297839},{"$f":"data1!DPZ103","v":54.111111111111114},{"$f":"data1!DQA103","v":48.5},{"$f":"data1!DQB103","v":61.065577833702314},{"$f":"data1!DQC103","v":51.888888888888886},{"$f":"data1!DQD103","v":57.908439631270085},{"$f":"data1!DQE103","v":52.078724564431717},{"$f":"data1!DQF103","v":52.722222222222221},{"$f":"data1!DQG103","v":48.91686418521104},{"$f":"data1!DQH103","v":52.944444444444443},{"$f":"data1!DQI103","v":54.722222222222221},{"$f":"data1!DQJ103","v":56},{"$f":"data1!DQK103","v":47.356185319356641},{"$f":"data1!DQL103","v":55.944444444444443},{"$f":"data1!DQM103","v":52.307093129148647},{"$f":"data1!DQN103","v":45.233322975095803},{"$f":"data1!DQO103","v":55.680628487238202},{"$f":"data1!DQP103","v":46.277912243724948},{"$f":"data1!DQQ103","v":56.111111111111114},{"$f":"data1!DQR103","v":52.690321529365505},{"$f":"data1!DQS103","v":57.222222222222221},{"$f":"data1!DQT103","v":49.152124899644768},{"$f":"data1!DQU103","v":52.706147654429913},{"$f":"data1!DQV103","v":51.810765621194619},{"$f":"data1!DQW103","v":54.322874003951},{"$f":"data1!DQX103","v":53.346307355810261},{"$f":"data1!DQY103","v":53.11111661552679},{"$f":"data1!DQZ103","v":49.912830038259443},{"$f":"data1!DRA103","v":55.5},{"$f":"data1!DRB103","v":50.159864687825085},{"$f":"data1!DRC103","v":49.506886593377537},{"$f":"data1!DRD103","v":48.450763584977075},{"$f":"data1!DRE103","v":54.518668578424531},{"$f":"data1!DRF103","v":57.979224897352573},{"$f":"data1!DRG103","v":53.195646819094883},{"$f":"data1!DRH103","v":53.277777777777779},{"$f":"data1!DRI103","v":51.483319983450428},{"$f":"data1!DRJ103","v":56.275015682122849},{"$f":"data1!DRK103","v":52.715724745080955},{"$f":"data1!DRL103","v":53.381814319905523},{"$f":"data1!DRM103","v":57.222939431844594},{"$f":"data1!DRN103","v":50.719310411721089},{"$f":"data1!DRO103","v":58},{"$f":"data1!DRP103","v":55.388888888888886},{"$f":"data1!DRQ103","v":51.534323934329365},{"$f":"data1!DRR103","v":48.320014499895755},{"$f":"data1!DRS103","v":53.945070098843594},{"$f":"data1!DRT103","v":56.055555555555557},{"$f":"data1!DRU103","v":56.111111111111114},{"$f":"data1!DRV103","v":49.811262220813397},{"$f":"data1!DRW103","v":46.800421595813106},{"$f":"data1!DRX103","v":49.375239281171389},{"$f":"data1!DRY103","v":55.10150039998085},{"$f":"data1!DRZ103","v":48.663076170154831},{"$f":"data1!DSA103","v":56.05426318189437},{"$f":"data1!DSB103","v":52.537399838888604},{"$f":"data1!DSC103","v":54.277777777777779},{"$f":"data1!DSD103","v":46.747907212431912},{"$f":"data1!DSE103","v":55.888888888888886},{"$f":"data1!DSF103","v":53.142448041198612},{"$f":"data1!DSG103","v":52.912806094568715},{"$f":"data1!DSH103","v":48.948629868997294},{"$f":"data1!DSI103","v":51.92451171637029},{"$f":"data1!DSJ103","v":52.304459457807724},{"$f":"data1!DSK103","v":54.222222222222221},{"$f":"data1!DSL103","v":53.488284319577488},{"$f":"data1!DSM103","v":52.59607648655016},{"$f":"data1!DSN103","v":49.933751336899761},{"$f":"data1!DSO103","v":54.937396590558301},{"$f":"data1!DSP103","v":57.373129998814385},{"$f":"data1!DSQ103","v":50.772038943862242},{"$f":"data1!DSR103","v":54.824317605088702},{"$f":"data1!DSS103","v":54.777777777777779},{"$f":"data1!DST103","v":51.769526916817284},{"$f":"data1!DSU103","v":50.944444444444443},{"$f":"data1!DSV103","v":56.608436468973508},{"$f":"data1!DSW103","v":54.082343625600267},{"$f":"data1!DSX103","v":57.722222222222221},{"$f":"data1!DSY103","v":51.003053680775047},{"$f":"data1!DSZ103","v":51.165576865287377},{"$f":"data1!DTA103","v":48.888888888888886},{"$f":"data1!DTB103","v":51.042746488625802},{"$f":"data1!DTC103","v":46.444444444444443},{"$f":"data1!DTD103","v":56.111111111111114},{"$f":"data1!DTE103","v":53.136098790274389},{"$f":"data1!DTF103","v":55.269537219562082},{"$f":"data1!DTG103","v":55.086123591304585},{"$f":"data1!DTH103","v":55.277777777777779},{"$f":"data1!DTI103","v":56.848158099375219},{"$f":"data1!DTJ103","v":50.082903999596589},{"$f":"data1!DTK103","v":53.076925622379221},{"$f":"data1!DTL103","v":53.055555555555557},{"$f":"data1!DTM103","v":52.689564654635781},{"$f":"data1!DTN103","v":58.166666666666664},{"$f":"data1!DTO103","v":53.277777777777779},{"$f":"data1!DTP103","v":51.75011096255313},{"$f":"data1!DTQ103","v":56},{"$f":"data1!DTR103","v":49.935911337464091},{"$f":"data1!DTS103","v":57.388888888888886},{"$f":"data1!DTT103","v":52.26400309709777},{"$f":"data1!DTU103","v":53.305671852910848},{"$f":"data1!DTV103","v":46.067065309890637},{"$f":"data1!DTW103","v":42.055555555555557},{"$f":"data1!DTX103","v":57.333333333333336},{"$f":"data1!DTY103","v":56.5},{"$f":"data1!DTZ103","v":55.318382211776694},{"$f":"data1!DUA103","v":55.166666666666664},{"$f":"data1!DUB103","v":54.043274961808756},{"$f":"data1!DUC103","v":48.626945146703122},{"$f":"data1!DUD103","v":53.521056409943249},{"$f":"data1!DUE103","v":56.722222222222221},{"$f":"data1!DUF103","v":56.780114307646905},{"$f":"data1!DUG103","v":53.985332476676071},{"$f":"data1!DUH103","v":54.529744459811432},{"$f":"data1!DUI103","v":54.518789036695175},{"$f":"data1!DUJ103","v":53},{"$f":"data1!DUK103","v":52.822519977982353},{"$f":"data1!DUL103","v":49.234085998701026},{"$f":"data1!DUM103","v":53.666666666666664},{"$f":"data1!DUN103","v":54.611111111111114},{"$f":"data1!DUO103","v":54.777777777777779},{"$f":"data1!DUP103","v":57.222222222222221},{"$f":"data1!DUQ103","v":47.189608406877156},{"$f":"data1!DUR103","v":50.607969297383335},{"$f":"data1!DUS103","v":55.888888888888886},{"$f":"data1!DUT103","v":50.875522392063004},{"$f":"data1!DUU103","v":46.444444444444443},{"$f":"data1!DUV103","v":49.888888888888886},{"$f":"data1!DUW103","v":54.833333333333336},{"$f":"data1!DUX103","v":55.319514420703968},{"$f":"data1!DUY103","v":60.376367120296031},{"$f":"data1!DUZ103","v":42.222222222222221},{"$f":"data1!DVA103","v":58.5},{"$f":"data1!DVB103","v":52},{"$f":"data1!DVC103","v":54.550317362206982},{"$f":"data1!DVD103","v":44.833333333333336},{"$f":"data1!DVE103","v":47.339478769798717},{"$f":"data1!DVF103","v":53.41801558432055},{"$f":"data1!DVG103","v":51.858380068686593},{"$f":"data1!DVH103","v":58.197395607930126},{"$f":"data1!DVI103","v":53.722222222222221},{"$f":"data1!DVJ103","v":44.666666666666664},{"$f":"data1!DVK103","v":55.277777777777779},{"$f":"data1!DVL103","v":50.429065310166592},{"$f":"data1!DVM103","v":49.828855424228678},{"$f":"data1!DVN103","v":47.238022420454449},{"$f":"data1!DVO103","v":56.555555555555557},{"$f":"data1!DVP103","v":49.651227490464471},{"$f":"data1!DVQ103","v":56.277777777777779},{"$f":"data1!DVR103","v":53.50780414386432},{"$f":"data1!DVS103","v":56.023915660582162},{"$f":"data1!DVT103","v":57.388888888888886},{"$f":"data1!DVU103","v":53.055555555555557},{"$f":"data1!DVV103","v":54.277777777777779},{"$f":"data1!DVW103","v":56.518271094987014},{"$f":"data1!DVX103","v":45.898123820441583},{"$f":"data1!DVY103","v":51.330402183319499},{"$f":"data1!DVZ103","v":51.771507614485273},{"$f":"data1!DWA103","v":43.333333333333336},{"$f":"data1!DWB103","v":56.611111111111114},{"$f":"data1!DWC103","v":52.585388488540907},{"$f":"data1!DWD103","v":55.964955620572596},{"$f":"data1!DWE103","v":49.830995594781648},{"$f":"data1!DWF103","v":49.446312798252322},{"$f":"data1!DWG103","v":53.055555555555557},{"$f":"data1!DWH103","v":55.963346487405268},{"$f":"data1!DWI103","v":49.065136471755565},{"$f":"data1!DWJ103","v":50.060816960244139},{"$f":"data1!DWK103","v":54.833333333333336},{"$f":"data1!DWL103","v":52.680505843569613},{"$f":"data1!DWM103","v":53.608447528095468},{"$f":"data1!DWN103","v":49.529612550455141},{"$f":"data1!DWO103","v":50.954921047536111},{"$f":"data1!DWP103","v":51.44343762085731},{"$f":"data1!DWQ103","v":49.555555555555557},{"$f":"data1!DWR103","v":50.938215869114728},{"$f":"data1!DWS103","v":53.555555555555557},{"$f":"data1!DWT103","v":52.031410132649718},{"$f":"data1!DWU103","v":46.444444444444443},{"$f":"data1!DWV103","v":54.194742985627819},{"$f":"data1!DWW103","v":54.833333333333336},{"$f":"data1!DWX103","v":50.944444444444443},{"$f":"data1!DWY103","v":51.518398256063499},{"$f":"data1!DWZ103","v":50.064154382110786},{"$f":"data1!DXA103","v":49.646381957745874},{"$f":"data1!DXB103","v":47.225589304833889},{"$f":"data1!DXC103","v":54.798274330533189},{"$f":"data1!DXD103","v":57.611111111111114},{"$f":"data1!DXE103","v":53.113030691538007},{"$f":"data1!DXF103","v":50.690659962165618},{"$f":"data1!DXG103","v":51.611111111111114},{"$f":"data1!DXH103","v":57.166666666666664},{"$f":"data1!DXI103","v":58.444444444444443},{"$f":"data1!DXJ103","v":55.555555555555557},{"$f":"data1!DXK103","v":55.222222222222221},{"$f":"data1!DXL103","v":53.386761868038008},{"$f":"data1!DXM103","v":52.267446022153784},{"$f":"data1!DXN103","v":54.395970258950328},{"$f":"data1!DXO103","v":56.055555555555557},{"$f":"data1!DXP103","v":57.944444444444443},{"$f":"data1!DXQ103","v":48.825761903829211},{"$f":"data1!DXR103","v":56.166666666666664},{"$f":"data1!DXS103","v":47.982053384341988},{"$f":"data1!DXT103","v":53.878111052797152},{"$f":"data1!DXU103","v":56.055555555555557},{"$f":"data1!DXV103","v":49.155390473725625},{"$f":"data1!DXW103","v":56.944444444444443},{"$f":"data1!DXX103","v":55.448808462839402},{"$f":"data1!DXY103","v":52.169569521607315},{"$f":"data1!DXZ103","v":52.587973279509782},{"$f":"data1!DYA103","v":50.570560778154871},{"$f":"data1!DYB103","v":51.250757214069509},{"$f":"data1!DYC103","v":53.222222222222221},{"$f":"data1!DYD103","v":54.233304889729794},{"$f":"data1!DYE103","v":58.277777777777779},{"$f":"data1!DYF103","v":53.888888888888886},{"$f":"data1!DYG103","v":51.277777777777779},{"$f":"data1!DYH103","v":47.036652048671471},{"$f":"data1!DYI103","v":51.235263751122311},{"$f":"data1!DYJ103","v":55.435876085374211},{"$f":"data1!DYK103","v":58},{"$f":"data1!DYL103","v":56.888888888888886},{"$f":"data1!DYM103","v":54.861334729091716},{"$f":"data1!DYN103","v":48.001644819698463},{"$f":"data1!DYO103","v":48.365790665420505},{"$f":"data1!DYP103","v":57.222222222222221},{"$f":"data1!DYQ103","v":50.5},{"$f":"data1!DYR103","v":56.055555555555557},{"$f":"data1!DYS103","v":49.975975237424464},{"$f":"data1!DYT103","v":56.166666666666664},{"$f":"data1!DYU103","v":49.066474116861585},{"$f":"data1!DYV103","v":55.990330852512244},{"$f":"data1!DYW103","v":48.801017792598614},{"$f":"data1!DYX103","v":50.23961827764694},{"$f":"data1!DYY103","v":55.819109734521838},{"$f":"data1!DYZ103","v":47.055555555555557},{"$f":"data1!DZA103","v":49.509004278954727},{"$f":"data1!DZB103","v":51.567818620225779},{"$f":"data1!DZC103","v":52.833333333333336},{"$f":"data1!DZD103","v":48.946618745706004},{"$f":"data1!DZE103","v":53.055555555555557},{"$f":"data1!DZF103","v":48.277777777777779},{"$f":"data1!DZG103","v":50.388888888888886},{"$f":"data1!DZH103","v":54},{"$f":"data1!DZI103","v":49.103852450587148},{"$f":"data1!DZJ103","v":57.333333333333336},{"$f":"data1!DZK103","v":45.777777777777779},{"$f":"data1!DZL103","v":58.218760159852167},{"$f":"data1!DZM103","v":49.621404917395175},{"$f":"data1!DZN103","v":51.241585342643759},{"$f":"data1!DZO103","v":58.444444444444443},{"$f":"data1!DZP103","v":57.676023027973443},{"$f":"data1!DZQ103","v":56.696654638356407},{"$f":"data1!DZR103","v":52.425795317646283},{"$f":"data1!DZS103","v":49.333333333333336},{"$f":"data1!DZT103","v":52.813978466759977},{"$f":"data1!DZU103","v":55.342934888144256},{"$f":"data1!DZV103","v":55.722222222222221},{"$f":"data1!DZW103","v":50.371163623197049},{"$f":"data1!DZX103","v":53.376357602590964},{"$f":"data1!DZY103","v":47.65714814832485},{"$f":"data1!DZZ103","v":55.416664163902091},{"$f":"data1!EAA103","v":53.555555555555557},{"$f":"data1!EAB103","v":51.618787915483949},{"$f":"data1!EAC103","v":55.333333333333336},{"$f":"data1!EAD103","v":51.127708348436876},{"$f":"data1!EAE103","v":56.666666666666664},{"$f":"data1!EAF103","v":54.751882295006538},{"$f":"data1!EAG103","v":54.222222222222221},{"$f":"data1!EAH103","v":51.111111111111114},{"$f":"data1!EAI103","v":53.555555555555557},{"$f":"data1!EAJ103","v":53.5},{"$f":"data1!EAK103","v":50},{"$f":"data1!EAL103","v":56.111111111111114},{"$f":"data1!EAM103","v":51.442668549719059},{"$f":"data1!EAN103","v":54.888888888888886},{"$f":"data1!EAO103","v":53.837642072289391},{"$f":"data1!EAP103","v":54.944444444444443},{"$f":"data1!EAQ103","v":47.299263660309585},{"$f":"data1!EAR103","v":51.38775316504308},{"$f":"data1!EAS103","v":51.265854767273055},{"$f":"data1!EAT103","v":53.368835410520255},{"$f":"data1!EAU103","v":54.555555555555557},{"$f":"data1!EAV103","v":49.862156404805809},{"$f":"data1!EAW103","v":54.163413783344026},{"$f":"data1!EAX103","v":55.892122322629852},{"$f":"data1!EAY103","v":53.917589351375014},{"$f":"data1!EAZ103","v":53.444444444444443},{"$f":"data1!EBA103","v":54.777777777777779},{"$f":"data1!EBB103","v":47.277777777777779},{"$f":"data1!EBC103","v":53.737321750138101},{"$f":"data1!EBD103","v":60.555555555555557},{"$f":"data1!EBE103","v":47.214005136981456},{"$f":"data1!EBF103","v":53.277777777777779},{"$f":"data1!EBG103","v":54},{"$f":"data1!EBH103","v":48.71858387980469},{"$f":"data1!EBI103","v":52.072093779740079},{"$f":"data1!EBJ103","v":51.264537205068279},{"$f":"data1!EBK103","v":55.611111111111114},{"$f":"data1!EBL103","v":53.277777777777779},{"$f":"data1!EBM103","v":43.777777777777779},{"$f":"data1!EBN103","v":50.340835221717548},{"$f":"data1!EBO103","v":53.105519096574184},{"$f":"data1!EBP103","v":49.722222222222221},{"$f":"data1!EBQ103","v":49.722222222222221},{"$f":"data1!EBR103","v":53.077382836698916},{"$f":"data1!EBS103","v":51.746469133657925},{"$f":"data1!EBT103","v":52.522142935685352},{"$f":"data1!EBU103","v":48.049298184125242},{"$f":"data1!EBV103","v":53.944481474190518},{"$f":"data1!EBW103","v":52.944444444444443},{"$f":"data1!EBX103","v":52.842964644359441},{"$f":"data1!EBY103","v":55.46310329790731},{"$f":"data1!EBZ103","v":56.997813009385169},{"$f":"data1!ECA103","v":51.596771393306454},{"$f":"data1!ECB103","v":56.042484695233007},{"$f":"data1!ECC103","v":55.888888888888886},{"$f":"data1!ECD103","v":53.281765625213197},{"$f":"data1!ECE103","v":55.444444444444443},{"$f":"data1!ECF103","v":51.859960206611312},{"$f":"data1!ECG103","v":54.111111111111114},{"$f":"data1!ECH103","v":54.111111111111114},{"$f":"data1!ECI103","v":55.944444444444443},{"$f":"data1!ECJ103","v":51.692991254282056},{"$f":"data1!ECK103","v":49.960172790902625},{"$f":"data1!ECL103","v":53.555555555555557},{"$f":"data1!ECM103","v":46.169546817685671},{"$f":"data1!ECN103","v":42.666666666666664},{"$f":"data1!ECO103","v":53.441109901181363},{"$f":"data1!ECP103","v":46.782356259810875},{"$f":"data1!ECQ103","v":49.268282816923076},{"$f":"data1!ECR103","v":58.386818030819363},{"$f":"data1!ECS103","v":51.900804994050766},{"$f":"data1!ECT103","v":52.69987467771309},{"$f":"data1!ECU103","v":55.944444444444443},{"$f":"data1!ECV103","v":53.829926212420894},{"$f":"data1!ECW103","v":52.809594631642668},{"$f":"data1!ECX103","v":49.399695855361209},{"$f":"data1!ECY103","v":50.867298728984167},{"$f":"data1!ECZ103","v":54.409697275995462},{"$f":"data1!EDA103","v":50.688110172442343},{"$f":"data1!EDB103","v":50.268661329929387},{"$f":"data1!EDC103","v":52.041137505788733},{"$f":"data1!EDD103","v":52.013276293245958},{"$f":"data1!EDE103","v":57.722222222222221},{"$f":"data1!EDF103","v":47.69897293367174},{"$f":"data1!EDG103","v":54.129473719439616},{"$f":"data1!EDH103","v":54.014929500121305},{"$f":"data1!EDI103","v":53.166666666666664},{"$f":"data1!EDJ103","v":55.179783233190307},{"$f":"data1!EDK103","v":49.222222222222221},{"$f":"data1!EDL103","v":54.422332542400561},{"$f":"data1!EDM103","v":56.111111111111114},{"$f":"data1!EDN103","v":57.888888888888886},{"$f":"data1!EDO103","v":52.611111111111114},{"$f":"data1!EDP103","v":56.333333333333336},{"$f":"data1!EDQ103","v":56.166666666666664},{"$f":"data1!EDR103","v":53.76380291603904},{"$f":"data1!EDS103","v":54.934647964873278},{"$f":"data1!EDT103","v":57.222222222222221},{"$f":"data1!EDU103","v":55.342235453183434},{"$f":"data1!EDV103","v":52.625236332439862},{"$f":"data1!EDW103","v":50.388888888888886},{"$f":"data1!EDX103","v":55.555555555555557},{"$f":"data1!EDY103","v":48.784322901928526},{"$f":"data1!EDZ103","v":46.344451589988012},{"$f":"data1!EEA103","v":55.388888888888886},{"$f":"data1!EEB103","v":51.104104371314577},{"$f":"data1!EEC103","v":59.166666666666664},{"$f":"data1!EED103","v":52.769916033183385},{"$f":"data1!EEE103","v":60.333333333333336},{"$f":"data1!EEF103","v":52.854917198372235},{"$f":"data1!EEG103","v":51.274755848779755},{"$f":"data1!EEH103","v":56},{"$f":"data1!EEI103","v":51.461947685158925},{"$f":"data1!EEJ103","v":56.222222222222221},{"$f":"data1!EEK103","v":53.411411086395702},{"$f":"data1!EEL103","v":51.478716984750235},{"$f":"data1!EEM103","v":53.475256311336551},{"$f":"data1!EEN103","v":55.057941327780114},{"$f":"data1!EEO103","v":52.610424334481053},{"$f":"data1!EEP103","v":56.722222222222221},{"$f":"data1!EEQ103","v":58.444444444444443},{"$f":"data1!EER103","v":52.888888888888886},{"$f":"data1!EES103","v":61.363671513168839},{"$f":"data1!EET103","v":51.261504076970262},{"$f":"data1!EEU103","v":50.234621119641467},{"$f":"data1!EEV103","v":58},{"$f":"data1!EEW103","v":59.722222222222221},{"$f":"data1!EEX103","v":49.222222222222221},{"$f":"data1!EEY103","v":50.186483369957529},{"$f":"data1!EEZ103","v":53.41277021425298},{"$f":"data1!EFA103","v":54.388888888888886},{"$f":"data1!EFB103","v":53.055555555555557},{"$f":"data1!EFC103","v":57.222222222222221},{"$f":"data1!EFD103","v":49.666623380868259},{"$f":"data1!EFE103","v":55.111111111111114},{"$f":"data1!EFF103","v":53.362920071905016},{"$f":"data1!EFG103","v":52.666666666666664},{"$f":"data1!EFH103","v":52.324113185487967},{"$f":"data1!EFI103","v":54.967228717197628},{"$f":"data1!EFJ103","v":59.111111111111114},{"$f":"data1!EFK103","v":56.833333333333336},{"$f":"data1!EFL103","v":51.640629785313415},{"$f":"data1!EFM103","v":54.541986206330449},{"$f":"data1!EFN103","v":57.444444444444443},{"$f":"data1!EFO103","v":48.786972589011647},{"$f":"data1!EFP103","v":58.388888888888886},{"$f":"data1!EFQ103","v":57.944444444444443},{"$f":"data1!EFR103","v":57.111111111111114},{"$f":"data1!EFS103","v":54.783206595124497},{"$f":"data1!EFT103","v":56.293848759976591},{"$f":"data1!EFU103","v":61.777777777777779},{"$f":"data1!EFV103","v":59.166666666666664},{"$f":"data1!EFW103","v":52.777777777777779},{"$f":"data1!EFX103","v":52.75601523926003},{"$f":"data1!EFY103","v":50.381993726238456},{"$f":"data1!EFZ103","v":51.689882676460428},{"$f":"data1!EGA103","v":50.733826048362062},{"$f":"data1!EGB103","v":56.833333333333336},{"$f":"data1!EGC103","v":53.333333333333336},{"$f":"data1!EGD103","v":58.722222222222221},{"$f":"data1!EGE103","v":55.5},{"$f":"data1!EGF103","v":49.333333333333336},{"$f":"data1!EGG103","v":60.555555555555557},{"$f":"data1!EGH103","v":58.441129499272087},{"$f":"data1!EGI103","v":49.416868234508748},{"$f":"data1!EGJ103","v":60.833333333333336},{"$f":"data1!EGK103","v":52.812265750189113},{"$f":"data1!EGL103","v":54.281548985401955},{"$f":"data1!EGM103","v":61.555555555555557},{"$f":"data1!EGN103","v":55.595864200756843},{"$f":"data1!EGO103","v":53.833333333333336},{"$f":"data1!EGP103","v":58.187699493722853},{"$f":"data1!EGQ103","v":55.937063199076071},{"$f":"data1!EGR103","v":52.430185501337036},{"$f":"data1!EGS103","v":45.166666666666664},{"$f":"data1!EGT103","v":60.777777777777779},{"$f":"data1!EGU103","v":51.888888888888886},{"$f":"data1!EGV103","v":53.444444444444443},{"$f":"data1!EGW103","v":52.091245994595155},{"$f":"data1!EGX103","v":57.028363050795029},{"$f":"data1!EGY103","v":48.555555555555557},{"$f":"data1!EGZ103","v":53.926340903646832},{"$f":"data1!EHA103","v":48.09845150983017},{"$f":"data1!EHB103","v":52.111111111111114},{"$f":"data1!EHC103","v":55.277777777777779},{"$f":"data1!EHD103","v":46.546272830600188},{"$f":"data1!EHE103","v":48.833333333333336},{"$f":"data1!EHF103","v":49.421195999998638},{"$f":"data1!EHG103","v":52.996415888229791},{"$f":"data1!EHH103","v":52.888888888888886},{"$f":"data1!EHI103","v":47.944444444444443},{"$f":"data1!EHJ103","v":51.360950055808175},{"$f":"data1!EHK103","v":51.722222222222221},{"$f":"data1!EHL103","v":47.833333333333336},{"$f":"data1!EHM103","v":56},{"$f":"data1!EHN103","v":51.055555555555557},{"$f":"data1!EHO103","v":50.238023722407256},{"$f":"data1!EHP103","v":42.777777777777779},{"$f":"data1!EHQ103","v":53.555555555555557},{"$f":"data1!EHR103","v":55.045369444818625},{"$f":"data1!EHS103","v":57.702027283542748},{"$f":"data1!EHT103","v":52.446009124057795},{"$f":"data1!EHU103","v":54.166666666666664},{"$f":"data1!EHV103","v":49.28434068412659},{"$f":"data1!EHW103","v":55.722222222222221},{"$f":"data1!EHX103","v":53.969424495361437},{"$f":"data1!EHY103","v":58.444444444444443},{"$f":"data1!EHZ103","v":55.944444444444443},{"$f":"data1!EIA103","v":51.888888888888886},{"$f":"data1!EIB103","v":48.081102704379695},{"$f":"data1!EIC103","v":46.078914609603423},{"$f":"data1!EID103","v":51.777777777777779},{"$f":"data1!EIE103","v":53.611111111111114},{"$f":"data1!EIF103","v":52.611111111111114},{"$f":"data1!EIG103","v":51.91208597152157},{"$f":"data1!EIH103","v":55.388888888888886},{"$f":"data1!EII103","v":53.747145197575897},{"$f":"data1!EIJ103","v":44.833333333333336},{"$f":"data1!EIK103","v":51.540150857996942},{"$f":"data1!EIL103","v":51.852463721910198},{"$f":"data1!EIM103","v":54.975795428732518},{"$f":"data1!EIN103","v":59.777777777777779},{"$f":"data1!EIO103","v":51.813242336726461},{"$f":"data1!EIP103","v":53.263196625323012},{"$f":"data1!EIQ103","v":49.749633707135985},{"$f":"data1!EIR103","v":47.734257152383549},{"$f":"data1!EIS103","v":48.327793501744878},{"$f":"data1!EIT103","v":50.439739697033218},{"$f":"data1!EIU103","v":56.235451483599114},{"$f":"data1!EIV103","v":51.045671545212535},{"$f":"data1!EIW103","v":55.055555555555557},{"$f":"data1!EIX103","v":48.446949173415483},{"$f":"data1!EIY103","v":52.269890843338004},{"$f":"data1!EIZ103","v":50.444444444444443},{"$f":"data1!EJA103","v":53.44095734837601},{"$f":"data1!EJB103","v":52.611111111111114},{"$f":"data1!EJC103","v":55.034992077157931},{"$f":"data1!EJD103","v":54.524210084872458},{"$f":"data1!EJE103","v":56.833333333333336},{"$f":"data1!EJF103","v":58.030292936124333},{"$f":"data1!EJG103","v":56.111111111111114},{"$f":"data1!EJH103","v":52.833333333333336},{"$f":"data1!EJI103","v":55.387507372947262},{"$f":"data1!EJJ103","v":51.637458831700776},{"$f":"data1!EJK103","v":53.944444444444443},{"$f":"data1!EJL103","v":56.444444444444443},{"$f":"data1!EJM103","v":56.722222222222221},{"$f":"data1!EJN103","v":52},{"$f":"data1!EJO103","v":55.555555555555557},{"$f":"data1!EJP103","v":53.555555555555557},{"$f":"data1!EJQ103","v":52.706147654429913},{"$f":"data1!EJR103","v":52.07167646911423},{"$f":"data1!EJS103","v":47},{"$f":"data1!EJT103","v":50.082903999596589},{"$f":"data1!EJU103","v":48.550376165471306},{"$f":"data1!EJV103","v":53.759857737500141},{"$f":"data1!EJW103","v":54.111111111111114},{"$f":"data1!EJX103","v":51.436614459252283},{"$f":"data1!EJY103","v":57.333333333333336},{"$f":"data1!EJZ103","v":55.324259122728378},{"$f":"data1!EKA103","v":54.554677731509905},{"$f":"data1!EKB103","v":50.526571174651657},{"$f":"data1!EKC103","v":52.472009797279064},{"$f":"data1!EKD103","v":53.388888888888886},{"$f":"data1!EKE103","v":53.214029836592971},{"$f":"data1!EKF103","v":57.333333333333336},{"$f":"data1!EKG103","v":53.896579418084222},{"$f":"data1!EKH103","v":54.09311086543908},{"$f":"data1!EKI103","v":52.927678993470863},{"$f":"data1!EKJ103","v":57.388888888888886},{"$f":"data1!EKK103","v":53.944444444444443},{"$f":"data1!EKL103","v":56.069468557971696},{"$f":"data1!EKM103","v":55.277777777777779},{"$f":"data1!EKN103","v":54.402042738666232},{"$f":"data1!EKO103","v":49.1532799310718},{"$f":"data1!EKP103","v":58.444444444444443},{"$f":"data1!EKQ103","v":58.563065028019359},{"$f":"data1!EKR103","v":50.25031141203462},{"$f":"data1!EKS103","v":52.283946791156218},{"$f":"data1!EKT103","v":50.669242391210922},{"$f":"data1!EKU103","v":54.958008698263633},{"$f":"data1!EKV103","v":45.252653768336387},{"$f":"data1!EKW103","v":57.388888888888886},{"$f":"data1!EKX103","v":52.444444444444443},{"$f":"data1!EKY103","v":51.493738531206958},{"$f":"data1!EKZ103","v":58.944444444444443},{"$f":"data1!ELA103","v":51.055555555555557},{"$f":"data1!ELB103","v":47.579212420504646},{"$f":"data1!ELC103","v":53.210804038894466},{"$f":"data1!ELD103","v":48.206453945862343},{"$f":"data1!ELE103","v":49.723912032427364},{"$f":"data1!ELF103","v":55.198071483223757},{"$f":"data1!ELG103","v":60.166666666666664},{"$f":"data1!ELH103","v":54.666666666666664},{"$f":"data1!ELI103","v":49.250414808923225},{"$f":"data1!ELJ103","v":54.145193241175996},{"$f":"data1!ELK103","v":56.666666666666664},{"$f":"data1!ELL103","v":52.762281947176241},{"$f":"data1!ELM103","v":50.520090081896264},{"$f":"data1!ELN103","v":58.341831087702275},{"$f":"data1!ELO103","v":53.123212067764598},{"$f":"data1!ELP103","v":57.166666666666664},{"$f":"data1!ELQ103","v":52.183217403309371},{"$f":"data1!ELR103","v":55.833333333333336},{"$f":"data1!ELS103","v":54.520012274726099},{"$f":"data1!ELT103","v":52.746287618095636},{"$f":"data1!ELU103","v":55.888888888888886},{"$f":"data1!ELV103","v":54.666666666666664},{"$f":"data1!ELW103","v":54.292465765420104},{"$f":"data1!ELX103","v":56.90334698291867},{"$f":"data1!ELY103","v":58.277777777777779},{"$f":"data1!ELZ103","v":45.222222222222221},{"$f":"data1!EMA103","v":44.722222222222221},{"$f":"data1!EMB103","v":57.081541573445925},{"$f":"data1!EMC103","v":55.387618672207523},{"$f":"data1!EMD103","v":53.532772408515719},{"$f":"data1!EME103","v":56.833333333333336},{"$f":"data1!EMF103","v":56.666666666666664},{"$f":"data1!EMG103","v":55.99910340861944},{"$f":"data1!EMH103","v":56.613954519852307},{"$f":"data1!EMI103","v":52.823612689153521},{"$f":"data1!EMJ103","v":55.444444444444443},{"$f":"data1!EMK103","v":46.944444444444443},{"$f":"data1!EML103","v":54.74670168260544},{"$f":"data1!EMM103","v":58.611111111111114},{"$f":"data1!EMN103","v":60.444444444444443},{"$f":"data1!EMO103","v":49.777504575123288},{"$f":"data1!EMP103","v":50.801313821518967},{"$f":"data1!EMQ103","v":52.277777777777779},{"$f":"data1!EMR103","v":47},{"$f":"data1!EMS103","v":54.666666666666664},{"$f":"data1!EMT103","v":53},{"$f":"data1!EMU103","v":48.951484133568876},{"$f":"data1!EMV103","v":58.111111111111114},{"$f":"data1!EMW103","v":54.09024780304199},{"$f":"data1!EMX103","v":57.833333333333336},{"$f":"data1!EMY103","v":45.376261411680609},{"$f":"data1!EMZ103","v":50.522592812718202},{"$f":"data1!ENA103","v":51.874748034268123},{"$f":"data1!ENB103","v":51.678623945400389},{"$f":"data1!ENC103","v":50.247849213218373},{"$f":"data1!END103","v":56.277777777777779},{"$f":"data1!ENE103","v":44.388888888888886},{"$f":"data1!ENF103","v":59.388888888888886},{"$f":"data1!ENG103","v":55.487869793774053},{"$f":"data1!ENH103","v":50.742832772002082},{"$f":"data1!ENI103","v":49.055555555555557},{"$f":"data1!ENJ103","v":57.222222222222221},{"$f":"data1!ENK103","v":52.876099589166515},{"$f":"data1!ENL103","v":59.055555555555557},{"$f":"data1!ENM103","v":59.611111111111114},{"$f":"data1!ENN103","v":56.444444444444443},{"$f":"data1!ENO103","v":55.333333333333336},{"$f":"data1!ENP103","v":52.969350150549168},{"$f":"data1!ENQ103","v":52.751841343965673},{"$f":"data1!ENR103","v":58.166666666666664},{"$f":"data1!ENS103","v":50.388888888888886},{"$f":"data1!ENT103","v":55.018979811249849},{"$f":"data1!ENU103","v":51.251206174589306},{"$f":"data1!ENV103","v":54.671297858228584},{"$f":"data1!ENW103","v":50.120771279647059},{"$f":"data1!ENX103","v":56.67202559481332},{"$f":"data1!ENY103","v":57.777777777777779},{"$f":"data1!ENZ103","v":49.009812205206053},{"$f":"data1!EOA103","v":54.681646674385661},{"$f":"data1!EOB103","v":51},{"$f":"data1!EOC103","v":57.207158410924272},{"$f":"data1!EOD103","v":49.111111111111114},{"$f":"data1!EOE103","v":53.728171411360535},{"$f":"data1!EOF103","v":56.666666666666664},{"$f":"data1!EOG103","v":57.188278296015447},{"$f":"data1!EOH103","v":52.190227257258357},{"$f":"data1!EOI103","v":49.944444444444443},{"$f":"data1!EOJ103","v":50.192105413831101},{"$f":"data1!EOK103","v":50.300030812069799},{"$f":"data1!EOL103","v":56.722222222222221},{"$f":"data1!EOM103","v":56.632768806724712},{"$f":"data1!EON103","v":53.419187879025486},{"$f":"data1!EOO103","v":52.195353469765003},{"$f":"data1!EOP103","v":50.250684410665059},{"$f":"data1!EOQ103","v":47.238351787133944},{"$f":"data1!EOR103","v":50.7112550129482},{"$f":"data1!EOS103","v":53.611111111111114},{"$f":"data1!EOT103","v":57.277777777777779},{"$f":"data1!EOU103","v":45.722222222222221},{"$f":"data1!EOV103","v":52.944444444444443},{"$f":"data1!EOW103","v":57.905621531183932},{"$f":"data1!EOX103","v":52.777777777777779},{"$f":"data1!EOY103","v":52.333333333333336},{"$f":"data1!EOZ103","v":56.65661414736563},{"$f":"data1!EPA103","v":55.388888888888886},{"$f":"data1!EPB103","v":43.777777777777779},{"$f":"data1!EPC103","v":51.079952881206481},{"$f":"data1!EPD103","v":54},{"$f":"data1!EPE103","v":56.277777777777779},{"$f":"data1!EPF103","v":55.684938192705459},{"$f":"data1!EPG103","v":44.111111111111114},{"$f":"data1!EPH103","v":55.697889223138027},{"$f":"data1!EPI103","v":49.668877017744684},{"$f":"data1!EPJ103","v":55.599198528654227},{"$f":"data1!EPK103","v":57.388888888888886},{"$f":"data1!EPL103","v":55.555555555555557},{"$f":"data1!EPM103","v":54.976162713490261},{"$f":"data1!EPN103","v":52.151571868509286},{"$f":"data1!EPO103","v":53.888888888888886},{"$f":"data1!EPP103","v":57.727158229730584},{"$f":"data1!EPQ103","v":54.833333333333336},{"$f":"data1!EPR103","v":57.111111111111114},{"$f":"data1!EPS103","v":53.124621005606514},{"$f":"data1!EPT103","v":50.372809616046574},{"$f":"data1!EPU103","v":54.824687277270826},{"$f":"data1!EPV103","v":52.388888888888886},{"$f":"data1!EPW103","v":51.666666666666664},{"$f":"data1!EPX103","v":57.116262006731716},{"$f":"data1!EPY103","v":52.530504706676318},{"$f":"data1!EPZ103","v":52.944444444444443},{"$f":"data1!EQA103","v":52.196286001691597},{"$f":"data1!EQB103","v":61.722222222222221},{"$f":"data1!EQC103","v":53.777777777777779},{"$f":"data1!EQD103","v":58.821196771524882},{"$f":"data1!EQE103","v":53.388888888888886},{"$f":"data1!EQF103","v":48.841307922918269},{"$f":"data1!EQG103","v":55.337970679759977},{"$f":"data1!EQH103","v":49.503035258254073},{"$f":"data1!EQI103","v":56.233554472776127},{"$f":"data1!EQJ103","v":50.541994516859056},{"$f":"data1!EQK103","v":55.722222222222221},{"$f":"data1!EQL103","v":46.277777777777779},{"$f":"data1!EQM103","v":53.624185082354501},{"$f":"data1!EQN103","v":52.245333226792091},{"$f":"data1!EQO103","v":60.388888888888886},{"$f":"data1!EQP103","v":54.690710974743695},{"$f":"data1!EQQ103","v":50.793588122542502},{"$f":"data1!EQR103","v":58.163847330935113},{"$f":"data1!EQS103","v":56.515597816434379},{"$f":"data1!EQT103","v":52.564528825931298},{"$f":"data1!EQU103","v":42.388888888888886},{"$f":"data1!EQV103","v":51.277777777777779},{"$f":"data1!EQW103","v":54.555555555555557},{"$f":"data1!EQX103","v":52.166666666666664},{"$f":"data1!EQY103","v":57.388888888888886},{"$f":"data1!EQZ103","v":53.907179278898553},{"$f":"data1!ERA103","v":54},{"$f":"data1!ERB103","v":49.707180578540616},{"$f":"data1!ERC103","v":53.5},{"$f":"data1!ERD103","v":56.452402445722669},{"$f":"data1!ERE103","v":56.802371717482274},{"$f":"data1!ERF103","v":56.777777777777779},{"$f":"data1!ERG103","v":51.611111111111114},{"$f":"data1!ERH103","v":56.055555555555557},{"$f":"data1!ERI103","v":52.72315768466818},{"$f":"data1!ERJ103","v":61.444444444444443},{"$f":"data1!ERK103","v":49.666666666666664},{"$f":"data1!ERL103","v":54.555555555555557},{"$f":"data1!ERM103","v":53.555555555555557},{"$f":"data1!ERN103","v":57.111111111111114},{"$f":"data1!ERO103","v":45.555555555555557},{"$f":"data1!ERP103","v":56.388888888888886},{"$f":"data1!ERQ103","v":52.64173520649279},{"$f":"data1!ERR103","v":54.47786685187701},{"$f":"data1!ERS103","v":47.38582771134449},{"$f":"data1!ERT103","v":56.888888888888886},{"$f":"data1!ERU103","v":53.135813789312692},{"$f":"data1!ERV103","v":55.390680176942922},{"$f":"data1!ERW103","v":54.321839498753469},{"$f":"data1!ERX103","v":50.686529449241846},{"$f":"data1!ERY103","v":47.423773866765764},{"$f":"data1!ERZ103","v":51.990952053159859},{"$f":"data1!ESA103","v":56.111111111111114},{"$f":"data1!ESB103","v":57.888888888888886},{"$f":"data1!ESC103","v":53.425443188075697},{"$f":"data1!ESD103","v":49.212581558522551},{"$f":"data1!ESE103","v":50.832792157485528},{"$f":"data1!ESF103","v":60.555555555555557},{"$f":"data1!ESG103","v":52.127056257487084},{"$f":"data1!ESH103","v":57.166666666666664},{"$f":"data1!ESI103","v":53.388888888888886},{"$f":"data1!ESJ103","v":41},{"$f":"data1!ESK103","v":55.659187188406108},{"$f":"data1!ESL103","v":52.888888888888886},{"$f":"data1!ESM103","v":57.5},{"$f":"data1!ESN103","v":52.664660140868619},{"$f":"data1!ESO103","v":56.666666666666664},{"$f":"data1!ESP103","v":54.722222222222221},{"$f":"data1!ESQ103","v":41.055555555555557},{"$f":"data1!ESR103","v":50.850781313989636},{"$f":"data1!ESS103","v":51.944444444444443},{"$f":"data1!EST103","v":50.742230108859786},{"$f":"data1!ESU103","v":53.722222222222221},{"$f":"data1!ESV103","v":56.666666666666664},{"$f":"data1!ESW103","v":52.32429177333519},{"$f":"data1!ESX103","v":48.833333333333336},{"$f":"data1!ESY103","v":51.166666666666664},{"$f":"data1!ESZ103","v":56.544476489712807},{"$f":"data1!ETA103","v":46.949998909583734},{"$f":"data1!ETB103","v":50.098457249056125},{"$f":"data1!ETC103","v":51.94516859801962},{"$f":"data1!ETD103","v":46.566783793883538},{"$f":"data1!ETE103","v":44.611111111111114},{"$f":"data1!ETF103","v":54.777777777777779},{"$f":"data1!ETG103","v":55.037207813769889},{"$f":"data1!ETH103","v":53.247801335685999},{"$f":"data1!ETI103","v":56.657714645249058},{"$f":"data1!ETJ103","v":47.512341655186837},{"$f":"data1!ETK103","v":44.833333333333336},{"$f":"data1!ETL103","v":53.140090718924732},{"$f":"data1!ETM103","v":54.766591093227213},{"$f":"data1!ETN103","v":50.132943415496619},{"$f":"data1!ETO103","v":49.111111111111114},{"$f":"data1!ETP103","v":52.5},{"$f":"data1!ETQ103","v":51.819090276554135},{"$f":"data1!ETR103","v":59.153586954360861},{"$f":"data1!ETS103","v":58.722222222222221},{"$f":"data1!ETT103","v":56.722222222222221},{"$f":"data1!ETU103","v":51.639514596149347},{"$f":"data1!ETV103","v":56.058696943891491},{"$f":"data1!ETW103","v":51.555320253366681},{"$f":"data1!ETX103","v":59.166666666666664},{"$f":"data1!ETY103","v":52.575331329095633},{"$f":"data1!ETZ103","v":57.333333333333336},{"$f":"data1!EUA103","v":52.200020650208337},{"$f":"data1!EUB103","v":54.591028435949241},{"$f":"data1!EUC103","v":54.624278341661267},{"$f":"data1!EUD103","v":56.5},{"$f":"data1!EUE103","v":47.833333333333336},{"$f":"data1!EUF103","v":54.636952678912735},{"$f":"data1!EUG103","v":54.166666666666664},{"$f":"data1!EUH103","v":55},{"$f":"data1!EUI103","v":51.505532747946617},{"$f":"data1!EUJ103","v":48.808459470718226},{"$f":"data1!EUK103","v":52.01541853429957},{"$f":"data1!EUL103","v":49.708906572590976},{"$f":"data1!EUM103","v":55.941095675455216},{"$f":"data1!EUN103","v":57.222222222222221},{"$f":"data1!EUO103","v":58.388888888888886},{"$f":"data1!EUP103","v":54.187195864711008},{"$f":"data1!EUQ103","v":43.277777777777779},{"$f":"data1!EUR103","v":58.5},{"$f":"data1!EUS103","v":58.555555555555557},{"$f":"data1!EUT103","v":46.722222222222221},{"$f":"data1!EUU103","v":53.853122972905368},{"$f":"data1!EUV103","v":49.5},{"$f":"data1!EUW103","v":41.888888888888886},{"$f":"data1!EUX103","v":57.833333333333336},{"$f":"data1!EUY103","v":44.973555666406568},{"$f":"data1!EUZ103","v":53.611111111111114},{"$f":"data1!EVA103","v":56.444444444444443},{"$f":"data1!EVB103","v":57},{"$f":"data1!EVC103","v":54.666666666666664},{"$f":"data1!EVD103","v":52.112063009059867},{"$f":"data1!EVE103","v":53.322141038771441},{"$f":"data1!EVF103","v":51.30718176857345},{"$f":"data1!EVG103","v":57.888888888888886},{"$f":"data1!EVH103","v":51.870702095541759},{"$f":"data1!EVI103","v":52.454315113723041},{"$f":"data1!EVJ103","v":54.191410263942352},{"$f":"data1!EVK103","v":49.29492220544924},{"$f":"data1!EVL103","v":53.666666666666664},{"$f":"data1!EVM103","v":41.722222222222221},{"$f":"data1!EVN103","v":53.404280974225074},{"$f":"data1!EVO103","v":47.111111111111114},{"$f":"data1!EVP103","v":57.444444444444443},{"$f":"data1!EVQ103","v":56.602421163467113},{"$f":"data1!EVR103","v":52.944444444444443},{"$f":"data1!EVS103","v":57.38569996203244},{"$f":"data1!EVT103","v":51.9626804354846},{"$f":"data1!EVU103","v":52.75564491954988},{"$f":"data1!EVV103","v":48.200604313367741},{"$f":"data1!EVW103","v":58.616396554679781},{"$f":"data1!EVX103","v":56},{"$f":"data1!EVY103","v":57.340234465620469},{"$f":"data1!EVZ103","v":55.444444444444443},{"$f":"data1!EWA103","v":56.62593450867729},{"$f":"data1!EWB103","v":48.888888888888886},{"$f":"data1!EWC103","v":54.249448804709971},{"$f":"data1!EWD103","v":50.5},{"$f":"data1!EWE103","v":58.611111111111114},{"$f":"data1!EWF103","v":58.055555555555557},{"$f":"data1!EWG103","v":59.252561728080273},{"$f":"data1!EWH103","v":52.5},{"$f":"data1!EWI103","v":57.091644507558108},{"$f":"data1!EWJ103","v":60.5},{"$f":"data1!EWK103","v":54.777777777777779},{"$f":"data1!EWL103","v":51.888888888888886},{"$f":"data1!EWM103","v":49.165326695824177},{"$f":"data1!EWN103","v":58.388888888888886},{"$f":"data1!EWO103","v":50.055555555555557},{"$f":"data1!EWP103","v":53.043367788363653},{"$f":"data1!EWQ103","v":54.888888888888886},{"$f":"data1!EWR103","v":54.611111111111114},{"$f":"data1!EWS103","v":51.722222222222221},{"$f":"data1!EWT103","v":54.611111111111114},{"$f":"data1!EWU103","v":52.110074803908915},{"$f":"data1!EWV103","v":49.570932038502114},{"$f":"data1!EWW103","v":57.804305168759498},{"$f":"data1!EWX103","v":54.098932323894495},{"$f":"data1!EWY103","v":50.785326110968967},{"$f":"data1!EWZ103","v":54.636023621969997},{"$f":"data1!EXA103","v":49.064951638696797},{"$f":"data1!EXB103","v":47.217583245794721},{"$f":"data1!EXC103","v":56.611111111111114},{"$f":"data1!EXD103","v":58},{"$f":"data1!EXE103","v":48.944444444444443},{"$f":"data1!EXF103","v":47.464245764756171},{"$f":"data1!EXG103","v":52.029776671508749},{"$f":"data1!EXH103","v":47.710803267430222},{"$f":"data1!EXI103","v":55.111111111111114},{"$f":"data1!EXJ103","v":53.611111111111114},{"$f":"data1!EXK103","v":55.611111111111114},{"$f":"data1!EXL103","v":53.555555555555557},{"$f":"data1!EXM103","v":57.222222222222221},{"$f":"data1!EXN103","v":54.666666666666664},{"$f":"data1!EXO103","v":48.388888888888886},{"$f":"data1!EXP103","v":57.864190462887727},{"$f":"data1!EXQ103","v":46.444444444444443},{"$f":"data1!EXR103","v":52.792040598457689},{"$f":"data1!EXS103","v":55.942099578724331},{"$f":"data1!EXT103","v":46.90027641064416},{"$f":"data1!EXU103","v":52},{"$f":"data1!EXV103","v":54.055555555555557},{"$f":"data1!EXW103","v":54.888888888888886},{"$f":"data1!EXX103","v":53.938104086085609},{"$f":"data1!EXY103","v":57.444444444444443},{"$f":"data1!EXZ103","v":51.333333333333336},{"$f":"data1!EYA103","v":54.833333333333336},{"$f":"data1!EYB103","v":46.333333333333336},{"$f":"data1!EYC103","v":55.111111111111114},{"$f":"data1!EYD103","v":54.166666666666664},{"$f":"data1!EYE103","v":40.5},{"$f":"data1!EYF103","v":50.055555555555557},{"$f":"data1!EYG103","v":48.888993473971738},{"$f":"data1!EYH103","v":53.637463546077576},{"$f":"data1!EYI103","v":51.783971634633104},{"$f":"data1!EYJ103","v":49.038403498913425},{"$f":"data1!EYK103","v":52.792842331230823},{"$f":"data1!EYL103","v":53},{"$f":"data1!EYM103","v":56.919141658091675},{"$f":"data1!EYN103","v":55.388888888888886},{"$f":"data1!EYO103","v":57.277777777777779},{"$f":"data1!EYP103","v":54.028221427614511},{"$f":"data1!EYQ103","v":49.295916925057973},{"$f":"data1!EYR103","v":51.3880059739529},{"$f":"data1!EYS103","v":54.611111111111114},{"$f":"data1!EYT103","v":50.751966818877733},{"$f":"data1!EYU103","v":55.5},{"$f":"data1!EYV103","v":54.697424594739324},{"$f":"data1!EYW103","v":52.966674529175627},{"$f":"data1!EYX103","v":51.907178977667897},{"$f":"data1!EYY103","v":49.984761570602956},{"$f":"data1!EYZ103","v":47.917287471878453},{"$f":"data1!EZA103","v":60.444444444444443},{"$f":"data1!EZB103","v":52.266314121736031},{"$f":"data1!EZC103","v":55.822837000663817},{"$f":"data1!EZD103","v":52.978971063342492},{"$f":"data1!EZE103","v":52.216299608380936},{"$f":"data1!EZF103","v":55.590536982220812},{"$f":"data1!EZG103","v":47.374999294371342},{"$f":"data1!EZH103","v":47.065524513615095},{"$f":"data1!EZI103","v":50.666666666666664},{"$f":"data1!EZJ103","v":49.798572650416105},{"$f":"data1!EZK103","v":53.501466734075294},{"$f":"data1!EZL103","v":47.149439721068845},{"$f":"data1!EZM103","v":48.332550277285243},{"$f":"data1!EZN103","v":46.400513190571786},{"$f":"data1!EZO103","v":50.254793117445324},{"$f":"data1!EZP103","v":49.004007858052127},{"$f":"data1!EZQ103","v":50.723543428489847},{"$f":"data1!EZR103","v":44.611111111111114},{"$f":"data1!EZS103","v":57.504037643855177},{"$f":"data1!EZT103","v":57.166666666666664},{"$f":"data1!EZU103","v":51.438808673048328},{"$f":"data1!EZV103","v":55.444444444444443},{"$f":"data1!EZW103","v":53.350496160596769},{"$f":"data1!EZX103","v":54.722222222222221},{"$f":"data1!EZY103","v":62.055555555555557},{"$f":"data1!EZZ103","v":51.850408873735546},{"$f":"data1!FAA103","v":52.821727423114723},{"$f":"data1!FAB103","v":53.924035118392524},{"$f":"data1!FAC103","v":52.128978111487008},{"$f":"data1!FAD103","v":55.849849227932474},{"$f":"data1!FAE103","v":53.388888888888886},{"$f":"data1!FAF103","v":57.743088075278173},{"$f":"data1!FAG103","v":45.555555555555557},{"$f":"data1!FAH103","v":58.944444444444443},{"$f":"data1!FAI103","v":56.611111111111114},{"$f":"data1!FAJ103","v":49.09789343022473},{"$f":"data1!FAK103","v":53.826503493204456},{"$f":"data1!FAL103","v":56.780647232377241},{"$f":"data1!FAM103","v":51.111111111111114},{"$f":"data1!FAN103","v":54.733825855010068},{"$f":"data1!FAO103","v":53.969424495361437},{"$f":"data1!FAP103","v":43.833333333333336},{"$f":"data1!FAQ103","v":55.245236198897402},{"$f":"data1!FAR103","v":51.055555555555557},{"$f":"data1!FAS103","v":56},{"$f":"data1!FAT103","v":54.435337293461188},{"$f":"data1!FAU103","v":51.406989935344662},{"$f":"data1!FAV103","v":53.344628968772795},{"$f":"data1!FAW103","v":38.666666666666664},{"$f":"data1!FAX103","v":52.340395682992494},{"$f":"data1!FAY103","v":55.907885302206033},{"$f":"data1!FAZ103","v":49.225955568015735},{"$f":"data1!FBA103","v":56.611111111111114},{"$f":"data1!FBB103","v":55.388888888888886},{"$f":"data1!FBC103","v":52.5},{"$f":"data1!FBD103","v":55.611111111111114},{"$f":"data1!FBE103","v":54.468171974490097},{"$f":"data1!FBF103","v":51.652640263951739},{"$f":"data1!FBG103","v":49.946850527299098},{"$f":"data1!FBH103","v":46.055555555555557},{"$f":"data1!FBI103","v":51.777777777777779},{"$f":"data1!FBJ103","v":57.722222222222221},{"$f":"data1!FBK103","v":51.243180294687917},{"$f":"data1!FBL103","v":52.766528885611699},{"$f":"data1!FBM103","v":52.556316888435262},{"$f":"data1!FBN103","v":51.334485924119441},{"$f":"data1!FBO103","v":51.408634844592207},{"$f":"data1!FBP103","v":51.333333333333336},{"$f":"data1!FBQ103","v":51.871069999211294},{"$f":"data1!FBR103","v":51.505060257478817},{"$f":"data1!FBS103","v":51.484168568487007},{"$f":"data1!FBT103","v":50.762082071727868},{"$f":"data1!FBU103","v":55.5},{"$f":"data1!FBV103","v":55.722222222222221},{"$f":"data1!FBW103","v":59.777777777777779},{"$f":"data1!FBX103","v":50.626373530962347},{"$f":"data1!FBY103","v":48.777777777777779},{"$f":"data1!FBZ103","v":57.607956487207893},{"$f":"data1!FCA103","v":47.146546436108309},{"$f":"data1!FCB103","v":51.694707676391793},{"$f":"data1!FCC103","v":54.557568083664471},{"$f":"data1!FCD103","v":44.555555555555557},{"$f":"data1!FCE103","v":53.888888888888886},{"$f":"data1!FCF103","v":53.366730806047158},{"$f":"data1!FCG103","v":48.831639840532489},{"$f":"data1!FCH103","v":51.875490262816776},{"$f":"data1!FCI103","v":55.166666666666664},{"$f":"data1!FCJ103","v":49.083866349106131},{"$f":"data1!FCK103","v":53.461947426959064},{"$f":"data1!FCL103","v":53.555555555555557},{"$f":"data1!FCM103","v":60.055555555555557},{"$f":"data1!FCN103","v":52.166666666666664},{"$f":"data1!FCO103","v":55.405748162607068},{"$f":"data1!FCP103","v":44.666666666666664},{"$f":"data1!FCQ103","v":50.472508851912885},{"$f":"data1!FCR103","v":58.666666666666664},{"$f":"data1!FCS103","v":55.333333333333336},{"$f":"data1!FCT103","v":53.523994659201769},{"$f":"data1!FCU103","v":55.945550544355449},{"$f":"data1!FCV103","v":48.096818151164335},{"$f":"data1!FCW103","v":57.611111111111114},{"$f":"data1!FCX103","v":55.405523887728251},{"$f":"data1!FCY103","v":53.5},{"$f":"data1!FCZ103","v":63.444444444444443},{"$f":"data1!FDA103","v":52.611111111111114},{"$f":"data1!FDB103","v":51.688974990832158},{"$f":"data1!FDC103","v":58.388888888888886},{"$f":"data1!FDD103","v":53.333333333333336},{"$f":"data1!FDE103","v":57.666666666666664},{"$f":"data1!FDF103","v":58.555555555555557},{"$f":"data1!FDG103","v":60.5},{"$f":"data1!FDH103","v":51.847478213088749},{"$f":"data1!FDI103","v":50.74273431382592},{"$f":"data1!FDJ103","v":53.289001647171354},{"$f":"data1!FDK103","v":56.666666666666664},{"$f":"data1!FDL103","v":57.722222222222221},{"$f":"data1!FDM103","v":51.718794057097583},{"$f":"data1!FDN103","v":58.888888888888886},{"$f":"data1!FDO103","v":48.336152301429216},{"$f":"data1!FDP103","v":52.04521384993911},{"$f":"data1!FDQ103","v":57.777777777777779},{"$f":"data1!FDR103","v":44.555555555555557},{"$f":"data1!FDS103","v":44.055555555555557},{"$f":"data1!FDT103","v":59.152126192732261},{"$f":"data1!FDU103","v":56.166666666666664},{"$f":"data1!FDV103","v":47.937002745457121},{"$f":"data1!FDW103","v":58.055555555555557},{"$f":"data1!FDX103","v":55.541406258003384},{"$f":"data1!FDY103","v":53.942809394875916},{"$f":"data1!FDZ103","v":55.055555555555557},{"$f":"data1!FEA103","v":52.277777777777779},{"$f":"data1!FEB103","v":54.49555142518134},{"$f":"data1!FEC103","v":52.5},{"$f":"data1!FED103","v":53.722222222222221},{"$f":"data1!FEE103","v":52.166666666666664},{"$f":"data1!FEF103","v":47.777777777777779},{"$f":"data1!FEG103","v":54.599198221600034},{"$f":"data1!FEH103","v":51.56342883090268},{"$f":"data1!FEI103","v":58.277777777777779},{"$f":"data1!FEJ103","v":55.166666666666664},{"$f":"data1!FEK103","v":52.756190238026335},{"$f":"data1!FEL103","v":48.594184802714608},{"$f":"data1!FEM103","v":53.5},{"$f":"data1!FEN103","v":49.44055917131049},{"$f":"data1!FEO103","v":60.555555555555557},{"$f":"data1!FEP103","v":53.861699835974463},{"$f":"data1!FEQ103","v":54.888888888888886},{"$f":"data1!FER103","v":49.333333333333336},{"$f":"data1!FES103","v":51.483087733593692},{"$f":"data1!FET103","v":52.333333333333336},{"$f":"data1!FEU103","v":50.323883695097706},{"$f":"data1!FEV103","v":54.144676206901096},{"$f":"data1!FEW103","v":53.761341170777641},{"$f":"data1!FEX103","v":49.49640998221723},{"$f":"data1!FEY103","v":58},{"$f":"data1!FEZ103","v":52.346305190790055},{"$f":"data1!FFA103","v":55.303018728040307},{"$f":"data1!FFB103","v":57.777777777777779},{"$f":"data1!FFC103","v":49.555555555555557},{"$f":"data1!FFD103","v":51.297457514030143},{"$f":"data1!FFE103","v":53.388888888888886},{"$f":"data1!FFF103","v":50.797887115549422},{"$f":"data1!FFG103","v":57.388888888888886},{"$f":"data1!FFH103","v":51.145030217438489},{"$f":"data1!FFI103","v":53.945907791330164},{"$f":"data1!FFJ103","v":54.060597506987364},{"$f":"data1!FFK103","v":55.536238413517594},{"$f":"data1!FFL103","v":58.584834204241005},{"$f":"data1!FFM103","v":54.135189189445157},{"$f":"data1!FFN103","v":44},{"$f":"data1!FFO103","v":51.833333333333336},{"$f":"data1!FFP103","v":60.435972023113877},{"$f":"data1!FFQ103","v":51.388888888888886},{"$f":"data1!FFR103","v":54.666666666666664},{"$f":"data1!FFS103","v":55.456207950681275},{"$f":"data1!FFT103","v":58.334578700584174},{"$f":"data1!FFU103","v":56.111111111111114},{"$f":"data1!FFV103","v":55.421588618104643},{"$f":"data1!FFW103","v":56.000450757842572},{"$f":"data1!FFX103","v":45.333333333333336},{"$f":"data1!FFY103","v":49.475207307161504},{"$f":"data1!FFZ103","v":54.833333333333336},{"$f":"data1!FGA103","v":57.888888888888886},{"$f":"data1!FGB103","v":45},{"$f":"data1!FGC103","v":53.444444444444443},{"$f":"data1!FGD103","v":53.438872998998249},{"$f":"data1!FGE103","v":44.055555555555557},{"$f":"data1!FGF103","v":54.777777777777779},{"$f":"data1!FGG103","v":53.444444444444443},{"$f":"data1!FGH103","v":55.333333333333336},{"$f":"data1!FGI103","v":60.552870546548696},{"$f":"data1!FGJ103","v":53.687008020832423},{"$f":"data1!FGK103","v":48.808242733167887},{"$f":"data1!FGL103","v":52.444444444444443},{"$f":"data1!FGM103","v":55.791288985556712},{"$f":"data1!FGN103","v":49.027152768077208},{"$f":"data1!FGO103","v":55.444444444444443},{"$f":"data1!FGP103","v":53.5810027803658},{"$f":"data1!FGQ103","v":55.116258033396576},{"$f":"data1!FGR103","v":50.353439859315685},{"$f":"data1!FGS103","v":46.111111111111114},{"$f":"data1!FGT103","v":49.247645878087432},{"$f":"data1!FGU103","v":47.989808732930001},{"$f":"data1!FGV103","v":57.522578755370077},{"$f":"data1!FGW103","v":53.070478501665335},{"$f":"data1!FGX103","v":52.888888888888886},{"$f":"data1!FGY103","v":53.426530439422351},{"$f":"data1!FGZ103","v":53.658754319166242},{"$f":"data1!FHA103","v":45.9551586370618},{"$f":"data1!FHB103","v":49.201405778903606},{"$f":"data1!FHC103","v":57.222222222222221},{"$f":"data1!FHD103","v":50.343443117255134},{"$f":"data1!FHE103","v":52.389513848602824},{"$f":"data1!FHF103","v":54.768009833568627},{"$f":"data1!FHG103","v":56.555555555555557},{"$f":"data1!FHH103","v":47.5},{"$f":"data1!FHI103","v":53.27882089075765},{"$f":"data1!FHJ103","v":51.342935749857169},{"$f":"data1!FHK103","v":50.914799601841928},{"$f":"data1!FHL103","v":58.555555555555557},{"$f":"data1!FHM103","v":55.066123257896635},{"$f":"data1!FHN103","v":52.777777777777779},{"$f":"data1!FHO103","v":56.346219614664051},{"$f":"data1!FHP103","v":46.913536889887673},{"$f":"data1!FHQ103","v":52.190864472593688},{"$f":"data1!FHR103","v":58.149820464329572},{"$f":"data1!FHS103","v":55.923279208926594},{"$f":"data1!FHT103","v":50.88051115437252},{"$f":"data1!FHU103","v":55.931994284627585},{"$f":"data1!FHV103","v":54.265671600902564},{"$f":"data1!FHW103","v":55.912485285164522},{"$f":"data1!FHX103","v":54.388888888888886},{"$f":"data1!FHY103","v":54.001930364351523},{"$f":"data1!FHZ103","v":55},{"$f":"data1!FIA103","v":51.535550531612486},{"$f":"data1!FIB103","v":54.531833214728117},{"$f":"data1!FIC103","v":45.82611526451462},{"$f":"data1!FID103","v":50.649961771320335},{"$f":"data1!FIE103","v":52.244935845093629},{"$f":"data1!FIF103","v":52},{"$f":"data1!FIG103","v":51.346989933276973},{"$f":"data1!FIH103","v":48.944444444444443},{"$f":"data1!FII103","v":53.604413504099561},{"$f":"data1!FIJ103","v":58.444444444444443},{"$f":"data1!FIK103","v":46.668143806422364},{"$f":"data1!FIL103","v":55.701232605961508},{"$f":"data1!FIM103","v":57.611111111111114},{"$f":"data1!FIN103","v":51.331538796358238},{"$f":"data1!FIO103","v":55.444444444444443},{"$f":"data1!FIP103","v":50.442367962757722},{"$f":"data1!FIQ103","v":48.017094876276715},{"$f":"data1!FIR103","v":49.456380142953527},{"$f":"data1!FIS103","v":52.86739320409783},{"$f":"data1!FIT103","v":49.055555555555557},{"$f":"data1!FIU103","v":54.611111111111114},{"$f":"data1!FIV103","v":56.444444444444443},{"$f":"data1!FIW103","v":57.333333333333336},{"$f":"data1!FIX103","v":51.551198773742442},{"$f":"data1!FIY103","v":55.973183942893272},{"$f":"data1!FIZ103","v":48.333333333333336},{"$f":"data1!FJA103","v":52.462684440095266},{"$f":"data1!FJB103","v":57.111111111111114},{"$f":"data1!FJC103","v":46.388888888888886},{"$f":"data1!FJD103","v":51.666666666666664},{"$f":"data1!FJE103","v":57.777777777777779},{"$f":"data1!FJF103","v":49.943099710684137},{"$f":"data1!FJG103","v":57.722222222222221},{"$f":"data1!FJH103","v":53.722222222222221},{"$f":"data1!FJI103","v":53.777777777777779},{"$f":"data1!FJJ103","v":55.444444444444443},{"$f":"data1!FJK103","v":49.28014143336577},{"$f":"data1!FJL103","v":53},{"$f":"data1!FJM103","v":47.166666666666664},{"$f":"data1!FJN103","v":56.629966541696497},{"$f":"data1!FJO103","v":49.318310515319439},{"$f":"data1!FJP103","v":51.46624635304525},{"$f":"data1!FJQ103","v":53.392145911655334},{"$f":"data1!FJR103","v":53},{"$f":"data1!FJS103","v":52.684753006593638},{"$f":"data1!FJT103","v":58.5},{"$f":"data1!FJU103","v":47.777777777777779},{"$f":"data1!FJV103","v":53.096256161639957},{"$f":"data1!FJW103","v":51.555555555555557},{"$f":"data1!FJX103","v":50.376454266297621},{"$f":"data1!FJY103","v":54.847675939736732},{"$f":"data1!FJZ103","v":54.833333333333336},{"$f":"data1!FKA103","v":55.896820289234455},{"$f":"data1!FKB103","v":53.047448452028455},{"$f":"data1!FKC103","v":54.150719897236449},{"$f":"data1!FKD103","v":46.555555555555557},{"$f":"data1!FKE103","v":53.429505312350969},{"$f":"data1!FKF103","v":55.061025325739642},{"$f":"data1!FKG103","v":58.388888888888886},{"$f":"data1!FKH103","v":50.88639840634869},{"$f":"data1!FKI103","v":52.254471612927041},{"$f":"data1!FKJ103","v":48.833333333333336},{"$f":"data1!FKK103","v":50.53549121807324},{"$f":"data1!FKL103","v":55.944444444444443},{"$f":"data1!FKM103","v":52.106232950337613},{"$f":"data1!FKN103","v":50.510823825255294},{"$f":"data1!FKO103","v":52.697906944219},{"$f":"data1!FKP103","v":50.711402925082261},{"$f":"data1!FKQ103","v":54.388888888888886},{"$f":"data1!FKR103","v":53.666666666666664},{"$f":"data1!FKS103","v":58.555555555555557},{"$f":"data1!FKT103","v":57.944444444444443},{"$f":"data1!FKU103","v":55.518398628544396},{"$f":"data1!FKV103","v":53.936658292039944},{"$f":"data1!FKW103","v":52.444444444444443},{"$f":"data1!FKX103","v":55.555555555555557},{"$f":"data1!FKY103","v":55.920485325024302},{"$f":"data1!FKZ103","v":53.833333333333336},{"$f":"data1!FLA103","v":56.64477010822683},{"$f":"data1!FLB103","v":52.611111111111114},{"$f":"data1!FLC103","v":56.111111111111114},{"$f":"data1!FLD103","v":51.055555555555557},{"$f":"data1!FLE103","v":55.444444444444443},{"$f":"data1!FLF103","v":50.410262754618287},{"$f":"data1!FLG103","v":52.888888888888886},{"$f":"data1!FLH103","v":53.302596134267247},{"$f":"data1!FLI103","v":51.383736744057465},{"$f":"data1!FLJ103","v":48.833333333333336},{"$f":"data1!FLK103","v":58.444444444444443},{"$f":"data1!FLL103","v":51.209375433580242},{"$f":"data1!FLM103","v":56.277777777777779},{"$f":"data1!FLN103","v":54.780025589375896},{"$f":"data1!FLO103","v":50.030409113940621},{"$f":"data1!FLP103","v":50.489679952747764},{"$f":"data1!FLQ103","v":53.000277163329038},{"$f":"data1!FLR103","v":55.5},{"$f":"data1!FLS103","v":57.444444444444443},{"$f":"data1!FLT103","v":53.577582909043386},{"$f":"data1!FLU103","v":39},{"$f":"data1!FLV103","v":52.398391017620639},{"$f":"data1!FLW103","v":55.210811737623345},{"$f":"data1!FLX103","v":54.356299376865223},{"$f":"data1!FLY103","v":52.225759061204215},{"$f":"data1!FLZ103","v":48.574816239595847},{"$f":"data1!FMA103","v":43.222222222222221},{"$f":"data1!FMB103","v":50.021934831327634},{"$f":"data1!FMC103","v":48.366766847259711},{"$f":"data1!FMD103","v":47.662598759755639},{"$f":"data1!FME103","v":47.833333333333336},{"$f":"data1!FMF103","v":54.891412607392844},{"$f":"data1!FMG103","v":54.056030633492654},{"$f":"data1!FMH103","v":47},{"$f":"data1!FMI103","v":49.444444444444443},{"$f":"data1!FMJ103","v":54.009366512167588},{"$f":"data1!FMK103","v":54.222222222222221},{"$f":"data1!FML103","v":53.777777777777779},{"$f":"data1!FMM103","v":46.342009774787797},{"$f":"data1!FMN103","v":53.127977013796176},{"$f":"data1!FMO103","v":48.706386512897986},{"$f":"data1!FMP103","v":54.65768326057227},{"$f":"data1!FMQ103","v":57.222222222222221},{"$f":"data1!FMR103","v":50.986327746215586},{"$f":"data1!FMS103","v":50.6188469090309},{"$f":"data1!FMT103","v":50.912136133668852},{"$f":"data1!FMU103","v":53.5},{"$f":"data1!FMV103","v":47.985584983075483},{"$f":"data1!FMW103","v":53.866941740302295},{"$f":"data1!FMX103","v":48.284890461012004},{"$f":"data1!FMY103","v":55.300155188134205},{"$f":"data1!FMZ103","v":45.777777777777779},{"$f":"data1!FNA103","v":57.277777777777779},{"$f":"data1!FNB103","v":59.777777777777779},{"$f":"data1!FNC103","v":47.277777777777779},{"$f":"data1!FND103","v":54.611111111111114},{"$f":"data1!FNE103","v":54.777777777777779},{"$f":"data1!FNF103","v":58.5},{"$f":"data1!FNG103","v":51.298883355476114},{"$f":"data1!FNH103","v":50.480459232614855},{"$f":"data1!FNI103","v":56.921340851713843},{"$f":"data1!FNJ103","v":53.166666666666664},{"$f":"data1!FNK103","v":48.495399859398354},{"$f":"data1!FNL103","v":50.673383111678781},{"$f":"data1!FNM103","v":52.687423912653998},{"$f":"data1!FNN103","v":49.83750862116689},{"$f":"data1!FNO103","v":51.888888888888886},{"$f":"data1!FNP103","v":54.495839952087508},{"$f":"data1!FNQ103","v":54.306416582462958},{"$f":"data1!FNR103","v":52.155031236198589},{"$f":"data1!FNS103","v":49.486754516326378},{"$f":"data1!FNT103","v":53.315150809949124},{"$f":"data1!FNU103","v":49.613060802737088},{"$f":"data1!FNV103","v":52.833333333333336},{"$f":"data1!FNW103","v":55.53628538070901},{"$f":"data1!FNX103","v":59.611111111111114},{"$f":"data1!FNY103","v":54.666666666666664},{"$f":"data1!FNZ103","v":45.042508127788174},{"$f":"data1!FOA103","v":53.496946981794466},{"$f":"data1!FOB103","v":58.5},{"$f":"data1!FOC103","v":53.114817063878668},{"$f":"data1!FOD103","v":48.977410214950929},{"$f":"data1!FOE103","v":54.944444444444443},{"$f":"data1!FOF103","v":50.666666666666664},{"$f":"data1!FOG103","v":52.590164804312934},{"$f":"data1!FOH103","v":56.555555555555557},{"$f":"data1!FOI103","v":52.00360100202218},{"$f":"data1!FOJ103","v":50.10843014211931},{"$f":"data1!FOK103","v":53.555555555555557},{"$f":"data1!FOL103","v":50.575687423186949},{"$f":"data1!FOM103","v":58.777777777777779},{"$f":"data1!FON103","v":45.111111111111114},{"$f":"data1!FOO103","v":53.055555555555557},{"$f":"data1!FOP103","v":55.083661631671987},{"$f":"data1!FOQ103","v":54.166666666666664},{"$f":"data1!FOR103","v":57.055555555555557},{"$f":"data1!FOS103","v":51.971138016862426},{"$f":"data1!FOT103","v":53.833333333333336},{"$f":"data1!FOU103","v":54.536668457488709},{"$f":"data1!FOV103","v":52.666666666666664},{"$f":"data1!FOW103","v":47.333333333333336},{"$f":"data1!FOX103","v":57.166666666666664},{"$f":"data1!FOY103","v":49.166666666666664},{"$f":"data1!FOZ103","v":40.555555555555557},{"$f":"data1!FPA103","v":54.055430208318427},{"$f":"data1!FPB103","v":50.715472316359687},{"$f":"data1!FPC103","v":53.722222222222221},{"$f":"data1!FPD103","v":56.004517755981482},{"$f":"data1!FPE103","v":54.555555555555557},{"$f":"data1!FPF103","v":49.591511795721516},{"$f":"data1!FPG103","v":48.556385211867763},{"$f":"data1!FPH103","v":61.555555555555557},{"$f":"data1!FPI103","v":53.388888888888886},{"$f":"data1!FPJ103","v":53.055555555555557},{"$f":"data1!FPK103","v":43},{"$f":"data1!FPL103","v":50.945910674195403},{"$f":"data1!FPM103","v":54.595120492656285},{"$f":"data1!FPN103","v":55.888888888888886},{"$f":"data1!FPO103","v":58.388888888888886},{"$f":"data1!FPP103","v":52.677370874396978},{"$f":"data1!FPQ103","v":47.666666666666664},{"$f":"data1!FPR103","v":52.066921719825096},{"$f":"data1!FPS103","v":54.097258499386299},{"$f":"data1!FPT103","v":58.277777777777779},{"$f":"data1!FPU103","v":57.333333333333336},{"$f":"data1!FPV103","v":57.166666666666664},{"$f":"data1!FPW103","v":51.05717884385512},{"$f":"data1!FPX103","v":50.108174568498782},{"$f":"data1!FPY103","v":55.5},{"$f":"data1!FPZ103","v":50.129870487204741},{"$f":"data1!FQA103","v":44.277777777777779},{"$f":"data1!FQB103","v":53.341927719965874},{"$f":"data1!FQC103","v":50.871616087646807},{"$f":"data1!FQD103","v":55.055555555555557},{"$f":"data1!FQE103","v":53.194432652988127},{"$f":"data1!FQF103","v":54.333333333333336},{"$f":"data1!FQG103","v":53.10439021978685},{"$f":"data1!FQH103","v":57.777777777777779},{"$f":"data1!FQI103","v":56.380467202146178},{"$f":"data1!FQJ103","v":56.944444444444443},{"$f":"data1!FQK103","v":54.082113279821321},{"$f":"data1!FQL103","v":56.611111111111114},{"$f":"data1!FQM103","v":52.088100411901991},{"$f":"data1!FQN103","v":48.603566683847241},{"$f":"data1!FQO103","v":53},{"$f":"data1!FQP103","v":50.350626541780443},{"$f":"data1!FQQ103","v":51.277777777777779},{"$f":"data1!FQR103","v":49.564532630123523},{"$f":"data1!FQS103","v":55.243994928029593},{"$f":"data1!FQT103","v":52.722222222222221},{"$f":"data1!FQU103","v":58.055555555555557},{"$f":"data1!FQV103","v":49.663496491312308},{"$f":"data1!FQW103","v":57.140092375113454},{"$f":"data1!FQX103","v":52.301029616169188},{"$f":"data1!FQY103","v":55.806651422459694},{"$f":"data1!FQZ103","v":55.888888888888886},{"$f":"data1!FRA103","v":56.722222222222221},{"$f":"data1!FRB103","v":54.717861482212975},{"$f":"data1!FRC103","v":53.820568756756565},{"$f":"data1!FRD103","v":51.740743362726363},{"$f":"data1!FRE103","v":56.235111335348442},{"$f":"data1!FRF103","v":51.270912526640046},{"$f":"data1!FRG103","v":56.777777777777779},{"$f":"data1!FRH103","v":57.722222222222221},{"$f":"data1!FRI103","v":48.261119691355212},{"$f":"data1!FRJ103","v":50.550255880348736},{"$f":"data1!FRK103","v":51.19759672438704},{"$f":"data1!FRL103","v":48.795902224659798},{"$f":"data1!FRM103","v":58},{"$f":"data1!FRN103","v":55.055555555555557},{"$f":"data1!FRO103","v":49.277777777777779},{"$f":"data1!FRP103","v":57.666666666666664},{"$f":"data1!FRQ103","v":46.979350203585554},{"$f":"data1!FRR103","v":45.104543988347615},{"$f":"data1!FRS103","v":48.333333333333336},{"$f":"data1!FRT103","v":57.234710160519775},{"$f":"data1!FRU103","v":59.055555555555557},{"$f":"data1!FRV103","v":57.166666666666664},{"$f":"data1!FRW103","v":50.909254736253537},{"$f":"data1!FRX103","v":53.640023804696106},{"$f":"data1!FRY103","v":52.710594278579578},{"$f":"data1!FRZ103","v":53.388888888888886},{"$f":"data1!FSA103","v":50.725938134619618},{"$f":"data1!FSB103","v":53.776018637351577},{"$f":"data1!FSC103","v":54.417143895669646},{"$f":"data1!FSD103","v":51.833333333333336},{"$f":"data1!FSE103","v":56.444444444444443},{"$f":"data1!FSF103","v":58.111111111111114},{"$f":"data1!FSG103","v":57.222222222222221},{"$f":"data1!FSH103","v":53.001255915513141},{"$f":"data1!FSI103","v":44.172888245271601},{"$f":"data1!FSJ103","v":50.09878719399822},{"$f":"data1!FSK103","v":54.777777777777779},{"$f":"data1!FSL103","v":46.928901416324067},{"$f":"data1!FSM103","v":59.521847444043907},{"$f":"data1!FSN103","v":53.820962103814431},{"$f":"data1!FSO103","v":52.754490067079551},{"$f":"data1!FSP103","v":57.111111111111114},{"$f":"data1!FSQ103","v":49.388888888888886},{"$f":"data1!FSR103","v":44.944444444444443},{"$f":"data1!FSS103","v":54.111111111111114},{"$f":"data1!FST103","v":53.166666666666664},{"$f":"data1!FSU103","v":47.626760007606372},{"$f":"data1!FSV103","v":51.116682964960773},{"$f":"data1!FSW103","v":49.72498660775878},{"$f":"data1!FSX103","v":55.189071499261949},{"$f":"data1!FSY103","v":52.730184283905885},{"$f":"data1!FSZ103","v":52.546182500811838},{"$f":"data1!FTA103","v":55.888888888888886},{"$f":"data1!FTB103","v":43.333333333333336},{"$f":"data1!FTC103","v":50.286848644182584},{"$f":"data1!FTD103","v":57.277777777777779},{"$f":"data1!FTE103","v":52.108312622033672},{"$f":"data1!FTF103","v":49.332134083359406},{"$f":"data1!FTG103","v":54.514854370805352},{"$f":"data1!FTH103","v":51.035521818963474},{"$f":"data1!FTI103","v":50.5},{"$f":"data1!FTJ103","v":51.864890693163979},{"$f":"data1!FTK103","v":52.653175350989187},{"$f":"data1!FTL103","v":54.652840630109736},{"$f":"data1!FTM103","v":51.234710286306701},{"$f":"data1!FTN103","v":54.777777777777779},{"$f":"data1!FTO103","v":52.631854296570879},{"$f":"data1!FTP103","v":51.535167680126932},{"$f":"data1!FTQ103","v":55.280250971362825},{"$f":"data1!FTR103","v":51.111111111111114},{"$f":"data1!FTS103","v":49.722222222222221},{"$f":"data1!FTT103","v":48.777777777777779},{"$f":"data1!FTU103","v":55.024484027331624},{"$f":"data1!FTV103","v":46.954461051994471},{"$f":"data1!FTW103","v":58.166666666666664},{"$f":"data1!FTX103","v":49.51706916411004},{"$f":"data1!FTY103","v":54.241577882574191},{"$f":"data1!FTZ103","v":53.555555555555557},{"$f":"data1!FUA103","v":45.444444444444443},{"$f":"data1!FUB103","v":59.708219954293035},{"$f":"data1!FUC103","v":48.722222222222221},{"$f":"data1!FUD103","v":53.075373401911719},{"$f":"data1!FUE103","v":52.337724806743282},{"$f":"data1!FUF103","v":51.257945757231468},{"$f":"data1!FUG103","v":56.022768677796783},{"$f":"data1!FUH103","v":52.018127573840133},{"$f":"data1!FUI103","v":52.5},{"$f":"data1!FUJ103","v":54.055555555555557},{"$f":"data1!FUK103","v":55.419175716341698},{"$f":"data1!FUL103","v":53.055555555555557},{"$f":"data1!FUM103","v":54.274068149590022},{"$f":"data1!FUN103","v":56.5},{"$f":"data1!FUO103","v":48.244953121580949},{"$f":"data1!FUP103","v":55.277777777777779},{"$f":"data1!FUQ103","v":57.888888888888886},{"$f":"data1!FUR103","v":53.722222222222221},{"$f":"data1!FUS103","v":55.36888966753358},{"$f":"data1!FUT103","v":56.166666666666664},{"$f":"data1!FUU103","v":44.984995721848321},{"$f":"data1!FUV103","v":53.498638455218369},{"$f":"data1!FUW103","v":53.091902694481227},{"$f":"data1!FUX103","v":44.946494592772773},{"$f":"data1!FUY103","v":56.004515853182056},{"$f":"data1!FUZ103","v":57.444444444444443},{"$f":"data1!FVA103","v":50.305173179878665},{"$f":"data1!FVB103","v":54.005012883462172},{"$f":"data1!FVC103","v":54.646508120920458},{"$f":"data1!FVD103","v":56.888888888888886},{"$f":"data1!FVE103","v":54.487869572746916},{"$f":"data1!FVF103","v":55.111111111111114},{"$f":"data1!FVG103","v":54.388888888888886},{"$f":"data1!FVH103","v":51.555555555555557},{"$f":"data1!FVI103","v":58.5},{"$f":"data1!FVJ103","v":57.666666666666664},{"$f":"data1!FVK103","v":52.833333333333336},{"$f":"data1!FVL103","v":56},{"$f":"data1!FVM103","v":53.666666666666664},{"$f":"data1!FVN103","v":53.057398018867261},{"$f":"data1!FVO103","v":59.333333333333336},{"$f":"data1!FVP103","v":50.664312572821011},{"$f":"data1!FVQ103","v":46.444444444444443},{"$f":"data1!FVR103","v":55.305683959213255},{"$f":"data1!FVS103","v":48.459887380159465},{"$f":"data1!FVT103","v":52.039703741434053},{"$f":"data1!FVU103","v":49.199344159828883},{"$f":"data1!FVV103","v":54.085901347690395},{"$f":"data1!FVW103","v":55.941093776613606},{"$f":"data1!FVX103","v":53.222222222222221},{"$f":"data1!FVY103","v":51.019784702011478},{"$f":"data1!FVZ103","v":53.803165873397738},{"$f":"data1!FWA103","v":54.777777777777779},{"$f":"data1!FWB103","v":49.055761695939729},{"$f":"data1!FWC103","v":53.722222222222221},{"$f":"data1!FWD103","v":48.406190861692764},{"$f":"data1!FWE103","v":59.055555555555557},{"$f":"data1!FWF103","v":58.277777777777779},{"$f":"data1!FWG103","v":50.462888536620277},{"$f":"data1!FWH103","v":52.724014333105572},{"$f":"data1!FWI103","v":52.555555555555557},{"$f":"data1!FWJ103","v":54.722222222222221},{"$f":"data1!FWK103","v":47.678100091606801},{"$f":"data1!FWL103","v":58},{"$f":"data1!FWM103","v":56.858599869388328},{"$f":"data1!FWN103","v":43.222222222222221},{"$f":"data1!FWO103","v":43.944444444444443},{"$f":"data1!FWP103","v":53.211389622359683},{"$f":"data1!FWQ103","v":52.83716419168794},{"$f":"data1!FWR103","v":53.944444444444443},{"$f":"data1!FWS103","v":56.494411358073762},{"$f":"data1!FWT103","v":57.5},{"$f":"data1!FWU103","v":57.277777777777779},{"$f":"data1!FWV103","v":49.429757913201428},{"$f":"data1!FWW103","v":47.655699879475293},{"$f":"data1!FWX103","v":52.388888888888886},{"$f":"data1!FWY103","v":52.360779778532134},{"$f":"data1!FWZ103","v":54.722222222222221},{"$f":"data1!FXA103","v":52.652840348132642},{"$f":"data1!FXB103","v":55},{"$f":"data1!FXC103","v":56.056869599892039},{"$f":"data1!FXD103","v":49.548954916742822},{"$f":"data1!FXE103","v":52.875719516350237},{"$f":"data1!FXF103","v":47.636626647737359},{"$f":"data1!FXG103","v":50.722222222222221},{"$f":"data1!FXH103","v":57.111111111111114},{"$f":"data1!FXI103","v":53.997431348001108},{"$f":"data1!FXJ103","v":56.222222222222221},{"$f":"data1!FXK103","v":55.944444444444443},{"$f":"data1!FXL103","v":50.732315492768912},{"$f":"data1!FXM103","v":50.091247649754706},{"$f":"data1!FXN103","v":52.318746668193484},{"$f":"data1!FXO103","v":56.611111111111114},{"$f":"data1!FXP103","v":45.944444444444443},{"$f":"data1!FXQ103","v":61.555555555555557},{"$f":"data1!FXR103","v":52.943169179540291},{"$f":"data1!FXS103","v":57.198454351328742},{"$f":"data1!FXT103","v":55.629714048561866},{"$f":"data1!FXU103","v":50.944444444444443},{"$f":"data1!FXV103","v":52.368291083063923},{"$f":"data1!FXW103","v":54.222222222222221},{"$f":"data1!FXX103","v":55.944444444444443},{"$f":"data1!FXY103","v":54.777777777777779},{"$f":"data1!FXZ103","v":55.5},{"$f":"data1!FYA103","v":53},{"$f":"data1!FYB103","v":46.055555555555557},{"$f":"data1!FYC103","v":56.611111111111114},{"$f":"data1!FYD103","v":57.365220265292933},{"$f":"data1!FYE103","v":51.111111111111114},{"$f":"data1!FYF103","v":53.062772846936454},{"$f":"data1!FYG103","v":52.101351773938077},{"$f":"data1!FYH103","v":57.901375776714744},{"$f":"data1!FYI103","v":48.055555555555557},{"$f":"data1!FYJ103","v":53.355456752416323},{"$f":"data1!FYK103","v":57.682225512391675},{"$f":"data1!FYL103","v":52.538199624696603},{"$f":"data1!FYM103","v":48.833333333333336},{"$f":"data1!FYN103","v":51.611111111111114},{"$f":"data1!FYO103","v":53.853037053783915},{"$f":"data1!FYP103","v":56.666666666666664},{"$f":"data1!FYQ103","v":49.590909212616587},{"$f":"data1!FYR103","v":54.893099374938792},{"$f":"data1!FYS103","v":49.82848610139385},{"$f":"data1!FYT103","v":59.166666666666664},{"$f":"data1!FYU103","v":55.388888888888886},{"$f":"data1!FYV103","v":46.944444444444443},{"$f":"data1!FYW103","v":56.277777777777779},{"$f":"data1!FYX103","v":52.070226394643903},{"$f":"data1!FYY103","v":52.813610236486568},{"$f":"data1!FYZ103","v":47.555555555555557},{"$f":"data1!FZA103","v":57.222222222222221},{"$f":"data1!FZB103","v":55.388888888888886},{"$f":"data1!FZC103","v":54.547503874848104},{"$f":"data1!FZD103","v":55.210337129575628},{"$f":"data1!FZE103","v":57.004176496219394},{"$f":"data1!FZF103","v":52.040081583330007},{"$f":"data1!FZG103","v":50.42090131865919},{"$f":"data1!FZH103","v":52.73765103593793},{"$f":"data1!FZI103","v":53.666666666666664},{"$f":"data1!FZJ103","v":48.277777777777779},{"$f":"data1!FZK103","v":49.135075668371151},{"$f":"data1!FZL103","v":54.166666666666664},{"$f":"data1!FZM103","v":52.552345996140843},{"$f":"data1!FZN103","v":54.081402886564632},{"$f":"data1!FZO103","v":44.171865447410447},{"$f":"data1!FZP103","v":51.487138998786264},{"$f":"data1!FZQ103","v":54.5},{"$f":"data1!FZR103","v":52.207725789840332},{"$f":"data1!FZS103","v":47.625561591096165},{"$f":"data1!FZT103","v":46.410604562735394},{"$f":"data1!FZU103","v":56.975733873236095},{"$f":"data1!FZV103","v":59.055555555555557},{"$f":"data1!FZW103","v":57.603383275409243},{"$f":"data1!FZX103","v":53.658214153586215},{"$f":"data1!FZY103","v":54.111111111111114},{"$f":"data1!FZZ103","v":57.080742351962499},{"$f":"data1!GAA103","v":50.677495950967383},{"$f":"data1!GAB103","v":51.290022063463311},{"$f":"data1!GAC103","v":48.045908188052358},{"$f":"data1!GAD103","v":62.555555555555557},{"$f":"data1!GAE103","v":54.046843138492875},{"$f":"data1!GAF103","v":52.657482397981319},{"$f":"data1!GAG103","v":53.795651039845957},{"$f":"data1!GAH103","v":53.509153902172272},{"$f":"data1!GAI103","v":49.789532370044157},{"$f":"data1!GAJ103","v":45.888888888888886},{"$f":"data1!GAK103","v":53.55828997901969},{"$f":"data1!GAL103","v":53.611111111111114},{"$f":"data1!GAM103","v":58},{"$f":"data1!GAN103","v":44.333333333333336},{"$f":"data1!GAO103","v":54.890464226057325},{"$f":"data1!GAP103","v":57.111111111111114},{"$f":"data1!GAQ103","v":58.833333333333336},{"$f":"data1!GAR103","v":51.39617958114377},{"$f":"data1!GAS103","v":49.192425708801586},{"$f":"data1!GAT103","v":55.888888888888886},{"$f":"data1!GAU103","v":49.740475706913152},{"$f":"data1!GAV103","v":49.493146482431492},{"$f":"data1!GAW103","v":54.5},{"$f":"data1!GAX103","v":48.791740984333835},{"$f":"data1!GAY103","v":54.611111111111114},{"$f":"data1!GAZ103","v":58.555555555555557},{"$f":"data1!GBA103","v":55.944444444444443},{"$f":"data1!GBB103","v":54.61515251391782},{"$f":"data1!GBC103","v":54.486731189850452},{"$f":"data1!GBD103","v":55.388888888888886},{"$f":"data1!GBE103","v":54.163486412056663},{"$f":"data1!GBF103","v":57.166666666666664},{"$f":"data1!GBG103","v":49.382011537039489},{"$f":"data1!GBH103","v":45.777777777777779},{"$f":"data1!GBI103","v":53.017684445853632},{"$f":"data1!GBJ103","v":54.297510739327478},{"$f":"data1!GBK103","v":49.280143510031394},{"$f":"data1!GBL103","v":55.5},{"$f":"data1!GBM103","v":53.566616892105039},{"$f":"data1!GBN103","v":52.039704544599346},{"$f":"data1!GBO103","v":56.666666666666664},{"$f":"data1!GBP103","v":55.65358289638003},{"$f":"data1!GBQ103","v":51.556040257578466},{"$f":"data1!GBR103","v":54},{"$f":"data1!GBS103","v":51.852806913703823},{"$f":"data1!GBT103","v":57.333333333333336},{"$f":"data1!GBU103","v":54.276326565738572},{"$f":"data1!GBV103","v":52.508257769868102},{"$f":"data1!GBW103","v":47.055555555555557},{"$f":"data1!GBX103","v":55.944444444444443},{"$f":"data1!GBY103","v":49.035699287723524},{"$f":"data1!GBZ103","v":56.222222222222221},{"$f":"data1!GCA103","v":40.555555555555557},{"$f":"data1!GCB103","v":53.724325102759607},{"$f":"data1!GCC103","v":54.174273116729978},{"$f":"data1!GCD103","v":55.277777777777779},{"$f":"data1!GCE103","v":51.135381426390303},{"$f":"data1!GCF103","v":59.104449509205274},{"$f":"data1!GCG103","v":49.478359083586639},{"$f":"data1!GCH103","v":59.722222222222221},{"$f":"data1!GCI103","v":53.555555555555557},{"$f":"data1!GCJ103","v":49.363774858816754},{"$f":"data1!GCK103","v":54.110085573776523},{"$f":"data1!GCL103","v":56.055555555555557},{"$f":"data1!GCM103","v":57.111111111111114},{"$f":"data1!GCN103","v":49.24963200510885},{"$f":"data1!GCO103","v":51.703623453947849},{"$f":"data1!GCP103","v":53.166666666666664},{"$f":"data1!GCQ103","v":56.555555555555557},{"$f":"data1!GCR103","v":50.718246170842768},{"$f":"data1!GCS103","v":55.944444444444443},{"$f":"data1!GCT103","v":53.222222222222221},{"$f":"data1!GCU103","v":52.400483421660788},{"$f":"data1!GCV103","v":48.454936443096138},{"$f":"data1!GCW103","v":57.859355522711013},{"$f":"data1!GCX103","v":55.418398836570674},{"$f":"data1!GCY103","v":54.722222222222221},{"$f":"data1!GCZ103","v":57.222222222222221},{"$f":"data1!GDA103","v":52.277777777777779},{"$f":"data1!GDB103","v":57.233478480454977},{"$f":"data1!GDC103","v":55.888159854636001},{"$f":"data1!GDD103","v":55.743453818802138},{"$f":"data1!GDE103","v":50.752576559391954},{"$f":"data1!GDF103","v":59.166666666666664},{"$f":"data1!GDG103","v":57.360525041556848},{"$f":"data1!GDH103","v":55.944444444444443},{"$f":"data1!GDI103","v":52.237897043471968},{"$f":"data1!GDJ103","v":55.112181312321717},{"$f":"data1!GDK103","v":53.364534146652083},{"$f":"data1!GDL103","v":52.639892273794352},{"$f":"data1!GDM103","v":56.234002622313902},{"$f":"data1!GDN103","v":54.798948023042513},{"$f":"data1!GDO103","v":50.450764732955726},{"$f":"data1!GDP103","v":54.611111111111114},{"$f":"data1!GDQ103","v":54.166666666666664},{"$f":"data1!GDR103","v":43.87090309787235},{"$f":"data1!GDS103","v":50.854827867034686},{"$f":"data1!GDT103","v":54.762077351635334},{"$f":"data1!GDU103","v":59.777777777777779},{"$f":"data1!GDV103","v":54.714701676913329},{"$f":"data1!GDW103","v":52.655985438101979},{"$f":"data1!GDX103","v":54.798274330533189},{"$f":"data1!GDY103","v":47.762015957561147},{"$f":"data1!GDZ103","v":57.444444444444443},{"$f":"data1!GEA103","v":56.111111111111114},{"$f":"data1!GEB103","v":52.464542396951508},{"$f":"data1!GEC103","v":55.305326573073323},{"$f":"data1!GED103","v":49.545356858607811},{"$f":"data1!GEE103","v":56},{"$f":"data1!GEF103","v":50.666666666666664},{"$f":"data1!GEG103","v":47.611111111111114},{"$f":"data1!GEH103","v":48.777777777777779},{"$f":"data1!GEI103","v":59.444444444444443},{"$f":"data1!GEJ103","v":57.166666666666664},{"$f":"data1!GEK103","v":58.888888888888886},{"$f":"data1!GEL103","v":53.5},{"$f":"data1!GEM103","v":55.315880187566677},{"$f":"data1!GEN103","v":53.318372438308607},{"$f":"data1!GEO103","v":57.055555555555557},{"$f":"data1!GEP103","v":51.321251252203211},{"$f":"data1!GEQ103","v":57},{"$f":"data1!GER103","v":52.220833435953182},{"$f":"data1!GES103","v":55.861319124682318},{"$f":"data1!GET103","v":45.654190601030315},{"$f":"data1!GEU103","v":57.910651620764689},{"$f":"data1!GEV103","v":48.285753418468317},{"$f":"data1!GEW103","v":47.980266104404052},{"$f":"data1!GEX103","v":41.111111111111114},{"$f":"data1!GEY103","v":41.444444444444443},{"$f":"data1!GEZ103","v":54.777777777777779},{"$f":"data1!GFA103","v":44.833333333333336},{"$f":"data1!GFB103","v":50.641933994543507},{"$f":"data1!GFC103","v":53.055555555555557},{"$f":"data1!GFD103","v":55.833333333333336},{"$f":"data1!GFE103","v":54.334375348638346},{"$f":"data1!GFF103","v":55.732150679319886},{"$f":"data1!GFG103","v":52.618553376722261},{"$f":"data1!GFH103","v":56.777777777777779},{"$f":"data1!GFI103","v":55.444444444444443},{"$f":"data1!GFJ103","v":51.722222222222221},{"$f":"data1!GFK103","v":47.509918606813343},{"$f":"data1!GFL103","v":53.08215189734252},{"$f":"data1!GFM103","v":51.339865626805931},{"$f":"data1!GFN103","v":53.555555555555557},{"$f":"data1!GFO103","v":49.5},{"$f":"data1!GFP103","v":53.804060254979845},{"$f":"data1!GFQ103","v":50.31209612381781},{"$f":"data1!GFR103","v":56.234700479360278},{"$f":"data1!GFS103","v":54.61536804361613},{"$f":"data1!GFT103","v":55.210079192518656},{"$f":"data1!GFU103","v":53.772438276076123},{"$f":"data1!GFV103","v":57.167809190582602},{"$f":"data1!GFW103","v":55.388888888888886},{"$f":"data1!GFX103","v":50.277777777777779},{"$f":"data1!GFY103","v":45.933167193745575},{"$f":"data1!GFZ103","v":55.777777777777779},{"$f":"data1!GGA103","v":52.611549238063141},{"$f":"data1!GGB103","v":53.223886117446987},{"$f":"data1!GGC103","v":51.703100595053257},{"$f":"data1!GGD103","v":51.567180688319532},{"$f":"data1!GGE103","v":44.055555555555557},{"$f":"data1!GGF103","v":60.777777777777779},{"$f":"data1!GGG103","v":52.573718067171981},{"$f":"data1!GGH103","v":54.833333333333336},{"$f":"data1!GGI103","v":54.663677250358859},{"$f":"data1!GGJ103","v":47.545594430187684},{"$f":"data1!GGK103","v":49.5},{"$f":"data1!GGL103","v":46.611111111111114},{"$f":"data1!GGM103","v":47.635793141978219},{"$f":"data1!GGN103","v":56.591118366525144},{"$f":"data1!GGO103","v":52.971137745474081},{"$f":"data1!GGP103","v":50.555555555555557},{"$f":"data1!GGQ103","v":55.089428123968432},{"$f":"data1!GGR103","v":55.277777777777779},{"$f":"data1!GGS103","v":47.994387705329132},{"$f":"data1!GGT103","v":54.546466701813564},{"$f":"data1!GGU103","v":54.960848917241677},{"$f":"data1!GGV103","v":52.684534912454446},{"$f":"data1!GGW103","v":56.166666666666664},{"$f":"data1!GGX103","v":55.944444444444443},{"$f":"data1!GGY103","v":59.111111111111114},{"$f":"data1!GGZ103","v":54.270541765388494},{"$f":"data1!GHA103","v":55.936290400780315},{"$f":"data1!GHB103","v":49.08516090405908},{"$f":"data1!GHC103","v":54.527527044480358},{"$f":"data1!GHD103","v":50.155032315772033},{"$f":"data1!GHE103","v":52.25735252556079},{"$f":"data1!GHF103","v":53.268197797527371},{"$f":"data1!GHG103","v":50.333333333333336},{"$f":"data1!GHH103","v":49.277777777777779},{"$f":"data1!GHI103","v":47.172935726816227},{"$f":"data1!GHJ103","v":44.696486871783208},{"$f":"data1!GHK103","v":49.992025423913837},{"$f":"data1!GHL103","v":50.827652136134063},{"$f":"data1!GHM103","v":49.730104582083811},{"$f":"data1!GHN103","v":52.833333333333336},{"$f":"data1!GHO103","v":54.444444444444443},{"$f":"data1!GHP103","v":47.648310996018296},{"$f":"data1!GHQ103","v":53.722222222222221},{"$f":"data1!GHR103","v":45.611111111111114},{"$f":"data1!GHS103","v":51.40658268924404},{"$f":"data1!GHT103","v":52.944444444444443},{"$f":"data1!GHU103","v":55.944444444444443},{"$f":"data1!GHV103","v":56.444444444444443},{"$f":"data1!GHW103","v":53.920113002987172},{"$f":"data1!GHX103","v":49.669616110416079},{"$f":"data1!GHY103","v":57.5},{"$f":"data1!GHZ103","v":50.828416776607199},{"$f":"data1!GIA103","v":56},{"$f":"data1!GIB103","v":56.888888888888886},{"$f":"data1!GIC103","v":47.509886999529712},{"$f":"data1!GID103","v":53.76380291603904},{"$f":"data1!GIE103","v":53.5},{"$f":"data1!GIF103","v":55.916739092173572},{"$f":"data1!GIG103","v":53.02019404235913},{"$f":"data1!GIH103","v":55.833333333333336},{"$f":"data1!GII103","v":52.315514134750465},{"$f":"data1!GIJ103","v":54.744784744792696},{"$f":"data1!GIK103","v":54.833333333333336},{"$f":"data1!GIL103","v":47.611111111111114},{"$f":"data1!GIM103","v":47.845871325600598},{"$f":"data1!GIN103","v":52.978101979339378},{"$f":"data1!GIO103","v":51.403141460670874},{"$f":"data1!GIP103","v":57.008701215700576},{"$f":"data1!GIQ103","v":45.444444444444443},{"$f":"data1!GIR103","v":57},{"$f":"data1!GIS103","v":52.771244765140608},{"$f":"data1!GIT103","v":50.995896385127999},{"$f":"data1!GIU103","v":55.722222222222221},{"$f":"data1!GIV103","v":45.444444444444443},{"$f":"data1!GIW103","v":53.302125928454238},{"$f":"data1!GIX103","v":50.506046412845954},{"$f":"data1!GIY103","v":52.555555555555557},{"$f":"data1!GIZ103","v":53.722222222222221},{"$f":"data1!GJA103","v":48.166666666666664},{"$f":"data1!GJB103","v":53.61535787074672},{"$f":"data1!GJC103","v":57.055555555555557},{"$f":"data1!GJD103","v":57.222222222222221},{"$f":"data1!GJE103","v":51.777777777777779},{"$f":"data1!GJF103","v":58.888888888888886},{"$f":"data1!GJG103","v":44.055555555555557},{"$f":"data1!GJH103","v":61.5},{"$f":"data1!GJI103","v":54.094904487982276},{"$f":"data1!GJJ103","v":47.684628572882616},{"$f":"data1!GJK103","v":55.087403511451527},{"$f":"data1!GJL103","v":48.006357181612458},{"$f":"data1!GJM103","v":51.113650098307616},{"$f":"data1!GJN103","v":53.553323117608159}]

{"sheet":"data1","index":1,"n_rows":103,"n_cols":5006,"rows_kept":15,"cut":true,"hidden":false,"merged":[],"bounds":{"rows_first":7,"rows_last":1,"rows_between":7,"halvings":8}}
[]
[]
[null,null,null,null,null,null,57,7,7,68,69,46,45,68,79,69,57,79,36,68,68,58,68,46,68,46,7,69,68,69,57,68,57,68,58,46,45,36,68,7,46,70,69,46,45,79,79,57,70,58,70,57,79,68,68,45,57,58,79,36,79,57,79,47,47,57,79,57,57,68,69,79,57,45,70,68,36,79,68,57,36,46,36,7,69,45,45,7,69,7,57,68,58,68,45,57,46,68,68,68,45,36,45,68,46,70,46,68,47,58,46,57,46,70,70,79,68,68,45,69,69,69,7,68,79,68,36,69,70,57,57,69,79,70,58,68,69,68,58,46,46,7,68,69,69,68,57,7,57,79,57,69,47,7,46,46,58,36,57,7,79,46,69,70,69,70,46,7,69,69,69,47,47,47,58,47,70,79,7,46,58,69,68,57,45,69,68,70,70,79,68,69,79,68,45,70,79,47,57,47,46,57,7,58,69,68,69,68,7,69,36,68,57,79,57,68,57,57,57,47,69,46,68,46,68,69,69,7,47,70,69,47,57,46,68,57,36,57,45,45,7,36,47,57,7,46,45,68,57,7,68,57,68,70,7,68,36,58,79,57,68,7,69,68,68,46,57,68,57,68,69,47,79,36,47,69,57,69,79,46,36,68,47,79,36,69,79,57,47,58,7,79,36,36,69,46,79,57,46,7,57,45,46,36,57,58,46,57,79,69,46,45,57,79,57,57,79,79,7,45,70,70,47,68,68,46,69,7,58,7,57,45,45,68,57,79,68,57,36,69,45,57,57,46,46,36,36,57,68,69,57,57,57,45,58,36,46,57,47,57,69,46,57,46,68,45,57,69,69,57,70,69,7,68,79,70,68,46,57,69,68,47,57,58,68,57,36,58,68,79,79,69,68,70,7,47,47,47,57,7,7,57,57,57,46,68,69,36,46,47,45,57,7,68,57,68,57,45,68,36,69,47,68,68,69,70,47,79,58,69,69,45,7,58,47,79,69,70,68,57,68,69,79,57,57,68,7,36,68,36,69,68,46,46,79,47,70,69,68,46,69,68,7,68,45,69,68,45,7,79,57,58,79,36,47,79,69,58,46,45,70,57,57,7,70,46,46,57,79,68,58,58,68,69,69,58,46,68,68,46,68,36,7,79,69,79,68,69,79,45,58,36,7,69,7,69,36,79,68,68,46,79,70,45,47,57,57,47,57,46,57,68,7,47,46,58,57,57,46,57,57,69,45,7,36,57,46,46,47,68,57,57,69,57,68,45,7,57,47,68,7,45,68,45,68,68,69,57,79,57,58,36,57,46,45,69,68,45,57,45,57,46,68,57,46,58,46,45,58,57,68,7,79,79,36,7,68,57,68,58,46,58,68,68,69,69,57,57,79,7,45,47,69,46,69,68,70,57,68,46,68,57,36,47,57,70,58,46,57,7,36,57,69,68,57,68,58,36,68,68,45,57,57,57,70,70,68,57,58,79,36,68,46,69,69,68,45,69,58,46,68,36,57,46,57,68,57,79,46,7,68,36,69,47,57,36,57,7,68,36,57,7,46,57,7,57,68,7,57,57,68,58,46,46,68,7,69,57,68,45,46,69,57,47,68,57,45,58,57,69,68,57,70,69,47,68,36,79,57,58,47,46,69,58,57,57,69,69,36,68,58,68,57,68,69,68,36,47,46,47,68,79,58,68,58,58,7,36,69,46,7,46,7,58,68,68,68,68,46,69,79,70,36,68,79,46,7,57,69,68,47,57,7,7,58,58,79,57,68,58,47,68,69,79,57,36,36,68,68,36,7,57,69,47,57,79,57,70,36,69,57,47,69,58,70,79,70,7,47,69,68,68,46,57,68,70,7,70,57,46,45,79,36,79,79,47,7,36,68,58,58,58,57,68,68,79,46,68,57,46,46,47,69,57,69,68,79,57,70,70,57,79,69,7,57,36,79,79,36,7,69,69,69,57,46,58,36,68,79,69,46,69,58,68,68,69,70,57,57,79,68,36,69,45,57,68,70,70,68,46,57,46,57,46,36,46,46,57,46,47,68,7,45,36,7,68,57,58,47,70,57,70,7,36,69,68,47,79,46,57,57,69,58,79,45,46,46,45,69,68,57,7,68,79,79,46,46,46,68,47,58,68,70,79,68,57,58,57,79,68,68,57,46,57,69,70,57,7,69,47,79,58,36,47,36,68,36,45,68,68,57,36,57,68,36,46,36,68,7,46,57,69,36,57,70,57,68,70,68,57,58,69,57,57,46,46,69,58,68,68,57,68,47,7,69,68,46,57,57,7,57,68,69,46,68,36,68,68,7,45,57,69,69,69,45,68,46,47,7,46,46,57,57,57,47,68,57,46,69,45,79,57,58,68,57,46,46,57,7,46,47,36,68,68,57,7,45,68,36,69,68,68,46,45,36,68,46,69,36,46,79,68,47,57,70,46,70,69,46,45,58,57,68,46,68,57,57,46,47,69,45,45,69,47,57,69,7,46,58,57,68,69,46,57,46,69,69,47,46,47,46,7,70,47,68,47,47,68,57,46,57,45,69,70,68,57,57,46,69,79,79,36,70,68,36,57,69,70,47,69,47,7,57,79,45,36,79,46,47,57,57,69,79,79,70,57,57,45,79,7,46,47,69,68,58,57,69,46,7,69,57,47,68,57,79,69,69,57,47,68,57,46,79,79,45,57,7,57,68,36,45,79,69,36,57,79,36,36,47,7,79,46,69,68,70,79,45,45,36,57,45,79,69,70,58,46,7,69,68,69,79,57,57,45,79,57,57,46,68,68,69,57,57,36,46,57,46,70,36,69,69,68,46,79,46,58,58,45,58,69,69,57,70,57,45,57,46,68,68,46,68,69,36,68,47,68,57,46,69,70,68,79,68,57,70,58,46,57,46,79,46,68,47,69,70,68,79,47,47,70,69,68,57,68,46,68,57,57,57,68,45,45,46,36,45,57,57,57,58,36,7,68,68,47,36,46,46,68,70,57,68,36,57,47,69,46,46,57,79,79,79,69,36,46,57,69,36,58,45,45,58,47,46,68,68,47,58,68,46,68,45,45,79,7,68,7,69,70,70,36,36,57,36,68,79,36,79,68,7,7,46,70,45,45,79,57,68,69,57,36,46,46,68,46,45,68,68,68,69,68,68,57,57,68,69,57,7,68,36,47,69,69,68,46,47,7,57,57,46,68,46,45,46,57,57,69,45,46,70,69,68,57,57,57,68,70,57,68,46,46,47,7,68,57,68,68,57,7,36,68,47,69,68,47,69,57,46,46,69,7,47,47,58,58,47,46,69,68,57,68,68,46,46,46,68,68,47,57,45,57,68,69,79,69,69,45,57,45,68,68,58,47,69,47,57,45,79,36,57,57,68,69,57,45,69,69,70,57,68,7,46,46,46,68,68,68,69,36,68,70,68,36,69,68,45,68,45,46,58,57,46,57,70,68,68,68,69,47,68,69,57,57,46,57,45,57,46,79,57,68,70,69,69,47,79,36,46,57,46,46,79,79,69,47,68,69,36,58,70,57,57,57,58,69,47,69,7,7,57,70,36,57,46,68,69,57,36,57,57,57,46,68,47,68,46,68,7,68,7,69,68,57,68,36,68,36,58,79,7,57,57,57,46,46,69,68,36,45,45,7,79,36,57,46,57,46,70,79,69,45,7,68,7,46,46,68,45,68,58,7,70,47,45,57,69,79,45,7,68,69,57,68,46,46,45,47,68,57,68,58,7,68,68,36,46,68,46,36,58,7,69,70,45,46,46,69,70,7,36,45,57,68,68,57,47,69,68,46,47,58,57,68,47,57,46,46,7,36,57,46,69,57,45,79,36,57,46,36,36,69,69,57,69,57,70,68,46,36,36,68,68,79,57,45,58,46,57,68,57,46,47,46,47,47,57,57,36,68,57,68,57,70,58,57,58,45,57,36,7,57,57,57,57,36,68,57,57,57,69,68,57,58,70,36,79,7,70,57,68,36,57,36,70,68,45,57,68,68,70,57,46,58,46,7,70,46,57,45,7,79,69,46,68,36,57,45,58,57,45,47,69,79,7,68,68,69,68,57,68,57,57,57,69,47,57,36,58,69,57,69,70,70,68,57,69,45,69,68,57,68,57,57,45,68,68,57,69,68,46,45,58,36,68,7,7,47,70,57,57,70,69,46,68,57,58,68,46,45,68,69,47,58,36,57,47,46,57,79,58,69,45,70,57,58,7,79,68,69,7,70,68,70,79,69,36,45,79,69,46,68,58,57,57,57,58,46,69,7,68,46,46,69,58,47,45,46,36,46,57,45,68,46,70,69,46,36,68,69,57,79,47,36,79,57,69,68,46,57,57,45,45,68,57,57,58,70,47,46,7,46,70,68,79,58,68,47,36,57,58,36,68,68,57,70,46,45,46,57,70,47,79,45,79,69,68,69,57,57,46,79,58,47,69,57,68,70,58,45,68,70,57,57,45,68,57,47,47,79,46,57,36,58,57,45,57,68,68,57,57,46,57,57,46,58,45,69,36,36,46,70,70,69,68,69,45,79,45,68,69,57,68,58,57,45,58,68,47,68,57,7,46,45,79,57,45,79,46,46,45,69,58,68,45,46,68,46,69,79,46,70,58,68,46,45,47,45,7,46,69,68,69,79,46,70,69,57,68,68,69,69,69,68,70,7,46,68,68,46,57,68,57,58,46,36,68,45,36,69,57,69,79,69,45,68,68,57,79,69,7,36,79,68,7,57,46,57,79,46,68,70,57,69,47,58,68,58,57,69,46,68,69,57,69,69,68,68,68,7,79,70,7,7,69,79,57,68,68,68,68,57,68,57,68,79,70,58,7,57,7,79,68,57,45,57,36,36,57,7,45,57,68,46,69,46,46,47,36,47,69,57,7,68,70,79,57,68,57,45,36,46,68,69,46,58,7,69,57,70,68,68,68,69,36,69,46,79,69,36,69,57,70,46,70,7,79,7,57,57,79,68,79,69,70,70,47,46,68,68,47,46,45,7,45,68,68,70,70,69,69,57,68,58,46,47,57,7,46,68,68,68,69,46,57,70,69,68,45,69,58,57,46,69,57,57,57,57,7,68,46,46,46,68,79,68,70,36,57,45,69,69,47,46,57,58,79,57,36,79,69,46,46,57,47,58,45,7,57,46,68,58,68,47,58,36,36,57,70,46,70,69,45,46,79,45,45,69,47,47,57,57,58,57,57,46,46,7,79,79,36,58,79,70,36,58,79,58,57,57,79,70,46,7,68,68,68,57,36,68,68,47,69,57,36,47,46,58,46,57,57,69,68,68,68,46,68,46,7,68,70,68,47,79,47,69,47,69,46,46,70,46,57,79,57,68,57,68,45,68,45,70,68,57,69,36,45,46,57,68,68,46,68,57,46,46,58,45,68,79,70,68,45,68,45,68,68,46,70,47,36,36,68,36,68,57,79,45,46,69,57,68,45,68,57,70,58,70,70,68,36,68,46,58,70,70,68,68,69,69,57,47,58,69,70,46,45,69,69,58,46,7,68,68,7,46,69,68,46,57,36,69,68,36,79,46,7,36,58,46,68,57,46,68,58,36,46,46,68,58,46,46,36,46,58,68,57,68,46,79,46,57,57,47,69,36,46,46,68,47,7,46,46,58,68,45,69,68,69,46,70,57,70,68,79,46,46,68,79,36,68,69,7,57,68,57,57,69,79,57,69,47,57,46,68,69,79,36,69,7,45,79,47,79,45,36,70,57,47,68,68,70,57,68,57,57,46,58,70,68,36,69,69,68,68,70,69,79,47,57,57,45,57,68,57,58,46,45,46,47,57,46,57,36,57,58,69,7,79,57,46,46,70,68,69,7,57,57,68,79,57,36,57,57,36,58,68,79,69,68,69,68,69,57,58,69,57,68,69,69,57,79,45,7,68,69,69,69,79,46,68,46,7,7,57,58,57,36,68,68,46,58,57,7,69,57,57,79,70,46,36,46,57,57,69,58,58,7,58,57,57,79,7,70,57,57,68,36,58,68,57,57,58,46,68,79,47,79,68,57,7,68,68,36,46,58,68,57,57,70,68,68,57,47,57,69,7,36,57,45,69,46,46,46,68,57,69,47,79,57,7,47,68,69,57,58,69,57,46,45,58,46,46,79,45,7,57,79,68,58,69,46,68,79,58,68,57,57,57,46,57,46,68,58,57,45,57,79,69,68,68,57,70,70,69,68,57,46,58,46,68,58,68,69,46,57,36,47,47,46,68,57,57,69,68,69,58,58,46,79,68,45,46,79,57,45,57,57,68,47,79,79,46,46,57,46,68,58,57,70,36,57,69,46,46,46,45,57,58,70,68,58,68,36,69,79,47,46,68,58,69,46,57,57,68,46,57,58,57,68,36,36,36,57,57,47,70,68,57,68,68,68,45,7,46,45,68,46,68,36,47,68,45,46,57,57,57,46,68,45,57,68,46,68,58,36,47,57,68,57,7,57,57,69,47,69,68,68,68,47,69,46,69,70,58,79,45,58,69,68,57,57,69,57,36,58,68,7,68,70,46,58,68,7,69,79,68,69,69,57,58,46,69,46,79,57,57,68,79,68,57,46,70,57,69,46,46,57,57,46,68,46,45,70,46,36,47,57,57,69,46,57,57,68,58,45,79,68,68,47,47,58,57,7,70,79,46,68,68,69,69,79,69,68,57,57,69,68,70,69,58,68,46,58,45,46,68,68,36,69,68,46,57,57,68,7,7,7,36,57,57,45,69,68,45,36,57,57,57,46,68,58,57,7,69,69,69,68,7,79,57,57,69,46,68,68,57,79,45,57,7,46,46,68,68,69,68,45,57,69,7,57,45,69,46,68,57,79,69,58,57,58,36,57,68,70,79,70,57,68,68,57,45,79,68,36,7,47,57,36,68,45,46,7,57,68,36,68,69,46,36,46,36,68,45,47,58,69,58,57,57,69,68,36,68,69,57,47,58,46,46,68,46,57,58,68,47,46,46,47,7,7,68,79,57,46,69,70,58,69,46,68,46,57,57,46,57,47,68,68,47,57,46,47,57,57,57,70,68,57,47,68,69,69,46,46,58,69,57,46,70,46,7,46,68,58,46,46,36,46,68,69,69,36,68,68,69,58,57,68,46,68,46,68,69,45,46,70,45,58,70,57,57,57,68,36,45,7,7,57,68,68,69,57,45,36,68,69,46,68,68,36,70,46,46,70,57,57,69,57,58,79,69,47,47,68,70,46,68,7,69,57,70,45,69,68,57,68,46,79,57,68,46,46,68,68,58,58,57,68,57,70,69,57,58,47,68,69,69,58,7,68,46,46,7,69,69,57,58,68,79,7,69,68,45,7,47,47,57,69,45,68,68,36,46,68,79,58,46,45,57,45,58,47,45,58,58,79,36,70,68,58,46,46,57,68,68,70,46,58,69,45,57,69,68,68,68,46,69,57,46,36,69,57,70,46,79,69,57,57,70,47,57,46,36,45,46,68,57,7,45,7,36,57,45,57,45,68,45,57,47,57,57,69,68,47,68,57,7,45,58,46,45,57,79,36,46,57,79,57,57,36,68,47,36,69,70,46,69,57,57,68,36,7,68,46,57,68,57,47,68,69,69,45,68,47,69,58,57,68,79,58,68,69,57,46,7,68,36,68,69,69,36,57,57,7,36,57,69,57,46,68,7,69,46,68,57,69,46,69,36,70,57,69,68,36,46,58,68,45,68,58,58,7,46,36,68,47,57,68,58,70,57,68,57,70,46,69,58,79,70,45,70,57,46,57,79,68,57,45,69,46,45,69,57,70,7,70,57,47,69,7,36,70,47,68,45,57,68,70,57,7,57,58,58,70,47,69,36,45,57,57,36,7,57,46,57,68,46,69,45,36,46,69,46,57,46,57,68,46,45,69,68,69,57,57,36,68,68,36,69,57,68,69,68,36,57,47,70,57,69,57,45,58,57,46,68,58,57,68,69,69,36,57,57,7,46,69,68,46,7,46,36,57,46,47,57,79,36,46,68,47,57,68,57,46,47,69,68,7,68,69,69,79,69,57,79,68,70,68,57,69,58,68,7,47,69,36,58,46,68,68,7,68,70,69,46,36,47,68,57,36,68,69,79,68,69,45,70,57,46,47,57,57,69,68,79,69,45,47,45,46,36,45,68,36,36,7,68,79,57,69,57,57,45,57,36,57,69,57,68,46,58,58,7,46,47,47,58,69,68,58,36,68,47,45,79,68,36,57,7,36,57,68,45,57,46,57,46,57,68,7,46,46,58,70,47,36,70,69,36,69,47,69,68,68,36,36,36,79,79,69,46,69,68,79,68,68,57,69,57,36,7,70,68,57,57,45,57,46,36,58,45,69,47,46,69,36,57,45,57,68,47,57,69,69,7,57,57,58,69,68,69,68,68,45,68,57,70,68,70,46,57,79,79,46,7,68,70,45,79,68,46,58,69,58,68,7,57,68,58,36,57,68,58,68,70,47,47,36,45,79,69,58,7,79,57,70,79,69,69,70,46,70,46,68,7,70,68,36,69,57,68,57,68,7,7,70,57,79,57,68,68,69,69,57,70,46,68,69,68,68,68,47,57,68,57,57,68,46,79,57,36,69,57,68,57,47,45,68,7,45,68,45,69,68,57,70,57,36,36,36,57,46,58,70,57,68,57,36,57,57,68,57,68,79,69,46,69,47,57,57,68,68,7,70,70,68,45,7,57,36,57,47,69,47,47,57,79,69,68,68,69,45,70,47,57,57,45,69,69,68,46,36,58,46,69,68,46,36,69,58,7,68,46,46,79,69,70,45,68,69,36,46,46,57,57,69,7,58,47,69,69,68,57,68,36,57,46,36,57,57,45,45,57,58,45,68,58,57,57,57,47,58,46,68,69,47,69,57,69,69,57,57,68,57,68,57,46,45,46,58,70,45,69,70,36,7,68,69,45,36,46,69,68,70,57,68,45,68,45,68,45,7,36,47,57,68,46,69,68,69,69,68,46,68,68,69,69,68,57,68,70,57,57,57,68,58,7,57,70,58,7,68,69,69,47,36,69,57,57,7,70,46,68,68,58,46,46,57,69,58,47,79,58,57,68,68,57,68,57,46,7,68,46,45,47,57,57,70,47,70,47,7,45,47,7,45,7,57,36,36,58,68,57,46,46,57,58,46,46,36,69,68,79,68,69,47,57,68,45,57,68,79,57,47,46,68,46,36,47,45,68,45,68,68,69,68,57,68,68,57,68,69,47,57,36,68,45,46,57,47,57,47,68,57,68,68,57,68,79,46,69,70,46,79,57,36,7,79,57,68,46,57,69,57,57,7,36,57,36,58,79,36,7,57,79,70,45,57,46,46,69,57,7,69,46,57,79,7,57,68,68,45,46,68,68,57,68,57,68,45,57,46,46,68,46,7,47,69,45,70,69,57,57,45,46,68,57,46,68,58,68,45,70,68,69,58,57,57,57,68,68,45,68,79,69,46,68,69,58,57,68,70,58,47,57,69,68,68,70,45,68,57,69,68,47,58,68,68,57,57,36,45,68,58,79,79,45,36,79,79,57,68,7,7,46,68,46,79,7,36,68,69,36,36,46,46,57,58,68,57,46,57,68,45,46,57,68,46,68,58,57,79,46,7,57,68,57,57,46,57,47,46,79,69,57,57,46,68,46,57,47,57,79,68,57,45,46,47,79,46,7,58,68,46,58,79,47,58,46,70,70,68,57,68,68,36,46,7,57,57,57,79,36,79,69,69,47,68,7,58,46,69,68,57,57,7,45,45,47,57,57,68,68,46,69,46,57,45,69,79,7,68,69,46,68,57,45,68,68,7,69,36,57,68,68,57,45,36,68,57,46,57,47,79,57,79,45,68,57,79,57,69,70,69,68,68,69,47,69,69,68,46,46,79,57,79,57,7,69,57,57,69,45,47,68,70,70,69,7,57,69,70,47,70,68,69,36,57,7,47,46,47,70,79,36,58,36,36,45,68,68,57,57,69,45,68,68,46,79,45,46,36,7,68,36,69,57,68,70,79,57,69,7,57,46,58,46,46,57,46,58,45,57,69,46,46,68,57,58,68,46,57,57,57,47,57,57,79,68,7,46,68,46,69,46,46,57,47,68,68,46,69,70,57,57,79,68,57,68,47,46,69,69,68,79,69,57,57,57,46,57,70,79,57,7,57,79,47,68,79,68,69,45,36,57,69,45,47,58,57,57,57,45,7,57,69,70,68,36,7,46,7,57,57,68,69,45,70,68,69,70,68,57,45,70,69,68,57,69,68,68,68,47,7,69,69,68,69,79,58,68,57,46,57,68,70,69,57,68,68,79,47,57,57,58,68,68,57,79,47,36,69,57,70,57,79,57,68,47,46,46,7,47,68,57,68,45,68,36,68,57,45,70,58,69,36,69,36,69,57,68,46,7,79,47,46,68,68,68,69,36,69,69,69,68,57,58,46,46,57,7,58,7,57,45,57,69,79,69,79,70,68,46,58,58,69,47,68,57,58,46,58,68,68,69,68,36,68,7,79,68,36,68,36,68,69,47,36,68,69,57,69,57,36,36,68,68,68,46,69,46,68,69,70,46,57,57,46,79,69,69,57,68,36,69,70,79,69,7,58,69,68,68,7,57,68,70,46,7,46,57,69,57,57,79,36,57,68,36,69,46,68,58,58,46,68,46,69,57,68,68,68,70,57,57,68,46,46,68,79,69,69,57,68,68,36,68,46,47,70,46,46,46,47,36,57,58,57,57,68,46,46,46,79,70,68,69,69,36,57,46,69,36,57,47,7,69,68,69,47,57,46,79,57,70,57,46,68,68,57,57,68,68,69,57,46,69,70,79,79,46,7,57,47,68,58,68,79,47,7,79,57,68,69,47,58,68,46,7,46,58,68,57,57,46,79,70,45,46,57,7,47,79,68,79,70,79,68,68,36,68,68,79,57,45,79,69,57,70,79,57,68,79,45,46,68,68,46,58,70,57,57,69,7,46,57,47,7,47,57,57,79,69,68,36,69,68,36,46,68,79,57,57,58,79,68,36,68,68,46,36,46,57,45,45,68,68,79,69,69,58,46,69,46,57,70,70,69,79,69,69,45,70,69,45,57,70,68,57,70,46,69,69,70,68,68,68,70,46,46,69,46,68,57,68,7,46,69,58,58,79,68,57,69,68,36,58,69,79,57,68,46,58,69,68,57,57,58,46,45,57,57,36,69,46,57,46,7,36,68,69,57,7,46,79,69,58,58,46,7,57,46,36,47,68,69,57,69,47,58,68,57,7,47,46,57,45,57,47,57,45,57,46,57,79,69,70,68,68,58,68,7,69,46,68,45]
[null,null,null,null,null,null,36,46,46,46,57,36,70,69,45,7,36,58,47,79,46,57,68,68,7,46,57,68,68,45,47,57,57,7,79,68,45,36,68,57,68,7,68,79,69,70,47,69,68,46,79,45,70,46,68,46,7,46,46,46,57,69,69,57,47,68,45,7,45,79,46,7,69,68,57,68,57,68,68,57,68,69,45,47,57,69,45,68,36,70,70,57,57,57,68,57,58,68,57,47,46,46,46,57,45,68,7,70,57,57,69,69,36,69,69,68,79,69,58,68,57,69,68,47,68,57,69,79,70,69,57,7,7,68,36,69,36,69,68,69,47,68,57,47,7,79,47,7,46,70,57,68,79,57,58,68,46,45,58,46,7,7,69,45,46,70,36,57,7,57,57,47,70,47,79,68,69,68,70,45,36,47,69,69,58,68,68,69,68,57,57,57,58,47,46,57,45,36,36,69,45,68,47,68,36,68,46,69,47,45,70,36,58,68,36,58,58,36,58,70,68,68,46,70,45,68,68,46,46,45,69,7,68,47,69,58,68,68,68,58,47,57,36,58,46,68,68,70,57,57,79,57,79,46,45,46,57,46,57,36,47,68,68,69,69,68,36,7,68,69,7,68,69,70,46,68,68,45,46,70,47,36,45,58,68,46,57,68,36,69,70,36,70,57,58,69,7,68,68,69,69,46,69,57,68,46,68,47,69,69,47,79,70,70,70,70,68,58,68,36,69,58,58,68,79,68,69,46,7,45,58,68,45,57,68,69,79,57,47,69,57,57,57,58,57,47,79,58,45,46,68,46,69,36,45,69,69,58,7,46,68,57,7,47,7,46,70,57,68,57,57,46,46,47,69,68,36,69,70,36,36,68,45,58,69,69,69,58,46,46,57,57,46,36,68,69,58,45,7,57,46,68,68,79,69,57,36,68,46,68,69,68,46,57,68,68,68,70,68,57,79,69,69,58,70,46,57,69,36,68,68,57,46,7,7,47,57,57,79,57,57,7,57,70,79,57,7,46,58,47,69,46,70,57,68,46,45,57,69,69,46,46,68,46,68,57,57,57,79,58,47,79,57,57,57,58,69,57,57,69,57,68,69,79,79,45,68,57,79,36,46,57,69,36,57,69,58,57,68,57,68,45,46,36,68,69,46,36,68,69,7,68,46,47,46,69,68,68,69,69,57,68,57,70,69,79,46,7,68,70,70,58,70,68,69,70,69,68,58,57,36,68,68,57,69,57,57,58,57,68,79,68,36,46,58,68,7,46,46,79,68,47,68,69,68,46,57,7,68,69,46,57,68,69,46,7,46,36,7,57,79,69,58,68,47,57,57,47,57,57,79,57,69,68,57,46,68,68,47,47,7,45,69,79,69,57,69,57,79,69,69,68,47,68,57,69,69,57,47,57,69,68,57,57,7,45,47,47,69,57,36,47,68,79,57,47,79,57,70,69,68,57,68,45,70,68,45,68,57,57,57,68,69,68,36,68,68,36,57,70,46,68,68,7,46,68,69,46,70,47,68,70,57,70,69,7,7,58,70,69,58,46,69,69,58,47,47,68,68,57,36,57,58,69,46,36,7,36,69,36,70,7,58,47,57,68,46,69,68,46,36,36,68,45,46,36,57,46,46,68,69,57,7,79,47,45,79,46,47,45,46,47,46,68,68,69,68,45,58,36,46,46,45,69,36,79,57,46,46,79,7,69,79,7,47,69,68,57,79,57,46,69,58,7,79,69,47,57,47,46,68,46,58,46,45,68,68,69,68,69,69,70,57,45,79,45,68,69,68,68,45,45,45,45,46,69,68,79,70,58,58,57,36,68,68,58,57,70,68,69,70,68,68,68,57,45,69,58,69,68,57,7,46,70,57,46,46,36,46,45,68,79,68,79,68,46,68,57,47,57,47,46,79,57,68,47,46,47,69,36,45,7,57,68,45,7,45,58,79,46,58,68,79,68,79,68,46,46,46,68,57,68,70,57,68,46,57,46,70,57,57,47,45,68,79,36,57,57,58,36,68,7,57,57,57,69,7,57,70,68,79,46,57,69,45,46,69,68,68,57,47,68,68,68,69,7,46,68,7,68,70,36,70,7,79,57,58,46,68,47,70,46,45,36,45,57,46,45,47,79,57,47,68,58,68,46,68,70,68,57,46,69,69,58,79,68,57,69,68,58,47,46,70,45,47,68,47,47,57,46,69,7,70,57,69,68,46,47,57,47,68,68,46,68,45,47,79,36,47,57,7,45,70,57,7,46,57,47,7,46,68,46,68,58,57,47,69,46,57,47,69,57,46,57,36,46,58,36,47,7,47,68,58,69,69,57,69,45,79,68,69,36,46,7,45,7,47,79,45,70,68,79,47,47,46,68,79,46,68,46,58,46,58,36,46,57,68,46,46,36,68,45,79,45,46,45,79,79,57,7,36,7,46,36,36,68,46,69,79,36,46,58,68,46,7,57,58,45,47,7,36,45,57,45,79,7,57,58,57,68,57,57,46,36,70,45,45,57,58,46,57,69,70,68,57,68,57,68,36,45,69,79,57,7,7,69,57,57,47,36,36,46,68,47,46,57,47,70,58,58,57,46,68,57,69,57,7,58,69,70,68,58,68,68,79,70,57,79,57,36,46,68,47,69,69,7,47,7,68,57,46,57,68,68,57,68,57,68,46,68,58,7,57,68,46,68,36,79,46,68,57,47,70,7,7,58,70,57,57,46,57,58,7,57,45,36,36,69,68,69,57,36,69,69,7,46,46,47,57,57,57,79,57,57,70,79,7,70,36,70,58,79,68,68,58,57,69,58,68,70,36,47,68,70,36,58,57,46,68,58,36,7,57,58,70,70,36,36,57,47,69,79,69,68,57,69,69,68,47,7,57,47,46,69,47,69,68,68,36,45,46,46,79,70,68,79,69,57,68,47,69,69,57,46,36,47,45,68,69,46,68,57,69,69,57,7,36,69,45,68,69,46,68,79,57,57,58,70,70,45,46,68,7,47,69,58,45,57,46,36,58,57,46,68,57,45,57,47,7,45,7,58,57,46,69,7,36,68,36,45,47,57,70,45,7,70,70,68,69,47,69,70,57,36,58,57,70,69,68,79,57,7,47,70,46,45,68,7,68,46,46,68,68,36,7,47,68,68,58,7,69,68,69,79,46,46,45,68,57,46,57,36,70,47,57,57,68,57,68,69,57,57,70,57,57,57,57,68,69,46,58,57,7,68,58,68,69,69,68,69,69,58,57,46,36,46,68,68,46,45,46,57,57,68,68,45,7,57,46,70,47,68,47,47,45,68,68,69,45,68,46,47,45,70,7,57,47,68,46,57,68,68,68,36,57,57,68,45,46,46,69,68,46,46,36,36,57,57,69,58,68,70,70,68,69,46,79,46,58,36,68,58,46,68,57,69,7,70,69,7,69,68,68,46,7,36,57,57,46,57,46,47,79,70,47,68,58,7,68,69,45,69,58,58,47,68,68,46,79,46,69,58,46,69,57,46,47,68,79,57,69,46,36,79,70,69,69,36,57,58,68,68,58,45,57,7,46,45,69,45,68,46,68,46,69,70,57,68,46,57,69,46,69,69,57,57,36,69,69,57,69,46,46,79,7,46,57,69,58,69,7,68,57,69,58,69,47,57,46,7,68,69,46,69,47,45,69,70,70,57,57,7,7,45,58,57,69,70,58,57,46,46,57,57,46,57,36,69,68,68,46,69,57,68,36,79,68,46,69,68,46,46,46,47,46,46,46,58,68,47,68,36,47,7,45,70,57,45,57,69,46,79,47,45,70,57,69,36,58,68,57,69,57,79,46,69,69,68,70,68,68,46,70,47,69,70,47,45,45,68,69,68,58,46,36,69,46,45,57,68,46,69,36,46,58,68,68,46,58,58,68,68,57,69,58,68,46,58,68,57,79,57,69,36,46,57,7,68,58,70,68,68,45,68,68,36,68,46,47,57,58,57,57,69,46,57,46,79,47,46,36,46,36,58,68,69,68,46,69,36,69,47,36,46,57,57,7,57,70,70,68,69,68,46,7,79,7,7,68,68,58,57,58,57,57,70,46,79,70,46,7,69,46,68,7,57,57,46,70,47,69,68,36,47,57,79,46,46,68,46,58,68,68,58,45,57,36,57,68,57,69,57,57,57,57,46,68,68,36,58,69,57,47,70,70,57,70,36,68,45,68,7,68,68,45,57,46,68,68,7,57,68,68,69,69,47,68,68,68,68,46,36,70,57,57,57,57,46,46,58,79,57,68,68,70,46,47,57,36,57,57,45,46,68,45,68,68,45,57,57,70,68,46,7,7,36,69,45,57,69,57,79,46,69,45,69,58,58,68,58,46,46,45,57,57,46,70,45,68,69,69,68,57,68,68,46,47,57,68,68,58,68,69,7,57,68,70,70,46,68,57,57,69,57,36,57,68,58,46,79,69,58,47,57,69,70,69,58,68,68,70,58,46,57,58,68,57,68,57,7,57,47,57,57,57,58,45,70,70,69,57,68,57,69,69,47,57,57,57,69,57,47,68,57,68,46,7,69,70,46,68,57,70,7,79,46,69,57,46,7,68,57,46,45,79,45,45,70,69,46,46,68,47,47,46,57,46,57,7,57,79,46,36,47,68,57,46,47,79,57,70,46,58,70,70,58,57,45,68,69,58,47,58,68,68,46,47,69,68,57,79,69,46,57,69,45,7,69,69,57,70,46,45,68,36,68,47,68,36,36,69,58,58,68,68,68,57,36,68,69,36,46,68,57,68,70,57,79,68,7,46,57,45,68,57,69,7,68,46,57,57,57,79,36,46,46,57,58,69,69,46,68,46,70,69,68,58,46,68,57,68,47,69,7,45,68,69,68,68,68,68,57,69,57,69,45,46,58,47,69,58,57,57,46,7,46,70,7,36,46,57,69,79,46,68,69,46,79,68,45,68,69,45,7,69,70,36,68,47,46,68,46,46,70,68,57,68,57,46,69,36,68,57,47,45,70,7,69,46,7,68,68,58,69,69,36,69,47,46,69,47,46,58,79,46,68,46,68,69,47,7,58,36,57,47,68,79,68,45,45,70,58,7,68,69,68,69,45,69,68,45,57,7,69,7,69,68,68,69,69,46,46,69,57,69,47,69,68,45,47,45,46,58,69,58,68,58,69,68,68,57,47,69,45,79,47,69,45,57,46,68,69,58,68,58,46,69,47,7,57,46,47,79,69,46,57,46,69,46,70,46,36,57,7,58,68,36,68,46,7,46,58,46,68,68,47,36,47,46,69,36,46,46,68,68,68,79,57,58,70,7,46,45,36,68,57,47,58,57,46,57,57,68,57,68,46,46,68,58,68,57,46,79,36,69,79,57,45,68,46,69,46,46,70,70,68,68,46,57,47,68,57,68,36,36,7,57,69,57,46,46,58,46,45,36,57,46,79,58,68,79,45,57,69,57,58,79,70,46,68,68,79,68,47,69,47,69,69,68,79,68,69,69,57,57,57,68,70,57,68,57,36,68,68,57,58,68,7,57,58,36,47,69,70,7,68,45,58,57,46,46,45,58,58,68,36,69,46,69,68,46,69,58,45,7,58,68,7,45,69,7,68,68,57,58,36,46,70,36,68,69,46,69,57,57,68,46,57,68,57,57,69,7,57,7,70,68,46,57,68,46,70,68,69,57,45,36,57,47,69,68,57,68,70,68,70,57,68,57,57,69,7,68,57,46,57,68,45,69,7,68,58,79,69,46,70,58,47,7,36,68,47,45,46,57,45,45,47,47,58,57,46,57,68,36,68,45,46,68,57,57,36,57,45,57,68,7,69,79,7,46,46,69,68,36,68,57,70,45,68,47,57,68,57,46,57,57,58,68,79,7,68,70,57,69,57,46,57,58,69,57,57,47,47,57,79,69,58,68,68,57,36,68,68,58,57,79,47,57,36,57,57,46,57,70,45,46,46,45,7,47,7,69,57,36,47,68,46,69,68,58,36,68,58,58,36,79,68,68,69,68,46,69,68,47,69,69,69,69,46,45,57,7,68,69,58,45,46,46,7,46,58,47,58,7,57,57,68,45,69,68,57,57,69,68,46,45,57,57,68,69,68,69,7,68,47,7,45,57,68,45,69,70,57,7,7,69,45,46,68,57,69,79,57,46,69,7,68,46,57,57,57,46,36,70,79,57,57,69,68,70,36,68,46,57,68,68,69,70,45,46,69,69,57,57,70,46,57,79,68,57,45,46,68,45,57,7,57,7,46,7,68,47,46,47,79,68,57,57,68,57,79,69,69,57,46,57,68,57,7,46,69,69,68,79,57,46,45,69,68,68,46,69,47,57,46,57,57,68,36,68,68,57,68,70,36,57,57,68,68,57,70,79,57,69,70,36,57,46,68,47,47,57,36,47,46,69,46,68,46,68,68,46,70,7,69,70,57,68,68,47,57,57,7,46,68,7,68,7,69,47,7,68,69,69,68,45,46,7,57,68,7,46,58,57,7,69,79,57,46,69,47,7,58,47,70,57,68,79,7,57,46,58,58,79,46,57,7,46,57,68,68,79,79,45,57,68,46,47,57,70,57,45,7,57,46,68,57,45,57,68,7,47,68,57,46,57,70,69,57,47,46,68,58,58,46,7,46,57,7,79,69,69,7,68,68,47,68,57,46,47,47,68,79,79,68,69,57,68,79,58,70,69,7,69,68,46,47,36,57,68,57,58,79,70,79,57,70,68,45,7,57,7,46,69,68,58,46,68,57,57,79,36,57,68,69,68,57,36,57,47,57,68,68,46,69,68,69,57,70,46,69,69,57,46,46,79,57,36,58,7,45,69,68,69,57,45,70,69,57,69,7,46,69,36,68,57,79,36,7,46,57,68,46,69,68,47,69,68,79,68,7,46,36,46,70,68,70,46,36,57,68,46,46,58,36,46,58,70,57,68,46,68,58,57,58,57,68,36,36,36,68,68,68,46,46,57,46,70,70,70,57,57,68,70,46,36,69,57,57,57,68,46,68,7,58,47,7,69,68,57,70,70,57,45,57,69,45,68,7,45,57,47,46,69,58,79,68,57,46,47,69,57,70,47,46,7,68,70,69,70,68,7,7,68,69,79,57,58,46,69,46,46,69,79,69,57,68,69,7,69,69,46,47,68,45,79,45,46,69,36,68,58,7,36,36,68,68,70,57,69,57,68,58,57,70,69,57,45,68,36,69,57,68,79,46,68,57,57,70,46,69,45,45,47,47,57,47,70,47,70,68,57,46,69,70,69,68,46,58,79,68,47,70,79,58,68,45,46,45,7,57,68,7,57,69,7,69,45,57,46,68,47,57,45,70,57,47,68,68,46,47,79,69,79,47,36,46,57,7,79,68,46,68,69,68,69,36,46,68,58,68,79,45,58,68,46,7,47,45,70,57,68,47,68,7,47,68,57,36,36,68,36,69,69,36,36,69,47,69,46,68,70,70,68,68,36,70,57,68,36,58,68,68,57,70,7,57,57,79,7,57,69,45,79,36,58,68,47,69,36,57,7,58,57,46,69,57,68,46,47,58,68,7,45,68,69,69,68,57,45,79,79,79,7,69,46,57,58,69,47,79,7,47,7,69,58,68,57,46,46,70,57,70,69,36,57,58,69,45,46,57,45,68,69,79,46,36,68,47,46,58,47,46,57,7,47,46,69,45,70,68,68,58,69,68,57,69,57,69,57,57,46,47,7,7,46,36,68,68,57,70,57,68,46,45,70,69,57,36,79,36,47,57,68,68,68,57,69,68,70,47,46,46,46,58,57,47,46,68,68,57,36,36,69,57,57,58,47,58,79,57,79,46,68,7,57,69,68,68,57,7,57,57,69,68,57,68,36,69,45,36,69,57,36,69,36,45,47,69,47,68,46,68,68,57,46,69,68,68,46,57,36,58,57,46,68,57,45,68,68,70,36,45,57,69,7,69,36,45,58,58,46,57,57,69,57,46,57,45,70,69,58,58,69,47,68,36,68,36,68,57,58,57,7,57,47,36,57,70,69,68,57,58,69,68,57,70,57,47,79,57,69,58,79,79,70,69,68,57,47,45,57,70,46,68,68,70,79,68,46,68,57,57,68,79,69,68,7,45,57,58,57,68,69,68,69,70,45,46,57,46,47,47,45,46,68,58,68,7,57,46,57,7,68,7,68,68,58,46,46,46,47,57,47,36,46,69,47,46,69,79,68,7,58,45,79,57,7,70,58,57,46,36,69,57,57,70,70,36,58,46,57,70,79,70,68,79,58,68,57,69,36,45,57,45,46,46,7,47,47,45,57,69,68,79,47,47,68,46,46,70,7,69,46,69,68,46,68,69,47,69,70,46,36,57,47,57,46,69,45,79,46,69,7,70,46,79,58,46,68,69,46,7,47,70,68,57,68,57,69,58,70,58,57,7,79,45,57,68,68,69,36,68,69,69,68,68,69,79,69,69,58,69,47,70,45,68,58,68,36,45,36,36,68,46,70,69,57,70,46,58,68,69,69,68,69,45,69,58,45,57,57,70,47,36,46,7,68,57,47,68,46,68,46,47,70,47,36,69,46,69,58,46,68,46,36,46,46,47,46,36,68,57,57,79,68,57,46,57,57,57,68,70,58,46,57,69,57,68,68,68,45,57,46,70,7,46,70,7,46,57,36,70,58,69,46,45,70,70,46,46,68,69,57,46,79,69,68,57,46,46,46,58,46,70,79,68,70,57,47,79,7,57,46,46,70,57,68,69,45,46,57,79,7,58,58,57,57,47,68,57,45,68,69,68,69,58,46,70,57,68,57,36,36,45,47,70,46,47,46,68,69,58,46,36,68,7,47,36,57,68,36,68,7,47,46,68,7,45,79,57,70,69,46,57,57,47,57,46,46,68,7,57,68,45,57,68,58,36,58,58,46,57,46,69,69,70,70,68,46,7,57,69,68,68,45,58,47,79,46,57,68,45,46,68,46,46,69,68,68,46,79,69,68,57,45,69,68,46,58,36,57,58,68,69,57,57,69,58,68,69,69,68,68,36,68,70,68,57,36,45,46,7,57,58,47,36,58,57,57,68,69,58,69,46,69,69,68,69,47,46,69,57,45,69,70,58,47,69,57,69,68,47,46,57,57,69,58,70,70,69,46,46,70,36,46,7,79,36,46,46,57,57,46,70,57,58,68,45,68,70,68,68,58,68,79,57,79,46,57,68,36,46,36,58,70,69,46,47,68,46,68,79,68,68,69,58,79,70,57,79,7,68,69,68,58,57,79,68,68,46,36,68,36,79,57,69,36,57,57,68,46,46,68,7,68,7,57,57,69,36,58,45,79,45,36,46,79,57,68,68,68,68,68,7,68,47,69,57,68,69,68,57,68,68,46,70,68,57,46,69,68,45,70,68,57,36,58,70,79,70,46,36,57,68,68,57,69,79,7,45,45,47,79,69,70,69,7,69,57,68,70,46,46,68,68,36,7,57,46,36,57,68,36,57,45,69,79,36,57,68,47,36,47,46,57,46,68,46,79,46,68,68,68,46,79,68,70,69,70,70,57,70,57,58,46,7,58,68,57,70,79,58,68,79,69,57,68,46,69,57,69,68,57,68,7,68,57,7,68,58,46,36,58,68,68,57,47,70,68,57,79,46,46,45,69,57,79,68,57,69,68,46,57,7,70,57,7,7,68,68,57,69,45,45,70,45,57,46,46,69,70,36,68,46,69,47,57,45,45,7,58,69,46,68,57,45,47,70,79,47,46,68,68,7,68,46,68,70,46,45,68,57,46,57,47,68,36,57,68,46,69,57,36,36,45,45,79,46,36,46,7,68,7,69,69,57,69,46,68,57,57,79,79,70,68,79,57,69,7,46,57,68,58,45,69,7,58,46,68,68,70,58,36,46,57,45,57,69,57,57,69,57,68,57,69,69,79,69,69,7,36,68,70,69,36,57,45,79,68,69,58,7,69,46,79,36,69,68,69,47,68,69,57,70,45,45,58,46,69,46,58,57,46,47,36,36,69,69,57,69,68,70,79,69,7,7,79,57,46,57,57,36,45,58,58,69,68,69,57,58,68,68,46,58,68,46,68,7,79,47,70,69,46,68,57,68,70,70,46,57,36,68,57,36,57,57,57,58,68,45,46,46,47,68,68,7,46,79,69,46,46,46,57,68,46,45,36,7,46,57,79,36,47,45,47,79,68,70,57,68,68,57,68,79,57,46,68,58,36,36,57,46,36,68,79,46,70,57,68,58,7,57,58,7,45,69,68,57,57,68,68,70,45,47,46,36,57,68,57,45,68,45,79,57,45,69,46,45,69,68,68,45,46,69,58,7,69,79,46,36,57,68,69,68,7,69,45,58,57,68,79,68,58,7,68,58,57,69,69,69,46,45,46,57,47,7,57,57,46,68,7,69,47,68,70,7,79,36,57,57,79,69,7,69,57,47,47,68,79,57,47,46,57,36,45,58,79,45,57,57,57,58,79,68,36,69,79,79,69,68,68,57,36,58,36,57,36,69,58,57,68,58,46,7,58,47,57,58,69,69,47,68,69,46,36,45,70,69,68,68,69,46,36,70,70,36,36,69,57,68,7,69,70,57,45,36,70,47,7,57,46,57,68,57,7,47,68,70,68,58,57,70,57,7,69,36,79,46,57,57,68,57,70,70,68,57,57,7,46,7,47,7,57,58,68,57,68,47,69,47,36,79,7,57,57,36,57,79,46,69,68,57,57,70,45,68,45,46,79,68,57,57,70,47,57,36,79,70,58,57,68,68,68,47,69,68,47,47,7,68,45,79,46,79,69,36,45,69,36,36,46,79,69,58,45,47,58,46,57,57,45,57,47,68,36,58,70,69,45,69,47,58,36,45,68,68,46,58,57,79,7,58,46,7,70,46,36,68,46,57,68,69,68,70,69,69,70,46,46,46,69,69,69,70,58,79,57,79,68,7,70,45,46,46,36,7,69,68,36,68,69,36,68,68,69,68,58,58,45,69,57,7,68,47,58,79,68,58,57,47,36,70,68,57,57,79,45,57,57,47,79,69,46,58,45,46,69,68,79,36,58,70,47,7,7,45,68,70,46,68,57,57,7,45,36,36,69,79,69,57,68,46,68,46,45,70,69,7,68,7,46,68,68,69,70,69,69,68,68,57,7,58,45,68,47,69,57,58,68,69,57,7,46,46,46,79,57,79,68,70,7,57,57,79,45,36,46,45,57,36,57,57,36,58,68,7,68,47,57,47,68,68,47,58,69,57,70,68,46,46,7,69,70,68,46,57,57,36,45,7,70,68,70,70,68,57,68,7,57,57,69,68,57,46,46,36,69,69,7,7,45,70,46,69]
[null,null,null,null,null,null,47,57,57,57,68,70,47,57,46,7,36,79,58,46,46,57,57,68,36,58,36,7,47,47,46,57,46,68,69,79,36,57,68,79,46,46,7,70,57,36,70,57,45,7,58,47,46,57,36,68,7,57,69,46,69,36,36,68,36,69,79,45,69,57,68,36,79,36,36,70,7,68,46,57,58,57,47,70,79,47,46,46,58,46,57,46,57,57,68,7,68,57,69,36,36,57,68,45,57,69,68,68,70,45,46,47,68,58,45,57,70,46,46,57,58,46,46,69,68,79,36,68,7,68,45,79,57,68,69,79,57,47,45,68,57,47,57,68,79,68,7,68,36,57,68,69,68,36,36,79,68,45,57,69,69,68,57,69,45,46,58,69,68,58,57,45,58,68,57,57,58,57,46,7,68,57,69,57,68,69,68,68,47,68,69,79,69,68,36,68,47,57,46,57,46,69,57,57,7,79,69,58,57,57,68,58,36,69,57,68,46,69,57,58,57,45,70,46,46,45,36,57,68,46,57,46,68,7,57,45,46,58,57,47,45,68,57,57,68,68,69,69,47,57,47,68,58,57,70,79,68,36,46,46,36,68,69,68,46,69,68,69,57,7,69,7,70,69,57,68,57,36,46,46,69,46,69,45,79,58,46,68,69,7,57,7,57,36,46,45,47,68,7,58,68,79,57,47,46,68,46,68,57,68,68,45,68,70,7,70,57,58,57,69,68,69,68,69,57,58,46,68,45,46,46,68,57,57,58,58,69,7,45,57,46,69,57,7,47,57,69,69,45,69,70,45,45,70,46,69,57,79,46,46,46,68,68,47,68,45,58,69,68,69,69,46,46,46,58,79,70,57,68,46,36,7,69,57,69,69,68,46,7,7,46,57,79,7,7,69,68,68,69,36,36,36,58,79,68,47,57,68,58,46,58,68,68,68,69,46,46,58,57,58,7,46,46,46,68,46,46,46,68,36,57,69,36,79,58,70,79,57,58,68,57,68,79,57,57,69,46,68,68,46,68,7,79,47,69,70,68,36,79,68,69,46,69,68,7,58,47,69,68,47,79,58,7,70,45,68,57,69,57,7,36,57,69,46,57,68,79,79,68,68,68,47,47,47,57,68,68,68,58,69,46,79,46,46,45,58,46,46,36,7,57,68,7,58,68,69,36,46,47,46,46,68,69,47,57,57,46,46,46,70,47,58,68,69,58,57,70,47,46,7,47,45,46,57,68,57,79,46,69,57,79,46,68,68,57,57,68,57,57,69,45,57,57,46,58,68,70,36,69,47,45,47,69,68,46,70,69,69,57,69,68,69,46,69,79,68,68,47,57,70,57,47,70,70,45,57,36,57,69,57,57,7,57,68,68,45,58,7,46,46,57,69,58,69,46,57,46,68,46,47,69,69,57,68,57,70,57,46,45,57,46,69,46,57,79,69,47,7,46,36,46,46,46,69,68,57,45,46,57,57,46,70,46,69,69,46,47,57,70,57,58,68,7,46,36,57,46,7,46,36,57,79,46,58,57,79,58,47,57,58,57,45,36,58,69,36,69,47,46,57,45,46,57,57,79,36,57,69,46,36,47,68,69,46,57,57,58,58,68,57,36,58,47,36,68,57,68,45,70,46,57,79,46,46,57,68,36,46,45,57,68,58,7,68,57,45,69,69,57,68,68,57,57,79,57,69,70,68,70,68,57,46,7,68,36,36,69,46,69,69,36,45,57,69,36,45,68,69,36,68,46,69,36,57,70,47,69,36,69,70,69,70,79,57,68,47,68,57,7,57,68,68,69,68,69,58,69,46,57,69,68,79,7,7,57,47,68,47,68,69,57,70,46,7,68,57,7,45,68,58,47,7,57,57,58,68,57,58,69,46,69,45,57,68,36,36,58,45,7,69,46,70,69,70,79,70,36,36,7,7,58,7,69,36,57,47,58,79,68,45,79,70,7,57,68,70,69,46,69,79,46,69,79,46,57,69,57,69,69,46,68,46,7,79,68,68,45,79,57,68,68,46,36,47,45,58,58,36,57,58,68,70,70,46,45,57,46,36,57,68,57,57,57,79,7,57,58,45,79,68,57,47,36,70,47,57,57,69,70,68,7,68,45,47,57,57,46,7,46,79,69,68,57,58,68,69,46,69,36,70,7,46,69,69,69,70,70,68,69,68,68,45,58,45,36,68,68,36,68,36,57,68,36,45,68,57,57,70,68,47,68,69,58,68,69,47,58,47,57,36,57,68,7,58,68,47,36,36,68,46,57,68,46,46,47,47,69,47,70,45,7,57,70,45,58,79,68,69,57,68,57,45,68,46,57,57,46,46,68,58,68,68,58,68,46,68,69,58,46,36,69,46,36,45,46,68,68,45,68,57,7,69,46,45,69,69,68,68,57,68,68,58,36,58,57,79,69,57,7,69,69,36,36,57,45,57,68,69,68,36,57,70,45,57,79,57,68,57,58,47,46,57,69,45,69,46,68,70,68,69,7,7,57,57,57,7,70,7,7,69,69,58,69,36,36,70,57,46,69,58,68,47,57,46,70,68,57,68,57,68,70,7,36,46,68,36,46,47,45,69,68,70,36,36,68,46,46,46,68,79,46,7,68,58,68,46,46,79,68,69,79,68,46,58,70,69,7,69,46,68,36,57,57,47,46,79,68,46,57,7,57,57,45,7,57,69,68,57,57,70,58,68,68,57,68,46,57,47,46,69,79,69,46,68,46,36,46,57,47,68,70,57,7,7,45,7,57,79,57,46,69,46,70,57,7,57,45,68,47,36,68,68,69,69,7,58,58,68,46,69,69,57,46,7,68,79,46,46,79,47,68,68,69,46,79,69,36,68,58,70,36,69,79,68,58,79,46,57,45,36,69,57,68,68,68,68,68,36,70,69,57,69,46,70,46,58,46,46,57,68,47,36,68,36,69,46,68,57,7,57,79,57,68,45,68,68,68,46,7,70,79,69,47,7,58,47,45,79,45,68,68,68,46,69,7,46,58,79,46,79,46,79,45,69,45,45,57,45,46,7,68,57,57,47,70,69,57,69,57,46,46,68,69,57,57,79,45,70,36,79,70,47,36,69,57,45,68,46,46,68,57,46,68,68,68,47,36,47,36,68,70,57,45,79,47,36,68,46,57,70,68,46,57,46,46,46,68,68,68,46,58,57,57,46,68,45,46,57,69,69,46,69,58,57,68,46,57,57,79,46,46,47,47,79,45,69,45,36,57,68,46,79,68,68,69,68,57,57,45,69,68,68,7,69,79,45,58,68,46,36,58,47,57,70,68,58,68,68,58,46,57,46,69,7,58,46,58,36,68,68,68,57,57,57,46,68,36,68,68,7,57,79,58,69,57,57,46,7,7,69,46,69,68,69,36,68,69,7,69,68,46,79,69,7,69,46,58,45,68,68,7,68,46,58,68,57,7,70,68,36,69,79,47,68,79,68,70,57,46,68,68,45,46,57,69,68,68,47,7,70,68,36,69,68,46,57,57,36,68,46,57,68,68,68,79,68,47,68,36,69,58,57,58,36,57,68,7,45,57,68,58,68,68,79,57,36,70,57,36,7,46,57,47,69,47,69,57,69,69,57,79,57,57,46,47,45,45,70,47,47,57,70,45,68,7,46,36,47,68,36,47,69,36,68,69,46,36,68,70,70,70,70,36,36,45,68,7,57,69,68,7,45,70,57,69,68,36,79,58,68,68,46,57,47,69,57,68,7,57,68,45,69,70,7,58,46,57,45,57,46,68,45,57,57,36,70,68,46,45,57,46,79,45,70,57,46,45,68,46,36,57,68,47,57,46,45,69,79,47,69,46,46,57,58,47,68,57,46,68,69,46,57,57,68,45,70,7,45,57,68,79,57,57,69,69,47,69,69,68,47,58,70,68,69,69,7,46,57,47,45,45,45,36,57,58,57,46,68,57,57,57,57,68,79,68,68,57,7,69,68,68,57,47,68,58,57,46,70,58,46,57,79,47,47,69,69,68,57,68,46,45,58,68,7,69,45,57,68,70,70,70,57,69,46,79,7,36,79,7,57,69,68,57,68,68,7,68,7,46,36,68,69,57,68,46,7,36,7,70,68,36,69,57,58,68,36,70,70,58,79,70,70,68,70,70,69,69,69,57,68,57,46,57,46,68,58,36,57,58,70,46,46,69,68,69,57,58,57,70,57,57,36,47,79,57,36,57,69,47,57,79,57,69,70,45,7,69,69,69,68,46,70,69,58,69,70,58,36,57,46,68,47,57,57,69,79,68,46,46,36,57,58,70,69,69,57,46,57,7,7,7,69,7,57,45,45,57,69,46,45,36,46,79,58,57,79,68,68,58,7,46,69,46,68,68,57,57,79,47,46,46,36,70,69,45,45,69,79,36,7,58,58,79,68,57,68,57,58,36,68,57,58,69,69,57,57,45,58,46,69,7,58,46,58,68,46,69,69,7,47,46,79,79,57,57,70,69,68,7,68,46,46,68,58,68,36,70,68,7,68,57,47,69,57,46,57,45,68,68,45,68,46,68,69,57,46,68,68,36,46,69,58,36,57,69,69,47,46,68,46,46,79,68,57,45,57,79,7,47,69,68,57,69,57,46,70,69,47,57,57,46,68,57,68,36,68,57,45,57,79,58,46,70,57,57,70,57,45,46,68,57,69,68,46,68,57,69,70,79,69,46,69,45,46,68,46,70,68,79,68,69,58,69,57,58,69,57,57,69,70,7,45,68,68,69,69,69,57,70,68,47,45,58,70,69,68,79,46,46,68,68,36,70,45,36,57,69,57,68,58,57,46,58,7,7,68,57,58,57,46,36,7,57,46,47,7,69,57,79,47,57,57,68,7,68,46,47,57,68,68,68,69,69,70,47,46,79,68,68,69,45,70,36,68,57,69,57,58,70,69,68,7,7,70,47,70,69,57,45,57,57,45,46,36,58,7,7,57,45,36,47,57,79,57,69,68,47,68,79,68,69,45,36,79,68,46,70,79,47,36,79,70,46,68,68,68,46,45,69,68,57,45,68,46,69,57,36,46,69,45,36,79,57,7,68,57,58,68,45,68,57,7,57,70,69,68,7,46,46,68,57,36,57,58,46,79,70,57,68,57,69,68,69,47,68,45,68,68,68,79,45,7,7,45,57,68,47,69,45,69,47,46,57,69,58,45,68,57,57,7,69,46,68,57,58,79,47,68,57,58,7,58,7,57,47,45,47,58,68,46,68,45,69,69,69,36,58,58,46,57,68,47,79,57,7,45,47,7,69,58,7,45,57,45,68,79,45,57,46,45,36,45,69,7,36,79,36,46,68,69,69,69,45,36,45,58,79,57,57,57,68,68,58,69,57,45,45,57,57,36,57,70,68,58,57,70,68,57,68,69,79,68,58,69,79,57,47,68,57,47,68,68,58,79,68,46,47,46,58,79,68,69,68,68,46,69,57,79,57,46,69,68,69,58,46,68,46,79,57,57,45,70,46,45,36,70,68,47,46,47,36,79,68,7,36,68,46,47,68,69,57,7,57,68,58,69,36,58,57,36,69,69,47,58,79,46,45,57,68,79,69,7,57,69,47,69,70,57,46,69,57,70,79,68,69,57,45,70,57,68,36,57,45,68,68,69,7,46,46,68,68,57,36,45,46,47,57,57,70,68,58,45,46,57,36,68,46,68,68,70,45,46,57,79,68,46,7,7,68,68,46,58,58,57,69,79,79,58,58,57,47,69,45,69,7,7,57,45,68,57,47,79,45,36,7,46,45,57,36,68,36,57,57,70,57,68,58,45,36,68,68,36,46,69,47,68,69,58,46,46,46,69,68,45,46,46,7,79,70,68,45,57,57,57,68,45,7,68,57,70,57,68,45,70,36,69,58,46,79,68,46,57,70,69,68,69,57,69,57,69,68,46,68,69,46,68,46,68,45,57,69,68,68,69,68,45,7,68,7,68,36,58,58,45,69,47,46,57,79,68,45,46,57,7,36,68,79,79,57,57,46,79,69,68,57,45,46,68,68,47,79,79,69,45,68,46,79,69,36,69,57,57,47,46,70,70,46,68,46,47,47,7,57,46,57,79,69,58,45,69,57,57,57,45,36,57,68,57,69,46,58,69,69,7,68,69,69,79,68,46,57,47,58,58,46,58,57,68,69,46,36,79,47,57,69,57,45,46,69,57,47,58,69,69,79,69,79,47,45,57,68,57,46,68,68,79,79,47,36,79,7,70,57,79,46,47,36,46,68,68,79,45,47,58,45,45,68,70,58,47,47,69,45,68,36,57,45,58,79,46,46,70,68,58,57,57,70,46,45,36,46,46,57,57,57,69,69,57,57,69,57,69,58,57,68,70,45,68,69,57,69,79,70,36,69,36,69,69,45,68,68,36,57,7,69,7,68,68,36,57,79,70,57,47,69,57,46,68,7,57,68,47,46,57,57,69,7,45,68,58,69,79,69,70,36,68,69,57,45,58,69,79,57,68,57,68,57,46,68,57,79,68,69,46,7,57,36,69,68,58,57,57,70,58,79,7,70,68,57,36,68,70,69,68,7,46,79,46,68,68,45,69,46,69,7,68,46,57,57,57,45,57,58,47,69,69,68,68,47,46,7,57,7,69,47,68,68,57,69,68,79,45,58,68,58,68,79,7,45,7,79,79,68,46,36,7,69,36,46,47,68,45,68,46,70,57,69,46,57,69,68,7,68,68,46,79,7,47,7,57,46,68,46,69,57,46,58,36,57,68,57,46,46,7,36,57,45,57,57,68,58,69,57,36,68,45,70,46,68,69,68,57,7,68,47,47,45,79,46,7,46,68,68,57,68,68,57,57,69,68,45,57,68,69,47,79,57,79,57,57,46,57,68,7,45,57,68,46,36,57,46,68,58,68,46,79,69,47,7,36,69,69,58,57,57,57,79,68,47,69,69,68,47,36,45,47,57,79,69,36,57,47,68,69,57,7,57,79,69,70,58,58,68,7,68,58,46,79,68,58,69,69,57,47,7,57,46,70,45,79,46,69,46,46,57,68,79,69,45,47,57,46,46,68,68,45,57,57,46,70,57,68,68,58,36,79,69,68,46,57,58,69,47,69,57,70,47,47,69,79,46,70,36,47,70,36,57,57,68,68,7,46,69,46,69,68,36,45,47,47,57,47,46,69,57,70,70,68,68,45,7,69,70,57,46,45,79,69,57,36,57,68,47,45,57,79,57,57,68,57,70,68,70,69,45,68,58,57,57,69,57,79,79,79,68,47,45,69,47,46,7,46,47,46,46,57,47,79,46,70,36,70,46,45,46,79,47,69,45,47,69,45,70,7,58,69,68,70,68,69,57,57,68,69,58,45,68,57,58,69,79,68,58,57,58,69,7,46,70,57,57,57,46,57,45,47,57,46,57,68,7,46,68,69,79,36,36,57,79,57,57,57,69,79,69,70,57,70,45,57,57,68,68,45,58,68,57,68,45,57,45,79,69,69,68,46,68,70,47,69,57,36,47,69,57,58,7,36,47,57,69,58,79,68,36,46,46,58,36,68,70,46,47,57,57,69,69,58,70,68,36,57,46,69,46,45,57,45,69,57,69,57,68,58,36,68,36,57,58,57,46,7,46,57,57,79,70,7,45,45,57,68,45,70,68,46,7,57,69,69,79,47,69,58,69,7,69,70,36,69,69,36,69,69,68,69,58,36,45,57,70,45,46,68,46,69,57,46,57,69,79,57,69,45,36,68,68,57,7,47,68,69,46,69,58,79,68,7,36,47,7,69,68,45,68,69,36,57,68,58,58,68,69,46,47,7,46,46,47,58,69,69,7,68,45,46,68,68,68,58,68,57,69,57,45,45,70,45,46,36,69,57,68,7,70,68,70,69,68,57,46,57,69,69,69,7,70,57,68,47,46,47,58,7,69,68,57,69,68,57,57,7,68,57,57,46,58,36,46,68,57,68,79,7,46,46,36,57,36,36,79,57,46,68,57,47,69,79,70,36,68,47,79,45,47,46,68,46,45,57,47,68,57,47,69,68,46,46,46,70,69,57,57,70,7,68,69,68,36,57,70,46,45,47,57,69,46,46,79,68,45,68,57,58,69,57,69,46,69,79,7,46,36,36,68,68,58,68,68,57,70,45,79,7,46,46,57,68,69,79,79,46,36,7,69,69,79,7,47,7,46,57,57,69,70,69,36,47,46,69,45,69,7,7,46,70,46,36,57,45,68,57,57,79,79,46,57,7,69,46,36,36,58,79,68,45,68,45,70,57,57,69,68,69,46,70,57,47,46,7,46,79,69,57,69,68,68,69,68,45,68,46,7,36,69,57,68,68,79,69,68,57,57,69,70,68,46,58,68,70,57,57,45,47,7,57,79,46,68,68,70,58,70,57,45,57,46,58,45,68,69,46,68,79,68,70,46,70,7,69,68,46,46,45,68,36,57,69,57,79,68,68,7,68,45,46,46,46,69,46,68,69,46,68,68,47,7,57,46,70,57,58,68,69,57,68,68,68,79,70,47,45,58,57,45,57,46,68,69,57,57,70,47,7,69,68,68,68,45,46,68,68,79,68,45,69,69,46,79,70,69,68,68,57,58,68,69,46,79,46,47,68,7,58,45,68,68,46,68,46,57,46,57,46,57,57,70,70,45,68,7,46,68,45,57,69,68,69,45,57,7,68,58,36,57,57,69,57,45,79,68,58,7,36,57,69,69,57,45,47,68,58,70,68,57,46,58,70,46,36,36,79,7,70,79,45,46,57,68,69,70,68,46,7,57,69,70,57,47,68,36,57,47,7,79,46,57,70,68,57,7,57,57,45,58,68,47,68,57,70,47,58,68,47,46,58,79,79,58,36,46,57,68,57,57,58,45,69,70,68,57,46,46,57,47,79,68,68,7,68,70,57,46,36,7,58,57,46,58,58,58,68,7,70,68,69,70,70,68,58,57,79,45,68,45,36,69,7,69,46,69,69,57,57,46,57,7,57,7,57,79,68,7,47,68,68,58,36,57,58,70,79,79,68,46,57,68,69,57,68,45,79,36,68,46,57,36,68,47,69,57,57,69,69,36,46,68,46,57,47,79,58,57,57,70,46,68,46,7,68,46,58,68,46,69,69,57,58,68,68,57,68,57,57,57,45,57,69,68,70,46,57,69,70,47,69,69,57,45,69,69,57,58,57,57,47,68,68,58,57,68,57,68,69,45,45,68,57,46,7,58,36,46,57,70,70,47,47,68,58,45,57,79,46,68,68,45,68,7,57,69,58,79,70,57,47,68,68,69,57,57,57,46,69,79,58,46,46,57,70,45,68,79,7,7,58,45,79,7,46,7,58,68,7,57,68,79,45,70,79,69,69,46,79,46,79,46,57,57,36,7,68,79,58,58,57,70,46,45,7,58,58,69,47,57,47,46,57,68,68,7,36,45,46,68,69,68,46,57,46,68,69,69,45,46,79,46,68,69,46,69,45,69,57,57,57,45,70,47,68,57,68,57,46,79,69,47,36,46,7,69,69,46,7,70,57,57,70,69,46,69,7,58,79,70,57,69,68,57,57,57,57,69,70,68,7,45,7,68,46,69,57,70,70,57,68,57,70,68,36,46,68,7,36,57,68,70,69,7,69,46,47,57,68,70,57,70,45,7,58,57,68,57,57,46,79,68,47,58,46,69,69,47,57,45,79,68,36,7,68,47,68,46,68,7,68,70,57,57,69,69,57,36,36,68,46,7,70,69,68,36,57,79,46,46,69,36,57,47,7,68,58,58,45,58,68,46,68,70,69,57,57,68,79,70,45,69,46,7,57,7,68,36,57,69,57,68,7,45,70,7,47,46,68,57,7,7,70,68,69,69,7,58,57,36,7,68,7,47,36,70,58,68,57,68,36,36,46,68,69,58,46,70,69,45,68,70,46,69,57,69,70,45,70,68,46,68,68,45,45,46,7,68,45,70,68,57,7,68,69,68,36,70,69,58,46,47,36,36,57,57,79,68,70,69,36,68,57,57,7,45,68,69,45,58,45,57,46,7,46,68,57,69,46,70,58,69,46,46,57,47,45,7,69,57,57,7,68,69,36,57,36,7,46,69,57,57,46,58,68,47,57,47,68,79,57,46,79,69,58,46,7,79,69,70,47,58,68,46,69,57,70,68,7,68,69,68,68,47,57,70,57,57,68,69,45,57,58,68,45,36,58,46,46,79,46,70,79,69,57,68,69,46,70,36,46,45,57,79,46,69,57,79,57,68,79,68,46,46,68,69,46,79,68,58,36,68,58,45,45,36,46,7,57,46,57,58,57,57,47,47,57,7,57,79,45,57,58,57,57,45,69,57,46,57,68,68,46,58,57,68,7,68,79,70,47,46,36,36,47,57,46,46,57,57,57,57,57,45,68,68,58,46,57,36,57,57,36,69,36,47,69,45,79,58,7,58,46,36,45,36,69,57,58,58,68,69,58,46,57,47,57,46,68,7,46,69,68,7,57,68,69,47,57,57,46,68,79,57,69,47,58,70,68,58,57,69,68,79,46,68,36,57,57,58,68,57,46,69,57,57,57,70,46,45,68,70,36,57,7,7,57,57,79,58,69,68,57,57,68,57,57,70,70,47,36,45,58,57,57,68,7,46,57,79,46,57,69,45,68,47,69,47,68,57,68,68,7,68,70,57,46,45,57,57,68,45,36,57,58,57,57,68,68,68,58,68,57,58,70,57,68,36,68,57,58,68,57,46,69,47,68,57,46,45,7,68,69,68,57,47,47,58,79,45,57,69,68,68,68,58,79,57,36,68,68,57,68,47,69,70,7,79,68,68,36,57,45,58,36,68,79,57,46,45,57,7,46,45,68,45,46,36,57,79,70,57,58,46,70,69,36,45,45,46,36,46,47,69,68,7,57,70,57,68,46,45,58,47,79,68,68,46,36,69,46,68,7,68,57,70,46,79,47,36,46,70,69,57,68,69,68,57,47,7,69,68,36,57,68,68,69,57,57,46,68,57,57,57,79,70,47,69,57,68,57,57,7,79,47,57,58,46,57,46,68,57,47,36,68,46,7,68,45,68,47,68,68,45,57,69,57,46,79,46,70,69,57,46,68,70,68,7,68,57,46,70,70,68,68,68,7,46,68,70,57,36,46,45,57,36,57,58,45,36,79,70,46,7,46,68,45,57,69,68,46,57,68,47,57,57,58,68,57,70,36,36,68,47,68,57,70,47,46,70,7,70,7,7,58,79,46,57,45,57,70,69,46,58,70,47,46,57,69,69,69,68,36,36,57,46,69,70,57,68,69,68,69,47,68,36,58,58,69,69,57,46,47,36,69,46,46,68,57,46,46]
[null,null,null,null,null,null,68,69,58,57,68,46,57,45,57,46,46,68,69,57,69,68,79,7,69,69,7,69,47,68,68,45,36,46,46,57,47,45,46,47,57,57,46,79,68,58,58,7,58,57,68,69,36,57,70,46,57,70,68,69,58,47,46,46,46,79,68,36,46,7,79,57,68,57,7,46,46,46,69,68,69,46,68,58,46,69,46,58,68,70,68,57,47,57,57,45,47,47,79,58,79,79,7,46,69,47,7,46,46,57,46,46,57,58,69,57,68,45,47,45,68,36,79,46,57,36,58,79,57,70,57,45,58,70,36,58,69,68,68,57,68,45,69,69,36,45,7,68,68,57,79,58,69,57,7,57,57,36,57,57,68,7,46,69,70,47,68,68,68,70,45,69,57,45,69,57,46,36,79,46,57,70,7,68,79,68,68,68,57,68,68,68,58,68,69,68,68,36,46,47,57,7,69,70,70,69,46,57,57,70,57,46,57,70,57,69,57,46,79,57,47,79,57,68,45,68,68,46,7,57,70,7,46,68,45,68,7,45,58,70,70,68,47,46,7,7,46,45,68,79,70,70,46,47,69,45,45,69,79,46,57,69,47,68,36,68,46,58,57,7,47,79,58,68,7,46,46,68,46,7,68,70,57,46,69,68,57,79,46,68,36,36,70,68,57,68,58,68,70,79,46,7,68,79,69,68,58,47,7,58,79,57,46,68,57,68,57,57,57,57,57,68,68,7,58,58,46,68,57,7,68,79,69,45,70,68,79,46,46,47,57,70,7,69,79,69,68,69,68,69,58,46,57,69,69,69,57,68,68,57,57,58,45,57,68,68,69,69,46,68,47,36,68,68,79,36,7,7,68,68,46,36,45,46,57,79,69,68,57,57,36,58,45,69,58,46,79,69,70,57,57,69,69,45,68,36,57,46,57,46,69,36,68,47,7,69,57,7,46,46,57,57,68,57,68,79,57,47,57,70,70,69,45,7,57,58,46,58,69,7,7,57,70,7,57,69,36,57,68,69,58,70,68,68,46,69,57,7,57,7,70,68,69,7,70,57,57,69,68,79,70,36,47,58,68,7,47,70,68,47,68,36,57,70,70,79,79,68,57,79,68,69,36,69,46,69,69,69,79,57,70,46,68,58,69,69,36,70,47,57,47,57,45,69,68,47,57,70,70,7,68,47,70,69,7,79,57,36,57,57,58,68,45,45,70,68,46,79,68,70,45,46,47,68,68,68,69,7,68,68,58,79,68,46,46,58,58,57,69,46,47,7,47,57,57,69,46,57,46,69,69,79,69,69,70,69,46,68,57,7,7,58,57,46,58,46,68,69,69,68,7,79,46,57,46,45,68,57,69,79,69,57,69,45,47,36,36,45,46,57,57,57,69,45,46,70,68,57,70,79,68,47,68,57,58,70,57,68,69,45,46,70,79,79,57,46,70,7,46,46,47,69,57,68,68,57,68,57,7,69,45,57,57,69,58,57,36,57,79,70,70,46,46,58,69,69,45,47,58,68,69,68,70,46,46,68,68,69,47,68,7,68,57,68,58,68,68,68,57,79,70,45,57,57,68,57,36,7,36,58,79,68,7,57,68,57,57,46,69,58,58,70,57,70,45,46,46,69,68,57,69,7,7,68,46,68,68,7,57,46,57,69,57,46,69,69,69,46,7,46,68,57,57,68,46,57,58,46,79,58,36,68,69,70,46,68,69,7,69,69,57,57,68,58,58,68,58,58,46,68,69,36,45,70,68,58,69,57,79,46,69,68,46,70,70,69,45,79,69,70,68,68,68,46,7,57,70,46,58,69,46,70,69,79,57,68,79,46,36,36,68,7,45,57,45,70,58,70,45,68,57,36,79,69,7,57,46,70,69,68,57,57,70,69,46,36,68,79,57,68,58,36,58,68,45,58,45,7,69,68,57,46,47,46,68,57,68,46,68,57,47,58,68,57,57,57,57,46,57,69,68,57,69,69,68,58,68,46,68,46,79,46,70,45,45,45,47,36,45,57,46,36,46,7,79,36,46,7,57,69,7,68,57,68,57,68,45,46,46,57,45,70,70,68,7,69,69,68,46,47,69,68,46,47,7,79,46,47,79,70,46,7,69,69,69,57,45,45,79,57,68,36,68,7,45,46,47,68,46,69,69,79,68,68,69,58,68,58,69,69,68,46,68,46,46,46,58,45,68,79,47,46,58,57,57,46,58,68,70,47,7,36,79,46,68,58,69,68,46,69,68,68,46,57,68,45,58,46,69,57,79,68,57,57,36,7,70,7,57,57,57,68,70,46,68,7,57,70,45,36,46,7,68,45,68,70,69,7,68,68,7,46,7,47,46,57,57,36,36,68,58,7,79,57,68,46,46,47,58,70,70,57,57,57,79,36,46,68,68,69,57,47,45,47,58,68,57,57,47,70,68,36,70,68,47,69,68,68,58,45,79,47,79,47,7,45,68,7,57,70,36,7,57,69,68,69,58,45,68,69,57,69,69,58,69,79,57,36,46,79,68,57,45,36,58,68,69,68,45,57,69,7,46,36,36,46,79,69,68,36,36,46,45,70,57,68,79,7,57,69,70,36,68,36,68,70,70,57,68,68,7,47,68,68,58,57,69,68,7,57,47,36,68,68,68,69,57,57,47,69,46,79,69,79,45,79,69,68,57,57,7,46,46,57,45,58,79,70,69,68,68,45,70,69,68,70,68,68,46,70,36,46,68,46,68,68,79,68,68,47,69,69,57,45,68,68,58,45,70,69,70,69,36,57,46,45,46,36,57,47,68,57,58,36,70,36,57,36,58,46,68,69,58,47,57,69,69,46,36,69,47,47,46,57,57,68,58,68,68,70,68,36,47,46,79,36,7,69,68,36,70,70,45,58,70,69,69,57,45,68,45,79,68,70,46,46,46,68,46,47,69,57,46,68,58,79,69,57,46,57,69,69,46,47,57,58,68,46,68,68,69,46,36,46,57,47,7,68,70,45,70,46,57,68,69,68,36,46,57,58,46,57,57,47,69,58,57,69,46,47,57,57,46,79,46,70,57,68,70,57,46,68,36,57,69,45,57,70,46,7,69,68,68,36,47,68,70,46,57,69,69,79,79,70,57,46,68,7,58,68,57,69,70,46,69,57,70,57,68,58,47,46,79,68,57,68,69,58,57,70,79,45,70,68,68,79,70,68,69,36,47,70,79,58,57,57,70,68,57,36,57,47,58,47,69,57,57,79,68,45,57,57,46,45,79,47,46,70,69,69,7,68,68,79,7,68,57,57,58,46,70,36,36,47,46,68,46,57,69,69,57,45,57,7,68,69,46,47,69,68,46,45,69,36,46,47,47,68,68,7,57,46,68,79,68,68,57,68,57,36,45,68,36,57,47,58,57,68,79,57,70,57,68,69,46,79,47,57,68,57,68,47,57,47,47,57,46,68,36,57,7,70,36,58,57,7,46,46,58,68,69,68,58,46,69,68,68,57,68,47,57,57,69,57,68,68,57,57,45,46,58,68,68,46,57,57,68,58,68,57,46,79,68,57,68,68,57,69,36,58,69,46,79,47,57,68,58,57,68,36,57,57,7,46,79,57,68,57,69,69,79,46,57,69,47,46,47,69,45,45,46,68,45,57,69,46,46,46,46,70,68,70,46,45,68,68,57,57,36,7,57,57,46,68,47,57,69,68,57,68,68,46,7,69,57,57,79,70,45,45,46,57,69,57,46,47,57,47,69,69,68,46,45,70,46,70,46,68,58,79,68,45,58,68,70,46,70,69,36,57,57,57,57,70,70,70,57,79,36,45,47,47,57,57,58,57,58,36,69,68,46,79,69,68,69,68,69,69,57,47,68,36,45,7,70,57,69,69,45,69,69,57,68,47,47,57,47,46,57,79,57,45,46,79,69,46,57,70,79,69,69,68,46,68,68,58,57,36,69,45,7,57,45,47,57,36,68,68,68,57,57,79,45,70,57,69,47,57,57,57,57,57,58,57,45,58,68,69,57,70,57,69,36,70,57,46,68,45,57,57,57,68,68,46,58,68,57,47,45,68,36,57,45,79,36,57,68,46,46,36,79,57,7,57,57,7,70,36,68,68,36,7,57,68,69,45,70,7,36,69,69,45,69,57,7,7,57,70,69,46,70,57,68,57,57,68,68,46,69,69,58,70,68,68,7,79,46,45,79,46,70,79,70,47,68,46,58,58,68,47,36,68,57,68,57,57,7,58,57,58,47,57,70,79,68,70,70,58,45,79,46,7,57,69,57,69,58,69,68,70,45,57,7,57,69,58,57,46,69,7,47,68,47,7,47,57,58,79,58,69,58,69,69,45,79,70,46,46,79,70,79,46,46,58,58,57,68,58,7,46,47,58,68,57,47,46,68,46,47,69,79,36,68,68,36,69,58,70,7,69,69,57,7,46,69,68,79,46,69,36,47,47,45,79,46,79,57,79,47,58,58,7,57,36,68,7,68,58,36,57,57,68,46,7,57,7,7,46,69,68,46,68,57,47,45,57,57,7,36,68,36,46,70,58,57,79,69,68,68,69,58,79,70,68,7,70,58,46,57,57,69,47,58,57,57,70,68,69,69,36,68,36,57,79,57,57,68,68,57,79,68,68,57,45,68,58,57,68,47,58,69,46,46,70,57,36,58,7,69,45,58,70,70,46,68,68,45,57,79,68,69,68,47,57,68,68,57,79,68,57,58,57,68,68,57,68,57,79,46,58,69,68,46,69,68,68,57,68,70,47,57,70,57,68,57,7,68,68,69,46,58,68,36,7,70,45,69,45,79,70,58,57,58,7,46,79,7,68,57,69,68,57,45,58,58,7,58,79,47,79,68,46,58,47,46,47,79,79,69,69,69,57,36,57,58,79,57,57,69,70,69,68,57,46,68,7,57,57,57,57,36,70,57,57,57,68,68,57,68,45,46,45,57,68,68,46,46,45,7,57,68,57,68,47,79,47,58,70,45,36,79,70,45,70,68,46,70,46,69,69,69,45,7,46,69,70,70,46,36,46,68,69,58,68,36,69,79,70,68,57,70,68,47,36,70,68,79,46,79,57,57,36,69,57,45,57,57,68,58,57,69,57,68,47,57,45,69,79,57,58,57,7,7,57,57,57,69,36,57,69,69,68,57,68,69,69,57,70,79,69,69,79,79,46,79,68,36,68,70,68,79,46,45,58,46,46,79,57,7,46,57,68,57,46,69,57,79,68,79,36,69,68,57,68,68,79,69,7,79,57,47,46,70,46,7,47,58,47,68,68,57,68,47,79,68,46,47,57,36,68,57,57,70,58,69,69,70,57,69,69,57,79,57,46,36,69,79,7,68,57,68,58,36,69,69,57,57,68,69,69,57,45,70,57,45,45,68,57,70,68,7,69,57,46,58,46,69,46,69,68,68,68,46,68,79,79,69,7,46,47,46,45,69,58,69,46,69,69,69,46,46,45,7,68,36,57,47,58,57,70,68,57,46,36,57,70,46,68,79,36,45,69,46,79,79,69,57,57,46,58,57,57,68,47,68,46,47,69,58,69,68,46,36,46,46,36,46,79,68,68,69,69,58,68,36,57,69,69,7,57,79,46,68,57,58,68,46,7,69,57,79,57,57,57,68,46,69,57,57,46,46,79,70,46,46,57,46,57,57,68,68,36,70,79,46,69,57,58,58,68,57,69,57,7,45,68,69,58,70,45,36,68,68,68,46,70,47,45,68,70,45,57,79,57,46,70,7,7,7,46,68,57,69,46,57,68,47,46,68,57,69,68,70,57,47,46,45,46,36,79,46,47,57,70,45,45,70,57,69,57,57,68,46,58,68,7,70,45,70,36,70,68,47,57,68,70,69,58,47,57,68,47,58,69,57,69,68,36,47,7,68,57,68,79,68,58,69,46,68,36,46,36,36,68,68,57,69,69,69,79,68,70,57,7,70,36,57,68,69,69,69,68,58,7,69,45,69,79,79,79,70,69,36,70,36,68,68,46,68,46,79,58,58,7,46,57,47,36,68,68,69,68,46,68,68,68,46,79,68,46,57,68,57,57,45,36,70,57,68,47,68,47,47,46,57,69,68,69,68,36,36,47,46,57,58,68,79,57,36,68,57,70,45,68,58,46,68,7,47,46,69,36,58,46,57,58,69,70,69,47,68,68,46,57,46,45,46,7,70,57,79,79,7,57,7,68,69,57,69,68,68,70,68,45,7,58,68,58,68,70,70,70,79,68,70,46,46,68,57,68,68,69,58,46,79,68,57,36,47,45,57,36,57,47,70,68,57,68,57,68,58,7,57,57,68,36,47,70,58,7,45,68,58,46,57,46,68,57,36,79,69,57,68,68,57,46,36,70,57,36,7,46,79,68,45,57,7,58,7,57,47,57,79,69,68,68,57,69,70,58,46,68,7,68,57,46,79,47,69,46,57,69,58,46,68,68,68,68,46,69,45,36,46,68,57,68,68,68,68,70,7,46,46,57,46,69,47,58,68,70,46,45,79,7,46,57,57,57,46,57,7,57,68,68,45,57,68,68,7,45,46,46,57,7,46,69,58,69,70,46,47,46,7,36,58,47,69,70,57,57,36,45,57,79,69,7,58,69,68,57,69,36,57,46,7,57,68,68,46,58,47,57,47,47,7,79,7,57,47,57,46,68,58,69,70,58,46,46,69,69,57,57,69,69,68,58,46,58,57,46,68,58,57,69,79,58,36,68,68,47,36,68,68,45,79,68,68,69,45,7,79,57,36,57,68,57,68,46,58,45,70,68,57,68,68,57,45,57,69,46,58,70,46,58,7,68,69,69,58,47,45,45,68,7,68,68,7,57,57,57,36,57,68,69,46,68,58,68,7,58,69,57,70,57,57,58,57,46,7,36,45,69,57,69,57,58,36,79,47,45,57,46,68,68,57,68,46,69,36,79,36,57,47,69,36,79,69,45,79,69,47,57,68,69,58,57,57,57,46,45,68,79,68,68,57,69,69,7,79,70,45,57,57,46,47,69,69,46,47,57,68,57,47,69,69,68,79,46,68,47,70,58,69,47,57,57,46,57,57,70,36,57,68,68,58,70,45,69,70,68,7,69,57,47,68,79,7,79,36,57,70,68,36,69,57,79,68,68,68,69,70,68,7,58,68,57,46,47,36,57,46,68,68,46,57,45,36,58,69,68,70,68,57,57,47,7,57,79,46,70,68,69,79,36,58,45,68,58,57,46,57,79,45,47,58,69,57,68,47,46,46,36,57,57,68,57,36,79,57,68,45,36,68,57,57,7,68,58,46,57,36,45,79,57,69,57,68,68,46,46,36,69,57,46,69,57,47,70,69,70,57,68,36,46,57,46,46,46,69,70,68,70,47,58,68,70,69,79,7,69,36,45,69,57,46,57,47,57,69,47,68,69,69,57,69,68,57,46,68,7,69,58,70,69,79,57,57,7,7,46,69,46,46,68,7,47,69,36,57,57,46,68,57,57,7,57,7,47,57,58,36,79,58,57,68,36,79,70,47,68,68,58,47,69,68,46,36,46,68,36,58,79,68,68,68,45,58,68,70,79,70,69,68,46,45,79,68,68,46,46,79,68,68,79,57,7,69,57,47,57,70,70,46,58,70,57,68,57,46,58,68,58,68,70,7,69,36,57,58,46,70,45,58,57,70,36,58,46,68,58,69,68,7,68,68,79,69,79,46,57,68,57,69,57,68,70,57,45,68,57,69,58,36,57,70,68,57,69,68,46,69,57,79,69,57,69,45,68,57,46,58,57,69,58,7,68,46,36,57,57,58,70,46,68,46,68,46,58,45,79,46,7,36,69,58,68,58,68,46,45,68,68,46,68,57,36,46,69,68,68,45,47,47,47,57,79,68,57,69,47,36,47,57,7,46,68,69,68,68,7,57,46,68,68,45,36,46,69,47,68,46,46,68,57,70,46,79,46,69,7,58,36,70,46,57,69,46,46,46,70,7,57,70,46,70,70,57,46,68,46,57,69,68,45,57,70,69,69,36,57,45,47,69,69,47,46,57,69,68,68,70,79,58,57,79,69,45,68,58,57,57,79,45,68,58,36,57,36,69,68,57,47,46,69,69,57,58,57,69,7,57,57,57,68,69,79,69,45,36,45,57,46,69,57,68,46,68,46,69,70,68,46,57,70,57,79,46,45,68,68,57,57,68,69,57,57,46,57,57,45,7,45,58,46,57,45,57,46,47,46,7,69,68,57,69,68,69,68,57,45,79,68,7,68,57,68,57,47,46,36,57,69,47,70,68,70,7,69,7,57,68,57,47,58,36,57,69,58,68,46,46,46,68,36,69,68,69,68,46,58,7,69,79,68,58,46,70,57,36,46,47,68,57,7,69,58,58,46,57,69,69,69,68,69,69,68,68,57,57,57,57,36,57,46,68,69,46,57,70,68,57,57,68,58,57,7,69,68,46,57,79,68,57,69,47,7,68,69,69,47,57,46,47,7,7,70,58,58,7,70,68,57,68,68,47,79,47,57,57,58,58,79,79,68,57,79,45,70,46,68,45,68,68,68,69,36,79,69,46,36,69,69,68,7,46,58,7,47,57,36,45,68,7,47,68,68,47,7,47,68,46,69,36,47,47,57,79,47,46,69,68,79,46,68,69,57,57,58,69,57,57,57,58,79,69,68,46,68,68,57,69,69,46,70,57,68,68,68,45,70,46,57,58,36,47,45,69,58,68,70,46,68,57,69,45,58,69,68,36,68,36,69,68,79,69,46,46,57,57,68,58,36,68,57,47,46,69,57,68,69,57,57,79,45,68,79,69,58,68,57,69,58,69,69,57,69,57,46,46,46,68,45,68,68,57,46,36,7,68,57,7,36,58,57,36,57,57,68,46,57,47,7,46,70,45,68,47,36,7,57,57,68,46,46,69,46,57,57,79,68,69,69,57,57,36,69,57,7,68,58,7,47,79,46,58,69,7,58,46,69,57,46,45,57,68,68,46,36,57,46,46,36,68,7,57,57,57,69,70,7,58,45,47,69,79,70,45,68,45,47,68,68,47,79,68,70,57,57,46,58,68,57,69,45,69,68,68,70,57,57,46,58,68,46,68,68,46,69,57,7,79,69,57,68,46,70,57,57,69,70,69,45,47,70,46,47,7,45,57,57,69,57,58,69,68,57,46,46,57,46,46,46,46,7,36,7,69,68,58,69,69,57,46,57,57,47,69,45,45,57,45,68,7,47,58,69,57,57,58,70,79,45,58,69,46,69,57,57,70,68,68,68,79,57,68,70,69,46,69,69,70,45,57,70,36,68,70,36,46,36,57,57,57,36,58,57,46,57,46,70,69,46,57,45,7,69,69,69,46,46,68,45,7,69,7,45,69,57,46,68,46,46,69,7,57,57,69,69,68,36,7,68,58,47,79,57,68,45,57,57,68,57,69,46,57,68,57,46,57,46,47,68,58,46,57,47,57,46,58,69,58,57,57,79,69,57,58,68,57,47,58,69,68,7,68,47,68,79,57,58,36,68,68,79,7,70,46,36,47,68,46,58,57,69,57,57,58,68,68,46,47,68,68,68,57,69,68,47,58,68,7,68,68,57,36,7,57,79,68,68,58,46,7,57,46,45,69,79,57,57,58,70,47,68,57,68,57,36,45,70,57,45,57,57,58,58,79,69,57,79,68,45,69,36,57,70,57,58,68,57,57,69,58,70,69,79,69,69,57,47,47,57,69,57,69,58,57,46,7,69,79,69,68,46,58,7,57,69,45,79,57,69,69,46,69,68,79,58,7,36,79,57,58,47,70,36,57,70,57,69,68,70,69,57,36,57,69,47,47,36,68,70,68,7,45,57,68,45,68,69,68,57,36,57,45,69,47,46,69,36,57,69,47,68,69,68,58,57,68,45,47,68,68,57,68,46,46,7,45,58,57,36,70,45,68,68,46,58,57,68,7,69,57,46,70,57,69,57,70,47,70,70,57,58,46,68,47,68,45,57,46,68,46,47,36,45,68,57,68,46,70,70,70,79,70,57,46,47,68,45,57,57,57,36,57,69,68,57,57,69,47,69,36,68,57,46,68,68,36,47,70,36,68,79,70,68,58,47,57,57,46,47,45,58,68,79,57,70,68,57,46,7,46,68,70,69,79,79,46,57,46,46,68,36,68,45,46,68,79,69,57,46,70,79,69,57,69,46,45,46,57,45,58,79,68,46,79,68,57,69,68,68,47,68,57,46,7,68,68,68,57,69,69,79,68,58,47,57,7,68,79,79,70,47,58,7,57,45,46,70,36,45,46,69,69,45,46,70,57,57,58,57,45,69,45,46,58,46,36,46,70,46,68,69,36,57,57,57,68,68,68,46,57,69,47,69,79,46,57,68,7,69,79,57,57,46,57,69,45,58,36,7,57,46,70,7,7,68,57,57,58,68,36,46,69,69,69,47,79,7,70,68,69,58,57,45,45,47,57,68,47,79,69,57,46,57,68,69,69,69,7,68,69,45,58,68,57,57,36,70,57,69,57,47,7,46,69,47,47,69,68,36,57,68,79,69,70,7,46,58,46,57,69,79,69,36,69,36,47,68,69,46,45,69,68,45,47,68,79,47,46,47,45,57,57,46,68,57,45,46,45,58,68,46,57,68,58,79,58,46,68,57,68,47,68,58,68,7,69,68,47,57,46,69,58,79,79,46,7,46,46,68,46,47,45,79,69,57,68,70,57,7,68,47,58,68,45,79,69,70,46,57,57,46,68,69,7,68,46,57,45,36,70,68,57,79,46,79,47,57,46,57,70,45,46,69,46,46,7,46,46,45,68,68,36,46,47,36,57,47,70,45,68,57,58,7,46,46,70,68,46,69,68,68,57,57,7,58,79,57,69,36,46,70,68,58,68,68,47,70,57,79,57,68,46,57,57,68,57,45,57,36,47,7,36,57,57,47,57,68,58,69,47,47,46,68,70,68,57,36,47,58,68,68,68,70,57,57,68,45,7,45,68,36,45,69,79,79,45,68,46,47,57,57,68,46,68,57,36,69,57,68,68,68,69,68,79,68,57,68,58,47,79,57,69,36,47,58,7,58,69,68,58,79,79,70,68,57,69,57,69,69,7,47,7,68,47,68,57,68,45,68,36,68,7,57,45,68,58,68,57,69,46,45,36,57,36,46,57,46,46,68,45,68,69,69,70,45,69,7,79,69,68,46,45,57,57,57,7,46,68,68,47,57,79,68,57,46,57,79,69,68,69,45,69,57,69,68,57,68,68,47,70,45,47,70,68,7,47,57,69,46,58,46,79,69,57,36,70,69,36,57,46,57,57,70,69,57,7,79,79,57,58,46,46,58]
[null,null,null,null,null,null,68,68,57,69,57,7,79,58,69,57,46,45,58,46,7,70,70,45,36,70,79,57,46,7,46,46,68,58,7,57,57,45,79,57,68,47,69,79,79,68,57,36,58,69,57,69,57,47,57,58,69,69,36,45,57,45,57,57,68,45,68,46,69,69,46,57,57,68,46,57,57,68,69,58,57,46,45,79,57,70,57,46,69,46,47,57,57,68,47,79,47,69,69,57,45,45,68,46,57,47,45,7,68,69,70,46,68,79,69,47,46,57,57,46,68,46,68,79,36,69,58,57,68,68,79,69,36,79,46,36,69,47,46,45,36,79,69,45,68,46,57,69,36,79,7,45,36,36,79,47,68,68,57,57,69,70,57,57,47,58,57,7,36,69,57,57,45,68,79,68,68,69,47,47,68,45,70,68,70,46,46,36,69,57,79,46,68,58,58,45,69,68,47,46,57,68,68,70,69,57,57,70,69,68,69,58,57,45,46,45,58,68,70,7,57,69,36,57,46,57,57,70,68,68,36,46,46,79,7,69,46,58,45,36,57,70,68,7,68,46,68,69,46,47,58,69,47,46,69,68,36,7,46,36,68,68,57,57,46,79,57,47,57,57,46,7,58,45,69,57,57,46,68,7,47,58,57,46,70,79,47,69,46,58,58,70,47,68,79,47,68,47,45,69,46,68,7,68,7,45,57,57,46,57,69,46,57,58,46,7,47,47,68,68,68,70,58,69,46,68,68,58,69,58,7,46,58,69,7,57,46,46,57,57,46,36,69,70,45,36,46,45,36,68,69,47,57,69,36,69,57,47,57,70,68,7,36,36,69,46,69,68,57,69,46,46,7,45,47,57,46,57,46,46,68,68,69,68,36,58,79,57,7,70,36,70,36,36,68,69,57,46,68,58,46,68,57,45,68,68,57,69,46,46,69,57,58,7,70,45,57,58,57,69,57,68,70,36,57,69,68,57,57,36,68,47,46,36,58,45,45,69,47,45,70,7,79,69,46,68,68,46,68,57,47,79,46,57,58,79,45,68,68,58,57,57,58,79,68,68,45,68,46,36,68,58,68,70,57,68,47,57,57,68,57,68,47,7,46,68,57,57,57,36,68,57,7,69,68,57,46,57,70,68,57,70,45,47,70,47,68,68,68,46,68,46,57,7,45,68,69,79,68,57,70,69,79,57,36,7,68,68,68,68,69,57,70,68,69,36,68,45,57,58,46,45,36,68,7,46,7,68,46,47,57,46,46,57,47,47,58,69,46,57,70,70,69,68,68,36,58,36,69,70,57,57,57,45,45,69,68,47,69,68,68,46,36,57,69,68,47,57,57,36,36,70,68,79,46,58,46,70,68,46,68,46,7,68,46,7,46,45,36,45,57,46,57,45,57,36,68,69,69,58,70,68,57,47,68,47,46,79,57,58,46,69,70,45,46,58,57,7,57,57,46,69,68,36,68,45,57,69,46,57,45,36,57,46,68,68,46,46,68,57,69,57,57,68,70,69,7,79,45,79,70,7,36,69,68,79,46,69,79,58,57,68,68,69,57,70,70,58,69,68,68,46,68,79,7,36,36,47,57,36,69,68,36,69,69,57,57,79,68,46,58,7,57,57,57,69,46,7,79,45,36,68,57,68,45,68,70,79,69,46,70,46,70,58,58,46,70,69,36,70,57,70,36,57,46,57,7,70,70,46,68,57,57,45,79,68,36,68,57,36,68,45,57,45,58,68,57,70,57,69,68,68,69,69,47,7,57,70,57,68,69,57,57,57,68,68,69,45,46,70,7,68,68,46,46,68,47,68,57,79,46,57,45,57,57,57,68,46,58,68,57,58,57,68,68,68,46,70,45,68,47,69,68,70,68,57,70,69,58,45,68,46,57,7,46,57,36,70,68,68,69,70,70,7,70,58,79,70,36,47,79,46,69,70,7,58,36,45,36,68,57,57,57,68,7,57,57,68,69,46,68,57,79,79,68,46,7,57,7,57,46,47,45,58,68,68,57,57,57,68,58,70,57,57,70,68,68,68,58,69,58,47,45,58,45,68,46,57,46,7,36,47,70,69,46,68,69,47,47,7,68,69,47,46,46,46,47,68,57,68,68,57,68,68,58,7,46,57,57,58,57,58,47,68,57,57,69,46,68,46,57,68,69,7,68,68,68,36,46,68,57,69,47,46,69,46,69,57,69,57,69,57,58,46,7,57,79,68,69,45,57,46,57,69,69,57,69,57,45,46,70,47,68,7,69,68,36,79,36,69,45,46,57,57,46,68,57,69,70,68,46,79,45,45,57,7,45,70,7,57,7,58,79,70,45,57,46,70,69,68,58,79,68,57,45,70,79,7,57,69,46,57,57,70,46,46,68,45,57,46,47,47,57,79,46,46,58,46,79,46,36,45,68,68,47,57,57,79,36,45,7,70,57,46,68,70,57,57,68,68,68,69,58,45,70,7,68,57,58,69,68,69,79,68,69,79,57,79,57,68,69,7,45,57,58,47,68,70,46,47,79,57,46,68,68,47,57,70,68,68,58,57,7,46,68,7,45,46,58,57,68,57,47,57,70,58,45,68,69,47,57,68,70,79,57,68,70,70,7,7,7,70,58,36,46,45,46,57,58,46,68,68,68,70,57,57,69,68,68,70,68,68,57,57,70,69,36,69,69,57,69,58,57,69,36,79,70,68,68,68,69,70,46,70,36,46,46,68,69,69,57,70,57,70,58,36,36,68,46,79,57,70,47,57,57,69,69,70,7,57,57,57,57,70,7,57,70,45,47,45,36,57,45,57,68,46,45,45,58,58,70,69,79,46,69,57,45,46,68,46,57,70,57,7,57,69,57,57,58,46,68,69,57,36,68,57,68,57,58,7,46,46,46,46,69,69,70,58,68,46,7,46,68,58,68,57,57,57,36,69,68,79,36,46,69,45,69,7,57,68,70,57,69,79,58,57,45,47,47,7,68,7,70,68,58,7,7,45,46,68,79,45,70,70,46,70,69,58,70,45,57,36,7,57,36,68,46,79,68,58,7,68,79,47,46,79,47,69,47,68,46,68,57,69,57,79,70,70,36,79,68,68,79,46,57,45,46,69,47,70,7,79,68,36,57,57,36,79,57,79,36,57,46,36,68,79,46,57,79,68,45,46,70,47,47,79,69,47,45,45,46,46,7,69,68,45,46,7,68,57,68,36,69,46,45,58,79,45,68,79,7,57,68,68,68,45,45,68,69,45,47,46,46,57,68,57,69,46,57,57,69,68,57,46,57,69,70,7,69,68,68,70,68,68,57,79,70,45,69,46,46,79,47,46,47,57,57,7,46,70,68,69,58,46,58,69,58,79,36,68,69,57,57,69,57,70,68,57,69,46,58,69,57,70,45,46,70,68,46,57,58,68,68,69,36,47,68,7,36,79,57,57,70,46,45,36,46,57,69,68,58,57,46,79,45,58,46,57,57,68,57,68,79,70,57,47,68,46,69,68,79,68,70,68,70,45,79,57,36,57,45,57,47,45,58,47,68,7,47,68,47,58,68,46,68,57,69,47,57,47,45,68,57,57,36,7,69,57,68,36,46,70,69,46,7,57,69,46,57,7,7,7,69,68,57,7,7,58,47,45,69,69,57,57,57,57,69,46,69,69,7,46,79,7,36,79,57,58,68,69,57,68,68,46,57,70,36,68,68,69,46,47,79,70,68,79,46,36,46,68,7,7,45,58,36,79,79,46,45,57,36,46,58,46,7,57,69,69,36,47,46,68,7,70,70,79,70,70,57,68,79,47,69,68,68,46,68,68,45,57,79,58,69,57,57,36,58,57,7,70,70,79,47,46,36,57,70,69,68,57,57,7,58,46,58,46,45,7,69,7,58,79,68,79,47,69,70,57,68,46,79,58,57,7,36,46,69,36,47,68,47,69,79,70,68,46,47,57,68,57,45,36,7,36,46,69,47,7,69,36,47,68,69,57,70,57,68,68,68,68,36,7,45,68,36,46,57,47,79,36,69,7,69,46,47,36,45,36,58,68,68,7,7,47,69,68,68,57,57,45,68,68,46,69,57,68,36,57,46,47,57,68,69,46,7,68,68,68,68,69,70,58,47,79,46,79,7,70,46,58,57,58,58,36,57,70,68,70,47,57,45,57,70,45,57,57,70,69,79,58,36,46,68,45,46,45,68,7,58,46,68,47,69,69,45,68,36,46,68,46,7,47,7,58,57,57,57,79,68,47,70,46,79,68,68,79,45,58,69,7,57,45,68,7,68,47,36,57,46,70,70,68,7,46,70,68,69,57,79,57,47,68,68,69,69,79,68,47,45,7,7,79,70,68,45,7,69,57,7,46,47,79,36,69,69,45,69,68,68,79,47,79,36,46,68,7,70,68,57,45,57,46,57,69,69,58,58,68,57,79,70,36,45,68,46,57,68,57,46,68,45,69,46,70,47,68,46,58,57,79,68,68,70,68,68,69,68,68,45,7,68,69,69,47,47,57,46,57,45,79,7,79,45,57,36,57,45,58,68,57,57,36,68,70,70,36,68,68,46,68,69,70,7,46,58,69,47,36,57,57,68,57,46,45,36,46,46,45,69,70,57,57,68,70,79,36,36,58,46,57,58,68,57,69,68,68,68,36,46,36,47,57,58,68,45,69,70,68,57,69,57,68,45,47,69,57,68,68,57,46,57,47,69,68,68,7,68,46,46,57,58,68,69,46,69,46,57,68,36,69,69,68,58,69,69,79,46,46,36,57,45,69,58,46,57,57,69,45,57,69,36,57,79,45,57,47,45,57,58,36,69,7,69,36,45,57,7,68,58,68,68,70,46,57,69,47,69,46,70,46,70,7,47,68,70,68,70,57,68,7,69,58,57,36,46,69,7,36,36,45,68,57,70,68,7,58,70,57,69,47,58,57,68,58,69,57,47,57,70,69,69,68,46,7,69,68,46,79,57,46,79,69,79,58,57,46,7,57,45,70,69,68,68,45,58,70,7,7,69,47,68,46,69,69,69,69,45,69,69,69,36,58,46,58,57,46,47,68,57,68,79,57,46,68,45,58,79,58,69,46,68,47,57,70,58,68,69,46,70,70,68,36,70,57,57,46,68,69,70,57,69,58,68,46,58,47,70,79,36,36,46,57,45,36,70,69,69,57,70,69,36,45,47,70,45,70,45,46,68,69,69,46,57,69,57,68,46,70,47,57,79,79,57,7,7,69,58,45,57,68,57,36,58,70,69,57,57,46,68,58,69,7,46,45,69,7,58,69,68,58,70,57,57,45,57,57,46,69,79,7,57,46,69,57,46,70,57,36,45,36,69,68,68,68,57,45,57,47,46,70,68,57,70,46,69,47,70,70,69,47,68,46,68,69,47,79,46,58,7,57,70,69,46,57,68,69,36,70,69,57,69,47,57,57,46,68,57,69,36,46,36,46,46,7,57,68,68,57,36,46,79,70,70,46,46,58,79,79,69,58,36,69,57,57,69,36,68,58,46,70,68,7,46,46,57,70,36,68,7,46,57,69,47,57,47,36,45,57,47,79,36,36,57,57,70,47,57,68,46,45,69,68,70,68,57,68,57,45,45,57,47,57,36,79,46,58,45,57,57,47,79,57,68,46,57,68,46,68,57,69,57,45,57,57,79,70,57,36,7,46,69,69,68,7,7,69,47,36,36,58,45,79,68,46,47,70,7,69,46,58,57,36,57,45,57,7,46,58,68,36,46,46,47,79,69,47,46,47,68,68,79,45,58,57,47,47,68,57,36,45,36,45,68,47,79,79,46,68,46,57,68,68,58,68,36,70,47,57,68,7,46,57,57,69,70,46,69,46,47,7,57,58,69,79,69,45,68,68,69,7,57,68,47,36,45,46,70,47,57,36,46,79,69,7,68,58,70,57,45,57,57,47,57,57,70,47,46,69,57,70,36,58,46,57,45,69,47,69,7,68,70,45,70,36,57,68,68,58,36,57,57,68,79,58,58,46,69,47,69,68,69,46,70,36,7,36,68,45,79,58,57,58,57,79,68,79,68,57,58,7,57,57,47,45,68,46,70,46,68,70,57,69,69,68,57,68,69,79,68,7,47,57,68,58,57,47,46,70,47,46,46,68,58,69,79,70,68,36,69,47,70,69,45,46,57,46,7,68,46,46,68,69,69,58,68,57,57,46,68,68,68,57,58,57,57,70,36,68,69,7,36,57,57,47,57,47,57,47,58,68,47,70,70,46,68,45,57,79,68,68,46,68,45,36,58,46,7,46,46,68,70,69,68,57,68,36,57,47,70,47,57,68,68,68,45,36,70,46,45,45,57,68,69,57,57,69,68,36,47,47,57,68,68,45,70,36,7,68,68,79,68,57,7,69,46,68,47,7,46,70,46,46,68,58,69,46,57,57,46,69,68,68,79,79,36,36,45,70,69,69,47,45,70,46,68,46,47,46,58,69,69,57,45,79,46,46,68,36,69,46,69,45,46,46,57,58,58,70,69,57,68,68,57,57,36,68,57,58,57,58,69,69,57,36,69,79,46,57,69,45,7,68,69,46,69,69,70,69,68,68,68,70,46,47,69,68,69,45,68,70,69,69,68,36,57,69,69,46,57,68,47,57,46,68,45,68,70,68,69,57,46,69,70,69,47,58,57,36,57,57,79,57,79,7,45,45,46,57,70,57,70,57,70,57,58,69,57,69,57,46,79,46,57,68,46,70,46,57,58,58,70,69,70,69,79,79,68,69,69,68,68,68,69,45,68,36,57,45,68,58,69,79,46,68,57,46,7,69,36,57,58,69,46,46,68,69,46,57,69,69,79,79,58,68,45,68,57,70,68,69,57,46,69,45,47,58,68,7,69,58,57,68,68,79,68,57,69,69,69,7,70,79,70,69,70,68,69,69,46,68,57,7,57,57,68,47,58,57,68,46,36,7,68,7,57,68,57,58,58,69,47,36,57,57,68,69,70,57,57,46,69,7,47,47,57,36,58,47,7,57,69,57,46,70,70,69,58,57,45,58,7,58,45,69,57,69,45,36,57,69,47,70,69,46,69,46,46,57,46,79,58,36,79,7,58,46,58,46,69,57,68,69,46,57,45,7,7,68,47,46,69,46,68,57,58,57,36,57,7,68,58,70,57,69,47,36,46,68,69,57,45,57,36,69,57,79,57,45,47,47,45,45,68,45,57,70,45,46,57,47,79,57,46,7,58,68,57,69,7,7,57,57,69,68,69,57,79,57,68,57,57,7,68,79,58,68,7,57,57,7,69,57,58,57,68,68,36,7,46,68,69,79,69,68,70,7,68,45,68,69,68,46,57,69,46,58,70,70,79,36,69,58,70,47,68,57,7,79,70,68,68,70,46,58,69,69,45,57,58,58,68,46,46,57,58,69,7,46,57,36,57,47,57,47,68,7,70,47,68,57,70,47,79,68,69,68,68,69,46,47,57,46,68,7,69,46,68,70,68,57,57,70,36,46,46,70,46,36,70,79,36,36,45,7,45,57,46,58,68,57,57,57,45,57,46,58,45,7,47,69,57,68,57,7,57,58,69,69,45,68,36,70,57,57,68,58,47,7,68,58,36,70,69,68,57,69,68,47,68,68,79,36,68,68,69,69,79,69,47,68,47,46,7,68,46,7,68,79,68,68,68,68,45,36,57,69,45,47,57,68,7,46,45,46,68,46,68,58,68,69,57,57,57,57,46,7,70,46,70,57,68,68,46,69,70,70,57,58,58,57,57,70,68,79,46,46,47,57,7,58,7,57,57,69,68,68,70,68,70,36,36,68,47,70,46,68,58,46,57,68,45,47,68,57,68,69,46,57,69,57,46,57,70,68,70,47,68,7,36,70,68,7,68,46,46,7,68,57,68,79,69,46,36,79,69,46,7,68,69,57,68,69,69,79,68,68,68,70,46,57,68,68,36,79,69,57,36,57,57,7,36,46,45,36,79,36,68,68,57,69,79,68,58,46,7,79,58,68,79,57,45,79,58,57,46,69,57,46,79,45,57,68,68,57,70,68,68,46,57,70,45,47,70,57,69,45,79,79,46,70,36,7,68,58,68,69,79,57,58,57,68,68,7,57,79,57,68,57,57,58,57,68,47,57,58,70,7,46,7,68,57,46,7,68,46,46,68,68,36,58,57,57,47,47,68,68,68,57,68,58,69,36,68,57,68,58,68,47,58,36,45,36,57,45,46,36,45,69,36,68,69,57,79,69,69,57,69,46,58,46,69,68,68,70,70,47,46,46,58,69,57,68,79,45,79,68,57,57,57,57,45,46,58,46,46,46,68,69,68,36,46,69,68,47,58,70,46,69,68,7,46,68,68,45,68,58,69,36,58,36,7,57,57,47,46,36,57,57,79,79,45,69,58,58,68,70,79,57,70,69,46,68,45,57,79,69,79,57,68,36,58,45,57,58,69,57,7,46,36,79,69,68,46,70,57,47,57,68,45,46,70,79,68,68,68,68,70,58,57,57,46,47,68,68,47,79,68,58,69,68,47,69,57,68,36,57,57,68,57,47,57,58,46,69,57,45,47,57,47,68,57,69,70,69,46,68,57,68,57,58,47,70,79,57,68,57,79,69,57,57,57,79,7,69,57,7,79,47,68,69,69,57,68,36,45,58,58,57,45,57,47,57,58,58,57,45,57,69,45,45,68,57,45,46,57,46,69,7,68,70,69,68,57,36,57,57,45,68,57,7,45,69,58,47,68,58,7,45,57,69,57,46,57,68,57,57,46,58,58,68,7,69,68,68,47,47,69,69,36,57,69,46,58,46,46,58,57,7,70,46,45,69,45,46,70,57,7,68,70,69,57,7,46,47,68,79,68,58,68,7,68,79,7,69,46,46,68,69,36,36,57,46,47,68,45,57,46,69,69,57,57,68,36,46,68,57,68,69,68,69,68,45,46,46,68,47,79,68,70,57,58,47,46,46,68,69,70,46,46,36,68,68,46,57,57,57,7,69,58,57,46,46,68,68,69,46,46,69,79,46,36,7,57,46,69,46,47,70,45,45,68,36,46,69,68,57,68,68,58,57,7,57,7,58,45,7,46,57,46,57,69,47,57,68,46,57,70,70,57,46,57,58,70,46,45,79,47,58,70,46,46,46,69,46,58,47,69,36,68,7,69,58,79,69,57,45,57,68,58,7,47,7,45,68,45,69,47,69,68,79,70,69,57,58,69,36,7,70,57,58,69,45,70,46,79,68,46,68,57,46,57,57,36,57,46,68,79,68,36,57,69,69,68,79,68,58,46,45,47,57,79,7,58,68,7,57,79,57,47,57,58,47,57,69,36,68,46,70,69,70,69,47,36,79,68,79,36,46,47,68,69,57,46,46,69,57,69,7,68,69,45,69,57,57,57,79,36,70,46,68,70,79,57,79,47,46,45,7,45,68,68,68,68,68,57,57,69,68,79,45,68,58,57,79,46,69,68,68,68,69,46,45,57,57,70,79,58,7,47,58,68,58,46,68,57,47,70,57,70,7,68,69,36,69,46,68,70,68,69,45,57,68,57,79,69,58,57,36,68,79,57,46,57,57,7,58,57,68,68,46,69,57,36,57,57,57,68,57,57,57,68,70,7,58,68,46,58,46,57,57,47,68,47,36,58,68,57,68,68,68,79,45,7,68,57,45,45,68,69,69,46,7,57,69,70,47,57,47,45,58,68,57,68,69,69,46,47,58,69,36,46,58,68,47,70,68,46,46,58,46,58,58,45,70,46,58,47,46,46,70,69,79,57,57,70,70,68,57,46,45,68,36,79,69,47,69,69,69,46,7,69,7,70,47,69,68,45,79,36,57,69,36,69,68,47,47,46,69,57,36,46,47,79,57,7,46,57,68,69,70,68,45,69,68,79,45,7,69,69,47,46,57,58,36,46,68,46,57,68,69,46,57,79,36,70,45,57,69,68,68,69,68,46,46,46,57,36,46,57,47,68,45,7,79,58,69,36,57,79,57,68,68,57,68,45,58,57,57,47,57,69,68,70,68,45,57,70,47,45,46,68,68,7,46,70,69,46,57,68,79,57,68,68,58,46,7,36,68,68,57,57,57,36,47,69,57,57,70,58,7,46,69,46,57,57,68,69,36,7,68,45,46,58,68,68,46,57,46,70,36,47,47,36,57,46,57,68,68,7,45,68,45,69,70,7,58,69,57,36,79,70,70,69,70,69,69,57,57,47,36,69,45,46,36,70,36,69,68,57,68,79,69,68,45,57,79,7,7,69,47,36,57,70,68,70,46,57,47,36,79,57,70,46,46,69,69,46,57,70,57,70,68,57,58,69,69,69,70,45,68,68,57,69,57,57,45,68,57,68,68,36,7,57,47,57,68,68,36,46,57,70,58,70,79,45,69,68,57,57,46,69,57,68,69,7,69,46,45,47,69,58,79,46,70,68,68,79,46,58,36,57,68,58,68,69,57,57,57,57,45,57,36,46,46,46,47,68,46,47,46,46,57,46,79,57,69,57,47,46,57,47,57,69,46,79,69,57,46,47,68,57,57,69,68,46,68,68,68,70,70,57,57,69,45,36,68,58,58,7,58,68,46,70,47,68,68,7,57,7,68,68,58,70,68,7,57,70,68,57,57,47,47,47,70,68,46,79,57,46,79,57,68,57,57,57,69,36,79,57,79,68,45,57,57,7,47,68,57,36,45,57,68,47,57,36,70,58,7,45,36,36,68,69,68,57,57,69,69,70,68,46,7,7,57,69,45,69,7,46,68,57,68,70,57,79,46,70,46,45,69,7,68,70,68,69,70,45,7,70,69,70,68,58,36,57,57,46,57,7,36,68,69,46,57,70,58,68,36,46,68,57,46,68,70,57,36,58,68,36,46,68,57,68,68,58,69,7,47,46,70,36,57,70,57,46,57,46,79,68,68,46,68,79,69,47,36,68,57,70,47,47,70,57,69,69,69,70,70,70,79,68,46,70,68,68,57,36,47,58,46,70,79,47,36,57,79,79,46,69,46,68,57,58,36,36,36,57,68,79,79,47,57,70,70,69,68,46,79,68,69,7,45,68,57,70,79,7,70,46,7,46,57,36,70,46,58,47,57,45,68,7,79,45,68,68,79,79,68,68,79,69,58,57,45,57,68,57,69,7,57,46,46,57,57,36,68,70,69,57,68,45,57,45,69,69,70,58,46,68,57,68,57,36,7,68,79,57,46,46,46,70,69,47,36,47,70,68,79,58,36,68,46,46,45,70,68,58,70,7,57,57,79,7,57,36,36,69,57,68,79,45,68,7,70,58,57,57,69,46,79,57,36,68,47,68,70,36,46,68,57,57,57,68,46,7,7]
[null,null,null,null,null,null,7,57,46,36,69,47,57,68,58,46,57,45,45,57,70,68,46,69,57,68,79,57,36,7,58,36,79,58,69,47,68,70,45,46,36,47,68,79,68,47,47,58,68,69,68,58,57,45,70,68,70,57,46,69,58,70,57,68,79,68,57,46,69,46,68,79,68,57,79,58,69,57,46,58,57,45,69,58,47,7,58,46,45,68,69,45,46,7,57,57,69,45,46,68,57,79,36,69,45,47,68,57,70,68,57,58,70,46,46,68,57,69,36,79,7,46,46,58,79,68,69,45,79,68,79,45,69,68,45,46,46,36,70,70,69,69,57,68,47,70,79,68,46,57,79,70,68,58,68,79,79,69,69,57,68,46,57,57,68,69,46,69,45,69,57,58,57,68,68,45,7,47,57,57,69,68,46,57,79,46,57,45,7,68,68,36,70,79,68,70,46,46,7,45,45,57,69,69,57,57,58,69,70,58,68,57,79,69,68,7,47,46,36,57,57,69,57,69,69,7,68,46,69,45,68,57,46,70,46,57,69,47,46,68,57,57,46,46,68,58,68,36,7,7,47,69,46,57,57,46,46,69,57,79,36,70,68,68,57,46,57,46,68,68,57,58,68,68,58,68,47,69,47,7,68,46,57,68,57,57,36,58,68,57,46,69,45,68,58,57,57,57,69,68,7,68,46,69,79,45,57,57,57,46,57,57,79,69,68,46,69,58,45,45,57,47,69,57,57,57,69,47,45,47,47,68,57,57,46,70,68,45,46,36,46,47,68,69,46,70,79,46,69,70,46,36,47,68,69,47,68,45,58,57,69,46,45,68,79,57,58,46,69,57,68,69,79,70,7,70,58,47,7,68,58,68,46,79,47,46,47,79,7,68,57,46,68,57,68,70,47,69,79,68,47,47,69,68,79,58,68,47,68,58,57,45,57,7,68,45,79,57,57,68,68,57,46,45,79,46,68,46,45,36,70,46,69,57,68,57,70,57,7,7,46,69,57,70,79,58,57,68,46,68,68,69,57,57,70,68,69,57,69,68,69,57,57,79,68,7,47,7,57,57,68,46,68,69,69,45,79,7,70,36,68,70,57,68,7,68,58,68,69,46,7,58,36,79,46,46,57,46,70,68,45,69,46,70,68,46,68,69,68,46,68,57,57,7,69,68,57,46,57,58,58,69,68,68,57,47,45,46,57,46,68,47,68,79,7,58,46,45,79,69,69,57,46,46,69,79,47,68,68,70,47,68,58,7,69,69,46,46,68,7,46,68,46,57,45,36,46,57,46,57,69,70,69,47,79,46,68,57,45,68,57,47,79,57,69,46,7,57,47,7,46,46,57,57,57,36,36,57,69,47,47,58,58,68,70,47,57,68,57,57,58,46,69,45,69,57,46,69,68,36,79,68,45,46,79,57,57,46,58,7,68,46,45,70,46,68,68,68,46,70,58,46,57,68,69,69,70,79,57,68,58,70,45,47,36,57,47,45,57,68,47,7,58,69,69,58,57,57,36,68,69,7,70,7,68,47,57,36,58,57,36,69,7,68,69,69,7,57,69,7,45,70,47,36,70,57,79,58,70,47,45,68,7,46,57,68,57,68,68,58,46,68,68,69,70,57,69,47,46,58,68,69,68,36,57,58,69,45,57,47,69,45,45,57,7,69,46,68,79,58,79,36,36,46,7,68,69,57,68,7,45,69,68,57,70,46,69,45,7,36,57,68,47,69,69,70,69,68,57,57,57,57,69,57,68,68,69,45,7,58,69,58,68,57,57,68,45,68,47,57,70,36,68,47,45,79,46,57,69,57,69,45,58,69,68,69,36,68,47,68,57,68,57,36,68,47,45,68,58,68,46,68,79,47,79,46,57,57,36,36,57,69,46,36,57,68,70,57,68,69,57,46,46,58,70,36,57,58,79,57,7,46,79,36,57,47,58,36,57,68,68,79,58,58,58,79,57,69,68,47,57,7,69,36,70,57,69,7,69,47,7,47,46,7,70,7,68,70,46,57,68,70,47,46,69,70,47,7,7,57,79,68,45,69,68,47,57,46,68,68,69,7,46,7,57,58,46,7,46,47,70,68,7,69,70,70,57,57,46,69,58,57,57,68,46,69,36,46,46,79,7,68,69,47,68,58,70,57,47,57,68,45,58,69,68,57,58,57,69,68,79,79,68,57,69,58,57,69,58,7,69,57,57,36,47,36,46,69,69,47,68,7,45,47,7,68,45,70,58,47,36,58,47,69,46,79,69,68,57,70,68,45,68,69,69,46,46,57,46,57,68,45,46,70,58,46,45,57,58,68,57,58,45,68,58,68,70,79,57,79,79,46,7,68,57,46,46,79,69,47,68,69,79,70,7,57,68,45,68,46,36,46,68,46,45,57,69,57,36,68,57,68,68,79,79,57,46,47,57,57,58,57,45,7,46,68,69,69,69,57,45,36,7,68,68,68,57,36,69,70,46,68,69,69,68,46,46,58,36,7,70,46,57,36,7,57,46,46,70,57,46,68,58,68,70,57,68,46,57,70,57,57,45,68,7,58,46,36,58,7,45,7,45,68,69,45,57,57,46,57,79,68,68,70,57,57,69,46,57,57,68,69,58,69,57,36,57,69,68,58,68,69,57,68,69,69,79,79,46,47,58,45,57,46,58,58,68,57,69,68,57,47,68,68,69,69,69,68,47,69,68,57,57,69,70,45,47,69,79,68,69,57,70,45,68,68,58,36,57,69,69,7,69,68,68,58,47,57,57,36,68,69,7,79,68,57,79,46,70,68,69,46,46,57,69,68,68,47,58,7,69,47,36,36,69,70,58,36,70,69,79,7,68,36,46,70,69,57,7,68,70,58,68,69,36,69,57,46,7,69,58,46,46,36,69,58,46,36,58,57,45,46,57,47,69,58,79,36,69,68,46,46,57,46,79,46,46,69,58,79,46,45,79,70,70,68,69,70,69,46,68,57,7,70,47,70,57,68,47,58,57,57,7,7,45,69,58,47,69,69,36,47,47,68,47,46,57,70,57,7,70,57,68,68,68,7,36,68,46,68,58,68,47,57,68,46,57,46,70,7,47,45,79,68,68,69,69,57,36,57,57,68,58,45,57,45,57,57,79,46,68,68,69,79,47,79,47,79,68,69,57,69,46,47,46,68,57,69,68,69,79,57,69,45,46,58,68,69,70,45,47,57,47,68,69,68,69,7,69,46,69,57,45,7,68,79,69,70,36,68,7,69,58,68,69,46,7,46,79,79,57,70,68,7,70,46,57,79,58,70,57,46,69,68,69,68,7,46,7,68,57,58,70,57,68,69,46,36,79,46,69,79,45,57,79,70,57,68,47,36,68,46,70,79,47,70,57,47,36,57,68,7,47,47,45,57,69,57,57,69,69,46,46,57,58,46,45,69,57,70,57,57,7,69,70,68,69,46,68,58,57,47,57,68,57,70,36,58,57,57,57,69,79,47,57,58,70,57,68,36,47,45,36,57,46,45,7,70,68,68,68,36,57,57,47,69,58,57,57,69,58,79,68,36,7,57,58,69,69,68,69,79,47,36,79,45,46,70,57,45,46,69,70,69,68,57,58,7,57,70,47,57,7,47,58,45,58,45,57,46,57,47,70,79,68,57,57,69,69,7,47,36,36,36,36,79,57,46,47,45,68,46,46,69,68,46,7,57,58,79,79,46,79,58,70,68,68,57,47,7,46,79,70,68,58,57,69,58,69,47,47,68,46,36,57,68,68,58,68,47,45,57,46,70,7,69,46,57,57,57,57,7,57,79,45,57,68,57,57,58,68,68,58,7,46,68,68,7,7,68,36,69,70,68,70,47,58,36,47,46,69,57,69,45,68,70,57,57,36,68,57,46,47,69,70,79,69,79,47,69,36,7,36,79,69,68,46,68,70,45,68,47,57,46,58,47,70,69,70,7,57,69,68,69,69,68,57,57,69,68,70,7,68,68,68,36,57,47,69,68,46,47,46,36,68,70,69,68,47,57,68,69,45,47,68,57,57,68,69,69,36,47,57,68,68,58,69,47,68,69,7,46,7,57,68,70,57,68,46,70,69,68,45,69,47,68,45,68,79,68,46,45,57,68,7,7,69,68,68,36,58,68,47,7,57,68,36,36,36,7,69,68,46,45,36,69,57,68,68,46,69,46,36,57,79,79,57,57,70,7,58,45,7,47,58,69,45,58,68,46,68,79,57,36,36,57,70,69,57,79,46,47,58,79,57,7,57,46,68,70,70,68,57,68,79,79,70,36,58,79,70,57,57,69,68,46,36,70,68,57,57,57,36,58,57,68,46,46,46,70,7,69,47,45,57,57,68,57,57,36,36,36,47,47,57,68,47,47,57,46,68,69,68,69,45,47,45,7,7,68,57,57,70,69,7,7,46,46,57,69,58,57,57,58,7,46,46,57,58,58,45,58,36,57,69,68,57,46,57,69,57,7,57,79,7,57,79,69,46,68,68,47,36,57,47,68,68,57,45,46,68,70,70,47,7,58,58,58,57,68,57,69,68,70,46,47,47,58,57,69,68,57,68,70,68,68,57,36,7,58,69,79,58,68,69,57,79,36,68,57,79,58,70,68,69,47,68,79,57,45,70,68,46,36,58,57,7,45,57,45,69,70,68,68,58,47,36,70,47,57,70,7,57,58,69,69,69,68,69,46,57,79,68,70,69,46,36,79,69,57,70,46,58,58,57,68,57,45,68,36,36,70,7,79,7,69,69,57,68,47,57,57,68,57,68,68,68,79,69,46,68,45,68,46,57,70,36,57,46,70,57,68,7,36,79,79,45,68,57,7,58,69,57,46,46,47,58,68,46,36,68,46,57,68,46,69,68,46,45,47,57,79,46,57,57,58,36,36,47,47,47,57,45,69,70,36,7,68,45,57,46,68,70,69,70,46,68,68,69,70,68,70,57,57,68,57,68,57,57,68,46,69,69,45,68,68,70,68,46,68,69,57,46,69,7,68,68,70,68,68,68,47,46,45,58,46,79,58,47,57,69,57,68,79,57,7,57,46,68,57,69,45,68,45,68,68,68,46,7,57,46,58,70,68,68,47,57,58,46,68,36,46,47,79,57,69,69,68,47,68,57,57,45,45,46,46,70,68,57,68,70,45,68,46,57,46,57,46,69,46,36,57,58,68,69,36,45,68,45,68,47,70,68,68,70,68,57,7,70,7,69,69,36,68,46,45,68,45,36,57,68,69,68,57,70,79,68,58,79,36,57,46,46,68,36,36,69,57,57,7,68,46,46,70,47,57,79,36,58,47,7,36,57,47,70,46,69,69,79,68,46,58,68,68,57,68,47,68,70,36,69,69,36,79,46,45,68,46,57,70,68,70,68,70,46,47,79,46,47,47,57,69,70,45,68,57,45,57,45,68,46,69,68,57,46,57,57,45,46,57,57,47,69,57,47,46,57,69,46,68,68,36,57,7,69,46,70,46,7,57,7,79,68,57,36,68,70,46,36,45,46,79,79,46,36,57,69,68,68,36,47,68,46,46,79,7,69,68,46,79,7,47,47,47,7,58,7,68,57,57,47,79,47,45,68,57,68,57,57,68,57,57,57,69,47,79,68,47,57,46,58,70,68,79,47,58,68,47,45,57,46,7,46,7,68,46,36,57,68,57,46,69,69,69,57,45,68,79,57,68,57,68,68,68,7,36,7,58,57,45,68,46,46,79,7,57,58,45,58,57,46,57,47,36,47,68,70,57,45,36,57,46,57,7,47,68,58,68,36,68,57,7,68,46,57,46,68,58,70,7,7,68,58,57,57,47,68,57,46,46,68,69,57,68,68,68,46,46,46,69,70,70,57,47,57,45,68,7,47,47,46,57,57,68,70,69,68,79,69,57,46,58,70,69,68,57,45,46,70,57,45,70,45,46,36,57,57,68,7,57,46,45,70,57,7,68,7,69,70,57,79,46,46,47,70,70,57,57,69,70,57,70,46,69,68,47,69,68,58,45,57,79,68,7,69,57,57,70,70,68,70,57,68,57,57,69,69,70,46,68,69,47,45,57,68,69,79,57,69,58,57,57,79,69,68,69,57,45,69,46,69,69,69,47,68,57,57,57,47,57,57,57,68,68,70,68,45,46,57,58,57,7,58,7,46,57,69,68,57,68,57,45,57,70,46,57,68,69,68,46,68,68,46,68,57,69,69,68,68,79,58,57,69,46,57,58,47,7,68,69,69,68,58,69,45,68,57,68,45,57,69,68,70,57,57,68,46,68,68,69,68,57,46,45,36,45,68,46,70,7,79,57,46,57,57,36,79,45,57,68,46,57,7,46,68,57,46,69,7,68,70,69,69,46,46,46,45,70,68,68,57,69,68,47,70,57,68,57,47,58,57,57,57,47,36,68,70,69,36,7,7,57,69,70,68,69,45,47,57,57,46,69,46,69,58,68,57,7,58,68,57,46,68,69,68,7,70,46,45,68,69,36,79,36,36,45,57,36,46,46,46,46,68,79,7,70,70,68,46,69,79,57,70,70,57,68,68,68,57,68,57,57,69,45,47,68,57,79,7,68,68,45,7,47,69,57,70,46,70,7,46,69,47,68,45,69,57,70,46,69,69,46,79,7,46,70,58,70,79,7,69,70,68,58,79,58,45,68,57,68,7,36,69,46,46,45,57,69,79,79,68,69,68,47,57,36,57,68,46,68,70,46,68,69,68,46,68,47,7,57,57,7,58,68,70,57,57,68,46,57,47,79,68,69,45,58,68,68,45,57,57,36,70,68,79,68,7,57,46,46,45,57,36,68,69,45,79,70,69,68,7,57,47,79,57,45,46,45,69,7,36,57,45,69,68,70,45,79,57,57,57,69,68,57,45,45,58,69,58,79,58,46,69,45,47,70,57,46,79,47,68,68,70,79,69,79,45,79,69,69,69,57,69,7,79,46,57,70,47,68,36,79,45,46,57,46,57,70,45,58,68,57,58,45,57,70,7,46,36,57,70,79,45,68,45,68,45,46,69,47,45,36,68,7,79,47,45,70,69,68,57,36,57,68,57,79,46,68,46,79,47,7,69,36,46,47,47,79,58,69,69,69,57,7,79,68,69,70,79,68,7,79,68,68,57,57,45,68,7,68,68,57,36,68,36,69,47,69,69,36,69,46,68,68,57,57,57,47,57,7,58,68,36,47,46,58,68,58,57,58,45,69,47,69,68,36,68,36,68,36,68,57,79,57,68,45,69,7,68,57,68,47,46,69,68,7,57,7,79,68,69,57,68,57,7,79,57,69,57,47,68,68,68,69,46,70,57,57,68,69,46,68,68,47,47,57,46,58,58,36,70,46,45,68,46,70,36,70,68,46,36,46,79,69,46,7,68,68,68,47,68,57,69,68,68,46,46,45,69,58,69,47,68,68,79,46,68,46,46,57,46,69,45,46,36,47,68,46,57,57,57,45,68,69,45,79,58,46,46,70,79,70,7,36,68,57,68,57,69,69,68,46,47,58,46,46,46,36,36,7,46,57,69,46,58,46,46,47,47,7,57,57,69,68,47,69,45,68,46,70,46,57,47,58,57,70,57,58,68,79,68,57,57,47,57,45,69,68,45,58,46,70,69,69,68,57,46,70,58,57,68,69,58,47,46,70,45,45,79,57,45,70,47,68,47,57,57,68,45,58,68,68,57,57,36,68,69,68,36,47,70,68,58,68,57,68,57,79,47,69,68,57,58,68,57,47,45,45,69,57,46,45,7,7,47,46,57,57,58,68,57,69,45,57,69,57,69,68,68,68,68,45,68,47,69,57,68,70,36,57,69,46,69,58,47,57,58,68,68,69,69,45,69,7,68,68,46,68,68,58,7,7,57,46,46,69,57,46,46,45,69,36,70,36,45,58,46,79,58,46,47,45,68,57,46,7,69,57,46,36,68,36,58,68,7,68,70,79,7,79,68,57,69,69,68,70,70,69,69,79,68,58,69,79,68,68,36,68,69,69,36,46,70,58,69,69,69,70,68,57,57,45,46,70,69,47,57,69,70,69,46,46,57,79,79,45,70,45,69,57,68,68,36,70,57,69,58,45,36,46,36,68,57,69,57,45,69,68,79,68,46,79,57,46,36,69,69,70,58,36,68,7,57,68,68,58,7,46,45,7,79,79,57,57,79,69,57,68,57,68,57,70,70,68,36,36,57,36,69,69,70,68,58,7,47,46,58,68,46,79,7,7,36,46,46,7,58,46,46,69,68,68,57,36,47,69,58,36,58,36,68,45,68,68,79,57,69,46,68,79,7,7,36,68,57,57,7,47,46,57,69,57,69,36,36,45,46,79,36,69,45,36,58,57,7,7,69,7,68,36,68,69,46,47,57,68,68,57,79,45,57,69,68,69,57,58,79,57,36,46,79,47,57,47,45,57,57,7,58,79,7,7,69,46,57,79,46,58,46,69,58,68,58,57,46,46,69,46,45,57,47,68,46,46,57,57,58,69,69,47,47,47,69,79,47,68,57,68,68,57,68,70,45,46,57,68,46,57,69,47,46,46,47,68,57,68,68,68,69,7,7,46,70,57,57,57,45,46,36,79,58,46,69,36,79,68,47,58,46,58,79,68,36,58,57,69,45,57,68,68,36,68,45,68,36,58,68,46,58,68,69,68,57,47,47,57,36,68,57,69,79,68,79,7,58,70,46,46,46,79,57,57,68,46,69,68,46,79,69,57,58,68,46,46,46,58,46,69,46,58,68,70,7,36,46,46,68,68,57,70,69,46,7,46,46,69,69,46,46,47,46,47,36,79,57,57,46,68,68,68,47,47,47,57,68,57,69,70,46,79,79,36,7,70,70,58,69,70,68,45,45,68,68,68,57,68,68,68,69,57,57,68,79,68,69,57,57,57,70,47,57,7,58,46,58,46,36,70,46,68,68,57,58,46,70,7,70,7,69,69,79,69,58,68,58,7,46,68,57,70,69,58,69,68,7,70,7,46,57,57,47,47,68,46,47,57,68,68,69,58,68,68,69,58,68,57,70,68,57,68,46,68,46,57,68,58,70,68,79,47,79,46,58,57,7,57,69,70,79,46,68,68,57,36,46,68,46,68,36,79,36,68,79,36,68,46,79,79,46,45,68,68,69,69,68,57,69,57,79,68,7,46,7,57,70,7,36,36,46,57,58,58,79,57,68,45,69,70,57,7,57,7,45,69,46,57,46,36,69,57,46,45,47,68,57,79,68,46,58,46,79,46,57,47,47,57,46,58,7,68,69,79,45,68,57,57,79,47,68,45,68,57,46,45,47,69,57,70,79,68,69,79,36,79,7,57,46,36,36,45,79,68,47,57,46,36,7,58,57,46,45,47,68,7,70,7,68,45,57,45,69,36,45,46,46,57,69,45,70,57,7,69,58,68,46,47,45,69,47,69,57,79,58,68,68,70,68,57,57,47,47,69,46,57,57,45,68,7,69,68,47,58,47,68,47,79,46,68,46,69,46,57,68,47,70,36,57,7,46,68,70,7,69,57,45,57,69,47,58,46,68,69,46,69,69,69,57,45,58,47,68,68,57,57,57,57,69,45,58,45,46,46,68,70,69,7,57,36,57,7,57,68,36,58,79,70,47,46,58,68,79,7,47,47,57,68,7,7,68,47,79,57,57,36,45,57,45,47,69,70,79,46,45,57,68,68,57,47,68,45,46,57,7,68,46,68,68,57,45,36,68,69,47,46,58,68,68,70,58,68,68,68,36,70,69,68,70,69,68,36,79,57,58,57,7,7,57,69,68,57,46,57,57,69,68,79,57,58,46,68,57,70,7,46,79,70,7,46,58,70,79,79,7,47,68,47,68,68,69,68,7,68,46,79,36,70,68,36,47,58,57,36,57,47,57,79,68,68,45,36,68,70,46,69,69,69,46,36,69,7,36,68,69,57,46,69,69,7,47,70,46,68,57,68,7,47,70,57,70,68,68,47,46,57,70,68,68,7,45,58,46,57,58,46,57,68,70,69,69,36,68,57,57,57,69,70,46,57,57,57,7,57,57,68,47,68,57,69,69,69,47,36,69,68,45,45,36,70,57,46,57,69,70,46,46,57,57,68,68,36,47,79,47,57,45,58,69,69,68,70,47,68,68,69,57,57,68,46,70,68,57,36,57,57,46,46,46,69,69,57,57,69,68,58,70,58,79,57,36,7,57,69,68,69,68,47,68,57,47,58,47,45,36,68,68,58,68,36,45,68,69,57,47,69,57,46,68,68,68,68,57,46,7,68,45,45,46,46,36,57,69,36,79,68,69,70,79,7,79,68,46,7,68,46,46,58,79,57,47,69,69,36,68,57,79,45,68,69,45,57,58,57,46,7,79,36,69,57,58,47,70,46,68,69,36,7,58,57,57,36,45,45,36,36,69,46,79,46,70,36,46,47,46,7,57,68,36,69,68,46,69,45,69,47,69,68,70,46,69,68,46,70,45,47,47,7,57,69,46,68,57,45,68,69,46,45,68,57,57,68,47,79,69,36,58,45,7,58,7,58,69,68,36,45,47,46,70,68,46,69,68,79,46,68,58,46,69,47,69,70,57,57,46,68,57,58,46,70,46,68,58,69,68,46,45,68,57,36,57,69,46,68,68,58,68,57,68,46,70,69,79,69,69,68,45,58,45,46,68,57,47,57,79,68,58,46,79,79,70,68,69,79,57,68,45,70,36,7,45,46,46,69,69,58,69,79,68,46,58,46,79,68,47,36,7,45,47,57,57,58,46,68,57,57,79,68,36,68,58,45,57,68,7,70,46,70,7,7,46,57,68,7,68,68,47,79,58,57,69,58,47,68,58,58,68,69,79,57,57,46,57,68,57,36,7,46,47,46,57,70,57,57,46,46,70,46,68,57,57,68,69,68,46,68,57,69,45,68,57,69,69,68,58,7,68,58,45,57,68,36,69,68,45,47,69,68,46,68,57,57,68,79,69,69,47,68,57,57,69,68,69,57,69,36,69,45,57,68,68,57,46,69,46,7,68,69,46,69,69,58,68,45,68,46,68,69,57,68,68,79,58,57,57,36,46,7,57,79,57,57,57,58,68,68,69,58,46,69,36,45,46,36,69,68,46,68,69,36,36,69,70,70,47,58,57,68,47,45,7,57,79,70,69,57,46,57,7,47,68,68,68,68,7,46,45,57,45,58,36,46,57,57,57,47,7,36,57,36,57,7,45,69,69,45,46,7,57,57,69,68,57,45,79,68,70,57,46,57,7,36,47,69,68,46,69,57,47,57,68,46,68,70,68,69,47,47,68,47,79,57,68,47,46,70,45,68,79,57,70,68,47,47,68,69,47,57]
[null,null,null,null,null,null,"","","","","","","","","","","","","","","","","","","","","","","","","","","","","","","","","","","","","","","","","","","","","","","","","","","","","","","","","","","","","","","","","","","","","","","","","","","","","","","","","","","","","","","","","","","","","","","","","","","","","","","","","","","","","","","","","","","","","","","","","","","","","","","","","","","","","","","","","","","","","","","","","","","","","","","","","","","","","","","","","","","","","","","","","","","","","","","","","","","","","","","","","","","","","","","","","","","","","","","","","","","","","","","","","","","","","","","","","","","","","","","","","","","","","","","","","","","","","","","","","","","","","","","","","","","","","","","","","","","","","","","","","","","","","","","","","","","","","","","","","","","","","","","","","","","","","","","","","","","","","","","","","","","","","","","","","","","","","","","","","","","","","","","","","","","","","","","","","","","","","","","","","","","","","","","","","","","","","","","","","","","","","","","","","","","","","","","","","","","","","","","","","","","","","","","","","","","","","","","","","","","","","","","","","","","","","","","","","","","","","","","","","","","","","","","","","","","","","","","","","","","","","","","","","","","","","","","","","","","","","","","","","","","","","","","","","","","","","","","","","","","","","","","","","","","","","","","","","","","","","","","","","","","","","","","","","","","","","","","","","","","","","","","","","","","","","","","","","","","","","","","","","","","","","","","","","","","","","","","","","","","","","","","","","","","","","","","","","","","","","","","","","","","","","","","","","","","","","","","","","","","","","","","","","","","","","","","","","","","","","","","","","","","","","","","","","","","","","","","","","","","","","","","","","","","","","","","","","","","","","","","","","","","","","","","","","","","","","","","","","","","","","","","","","","","","","","","","","","","","","","","","","","","","","","","","","","","","","","","","","","","","","","","","","","","","","","","","","","","","","","","","","","","","","","","","","","","","","","","","","","","","","","","","","","","","","","","","","","","","","","","","","","","","","","","","","","","","","","","","","","","","","","","","","","","","","","","","","","","","","","","","","","","","","","","","","","","","","","","","","","","","","","","","","","","","","","","","","","","","","","","","","","","","","","","","","","","","","","","","","","","","","","","","","","","","","","","","","","","","","","","","","","","","","","","","","","","","","","","","","","","","","","","","","","","","","","","","","","","","","","","","","","","","","","","","","","","","","","","","","","","","","","","","","","","","","","","","","","","","","","","","","","","","","","","","","","","","","","","","","","","","","","","","","","","","","","","","","","","","","","","","","","","","","","","","","","","","","","","","","","","","","","","","","","","","","","","","","","","","","","","","","","","","","","","","","","","","","","","","","","","","","","","","","","","","","","","","","","","","","","","","","","","","","","","","","","","","","","","","","","","","","","","","","","","","","","","","","","","","","","","","","","","","","","","","","","","","","","","","","","","","","","","","","","","","","","","","","","","","","","","","","","","","","","","","","","","","","","","","","","","","","","","","","","","","","","","","","","","","","","","","","","","","","","","","","","","","","","","","","","","","","","","","","","","","","","","","","","","","","","","","","","","","","","","","","","","","","","","","","","","","","","","","","","","","","","","","","","","","","","","","","","","","","","","","","","","","","","","","","","","","","","","","","","","","","","","","","","","","","","","","","","","","","","","","","","","","","","","","","","","","","","","","","","","","","","","","","","","","","","","","","","","","","","","","","","","","","","","","","","","","","","","","","","","","","","","","","","","","","","","","","","","","","","","","","","","","","","","","","","","","","","","","","","","","","","","","","","","","","","","","","","","","","","","","","","","","","","","","","","","","","","","","","","","","","","","","","","","","","","","","","","","","","","","","","","","","","","","","","","","","","","","","","","","","","","","","","","","","","","","","","","","","","","","","","","","","","","","","","","","","","","","","","","","","","","","","","","","","","","","","","","","","","","","","","","","","","","","","","","","","","","","","","","","","","","","","","","","","","","","","","","","","","","","","","","","","","","","","","","","","","","","","","","","","","","","","","","","","","","","","","","","","","","","","","","","","","","","","","","","","","","","","","","","","","","","","","","","","","","","","","","","","","","","","","","","","","","","","","","","","","","","","","","","","","","","","","","","","","","","","","","","","","","","","","","","","","","","","","","","","","","","","","","","","","","","","","","","","","","","","","","","","","","","","","","","","","","","","","","","","","","","","","","","","","","","","","","","","","","","","","","","","","","","","","","","","","","","","","","","","","","","","","","","","","","","","","","","","","","","","","","","","","","","","","","","","","","","","","","","","","","","","","","","","","","","","","","","","","","","","","","","","","","","","","","","","","","","","","","","","","","","","","","","","","","","","","","","","","","","","","","","","","","","","","","","","","","","","","","","","","","","","","","","","","","","","","","","","","","","","","","","","","","","","","","","","","","","","","","","","","","","","","","","","","","","","","","","","","","","","","","","","","","","","","","","","","","","","","","","","","","","","","","","","","","","","","","","","","","","","","","","","","","","","","","","","","","","","","","","","","","","","","","","","","","","","","","","","","","","","","","","","","","","","","","","","","","","","","","","","","","","","","","","","","","","","","","","","","","","","","","","","","","","","","","","","","","","","","","","","","","","","","","","","","","","","","","","","","","","","","","","","","","","","","","","","","","","","","","","","","","","","","","","","","","","","","","","","","","","","","","","","","","","","","","","","","","","","","","","","","","","","","","","","","","","","","","","","","","","","","","","","","","","","","","","","","","","","","","","","","","","","","","","","","","","","","","","","","","","","","","","","","","","","","","","","","","","","","","","","","","","","","","","","","","","","","","","","","","","","","","","","","","","","","","","","","","","","","","","","","","","","","","","","","","","","","","","","","","","","","","","","","","","","","","","","","","","","","","","","","","","","","","","","","","","","","","","","","","","","","","","","","","","","","","","","","","","","","","","","","","","","","","","","","","","","","","","","","","","","","","","","","","","","","","","","","","","","","","","","","","","","","","","","","","","","","","","","","","","","","","","","","","","","","","","","","","","","","","","","","","","","","","","","","","","","","","","","","","","","","","","","","","","","","","","","","","","","","","","","","","","","","","","","","","","","","","","","","","","","","","","","","","","","","","","","","","","","","","","","","","","","","","","","","","","","","","","","","","","","","","","","","","","","","","","","","","","","","","","","","","","","","","","","","","","","","","","","","","","","","","","","","","","","","","","","","","","","","","","","","","","","","","","","","","","","","","","","","","","","","","","","","","","","","","","","","","","","","","","","","","","","","","","","","","","","","","","","","","","","","","","","","","","","","","","","","","","","","","","","","","","","","","","","","","","","","","","","","","","","","","","","","","","","","","","","","","","","","","","","","","","","","","","","","","","","","","","","","","","","","","","","","","","","","","","","","","","","","","","","","","","","","","","","","","","","","","","","","","","","","","","","","","","","","","","","","","","","","","","","","","","","","","","","","","","","","","","","","","","","","","","","","","","","","","","","","","","","","","","","","","","","","","","","","","","","","","","","","","","","","","","","","","","","","","","","","","","","","","","","","","","","","","","","","","","","","","","","","","","","","","","","","","","","","","","","","","","","","","","","","","","","","","","","","","","","","","","","","","","","","","","","","","","","","","","","","","","","","","","","","","","","","","","","","","","","","","","","","","","","","","","","","","","","","","","","","","","","","","","","","","","","","","","","","","","","","","","","","","","","","","","","","","","","","","","","","","","","","","","","","","","","","","","","","","","","","","","","","","","","","","","","","","","","","","","","","","","","","","","","","","","","","","","","","","","","","","","","","","","","","","","","","","","","","","","","","","","","","","","","","","","","","","","","","","","","","","","","","","","","","","","","","","","","","","","","","","","","","","","","","","","","","","","","","","","","","","","","","","","","","","","","","","","","","","","","","","","","","","","","","","","","","","","","","","","","","","","","","","","","","","","","","","","","","","","","","","","","","","","","","","","","","","","","","","","","","","","","","","","","","","","","","","","","","","","","","","","","","","","","","","","","","","","","","","","","","","","","","","","","","","","","","","","","","","","","","","","","","","","","","","","","","","","","","","","","","","","","","","","","","","","","","","","","","","","","","","","","","","","","","","","","","","","","","","","","","","","","","","","","","","","","","","","","","","","","","","","","","","","","","","","","","","","","","","","","","","","","","","","","","","","","","","","","","","","","","","","","","","","","","","","","","","","","","","","","","","","","","","","","","","","","","","","","","","","","","","","","","","","","","","","","","","","","","","","","","","","","","","","","","","","","","","","","","","","","","","","","","","","","","","","","","","","","","","","","","","","","","","","","","","","","","","","","","","","","","","","","","","","","","","","","","","","","","","","","","","","","","","","","","","","","","","","","","","","","","","","","","","","","","","","","","","","","","","","","","","","","","","","","","","","","","","","","","","","","","","","","","","","","","","","","","","","","","","","","","","","","","","","","","","","","","","","","","","","","","","","","","","","","","","","","","","","","","","","","","","","","","","","","","","","","","","","","","","","","","","","","","","","","","","","","","","","","","","","","","","","","","","","","","","","","","","","","","","","","","","","","","","","","","","","","","","","","","","","","","","","","","","","","","","","","","","","","","","","","","","","","","","","","","","","","","","","","","","","","","","","","","","","","","","","","","","","","","","","","","","","","","","","","","","","","","","","","","","","","","","","","","","","","","","","","","","","","","","","","","","","","","","","","","","","","","","","","","","","","","","","","","","","","","","","","","","","","","","","","","","","","","","","","","","","","","","","","","","","","","","","","","","","","","","","","","","","","","","","","","","","","","","","","","","","","","","","","","","","","","","","","","","","","","","","","","","","","","","","","","","","","","","","","","","","","","","","","","","","","","","","","","","","","","","","","","","","","","","","","","","","","","","","","","","","","","","","","","","","","","","","","","","","","","","","","","","","","","","","","","","","","","","","","","","","","","","","","","","","","","","","","","","","","","","","","","","","","","","","","","","","","","","","","","","","","","","","","","","","","","","","","","","","","","","","","","","","","","","","","","","","","","","","","","","","","","","","","","","","","","","","","","","","","","","","","","","","","","","","","","","","","","","","","","","","","","","","","","","","","","","","","","","","","","","","","","","","","","","","","","","","","","","","","","","","","","","","","","","","","","","","","","","","","","","","","","","","","","","","","","","","","","","","","","","","","","","","","","","","","","","","","","","","","","","","","","","","","","","","","","","","","","","","","","","","","","","","","","","","","","","","","","","","","","","","","","","","","","","","","","","","","","","","","","","","","","","","","","","","","","","","","","","","","","","","","","","","","","","","","","","","","","","","","","","","","","","","","","","","","","","","","","","","","","","","","","","","","","","","","","","","","","","","","","","","","","","","","","","","","","","","","","","","","","","","","","","","","","","","","","","","","","","","","","","","","","","","","","","","","","","","","","","","","","","","","","","","","","","","","","","","","","","","","","","","","","","","","","","","","","","","","","","","","","","","","","","","","","","","","","","","","","","","","","","","","","","","","","","","","","","","","","","","","","","","","","","","","","","","","","","","","","","","","","","","","","","","","","","","","","","","","","","","","","","","","","","","","","","","","","","","","","","","","","","","","","","","","","","","","","","","","","","","","","","","","","","","","","","","","","","","","","","","","","","","","","","","","","","","","","","","","","","","","","","","","","","","","","","","","","","","","","","","","","","","","","","","","","","","","","","","","","","","","","","","","","","","","","","","","","","","","","","","","","","","","","","","","","","","","","","","","","","","","","","","","","","","","","","","","","","","","","","","","","","","","","","","","","","","","","","","","","","","","","","","","","","","","","","","","","","","","","","","","","","","","","","","","","","","","","","","","","","","","","","","","","","","","","","","","","","","","","","","","","","","","","","","","","","","","","","","","","","","","","","","","","","","","","","","","","","","",""]
[null,null,null,null,null,null,"","","","","","","","","","","","","","","","","","","","","","","","","","","","","","","","","","","","","","","","","","","","","","","","","","","","","","","","","","","","","","","","","","","","","","","","","","","","","","","","","","","","","","","","","","","","","","","","","","","","","","","","","","","","","","","","","","","","","","","","","","","","","","","","","","","","","","","","","","","","","","","","","","","","","","","","","","","","","","","","","","","","","","","","","","","","","","","","","","","","","","","","","","","","","","","","","","","","","","","","","","","","","","","","","","","","","","","","","","","","","","","","","","","","","","","","","","","","","","","","","","","","","","","","","","","","","","","","","","","","","","","","","","","","","","","","","","","","","","","","","","","","","","","","","","","","","","","","","","","","","","","","","","","","","","","","","","","","","","","","","","","","","","","","","","","","","","","","","","","","","","","","","","","","","","","","","","","","","","","","","","","","","","","","","","","","","","","","","","","","","","","","","","","","","","","","","","","","","","","","","","","","","","","","","","","","","","","","","","","","","","","","","","","","","","","","","","","","","","","","","","","","","","","","","","","","","","","","","","","","","","","","","","","","","","","","","","","","","","","","","","","","","","","","","","","","","","","","","","","","","","","","","","","","","","","","","","","","","","","","","","","","","","","","","","","","","","","","","","","","","","","","","","","","","","","","","","","","","","","","","","","","","","","","","","","","","","","","","","","","","","","","","","","","","","","","","","","","","","","","","","","","","","","","","","","","","","","","","","","","","","","","","","","","","","","","","","","","","","","","","","","","","","","","","","","","","","","","","","","","","","","","","","","","","","","","","","","","","","","","","","","","","","","","","","","","","","","","","","","","","","","","","","","","","","","","","","","","","","","","","","","","","","","","","","","","","","","","","","","","","","","","","","","","","","","","","","","","","","","","","","","","","","","","","","","","","","","","","","","","","","","","","","","","","","","","","","","","","","","","","","","","","","","","","","","","","","","","","","","","","","","","","","","","","","","","","","","","","","","","","","","","","","","","","","","","","","","","","","","","","","","","","","","","","","","","","","","","","","","","","","","","","","","","","","","","","","","","","","","","","","","","","","","","","","","","","","","","","","","","","","","","","","","","","","","","","","","","","","","","","","","","","","","","","","","","","","","","","","","","","","","","","","","","","","","","","","","","","","","","","","","","","","","","","","","","","","","","","","","","","","","","","","","","","","","","","","","","","","","","","","","","","","","","","","","","","","","","","","","","","","","","","","","","","","","","","","","","","","","","","","","","","","","","","","","","","","","","","","","","","","","","","","","","","","","","","","","","","","","","","","","","","","","","","","","","","","","","","","","","","","","","","","","","","","","","","","","","","","","","","","","","","","","","","","","","","","","","","","","","","","","","","","","","","","","","","","","","","","","","","","","","","","","","","","","","","","","","","","","","","","","","","","","","","","","","","","","","","","","","","","","","","","","","","","","","","","","","","","","","","","","","","","","","","","","","","","","","","","","","","","","","","","","","","","","","","","","","","","","","","","","","","","","","","","","","","","","","","","","","","","","","","","","","","","","","","","","","","","","","","","","","","","","","","","","","","","","","","","","","","","","","","","","","","","","","","","","","","","","","","","","","","","","","","","","","","","","","","","","","","","","","","","","","","","","","","","","","","","","","","","","","","","","","","","","","","","","","","","","","","","","","","","","","","","","","","","","","","","","","","","","","","","","","","","","","","","","","","","","","","","","","","","","","","","","","","","","","","","","","","","","","","","","","","","","","","","","","","","","","","","","","","","","","","","","","","","","","","","","","","","","","","","","","","","","","","","","","","","","","","","","","","","","","","","","","","","","","","","","","","","","","","","","","","","","","","","","","","","","","","","","","","","","","","","","","","","","","","","","","","","","","","","","","","","","","","","","","","","","","","","","","","","","","","","","","","","","","","","","","","","","","","","","","","","","","","","","","","","","","","","","","","","","","","","","","","","","","","","","","","","","","","","","","","","","","","","","","","","","","","","","","","","","","","","","","","","","","","","","","","","","","","","","","","","","","","","","","","","","","","","","","","","","","","","","","","","","","","","","","","","","","","","","","","","","","","","","","","","","","","","","","","","","","","","","","","","","","","","","","","","","","","","","","","","","","","","","","","","","","","","","","","","","","","","","","","","","","","","","","","","","","","","","","","","","","","","","","","","","","","","","","","","","","","","","","","","","","","","","","","","","","","","","","","","","","","","","","","","","","","","","","","","","","","","","","","","","","","","","","","","","","","","","","","","","","","","","","","","","","","","","","","","","","","","","","","","","","","","","","","","","","","","","","","","","","","","","","","","","","","","","","","","","","","","","","","","","","","","","","","","","","","","","","","","","","","","","","","","","","","","","","","","","","","","","","","","","","","","","","","","","","","","","","","","","","","","","","","","","","","","","","","","","","","","","","","","","","","","","","","","","","","","","","","","","","","","","","","","","","","","","","","","","","","","","","","","","","","","","","","","","","","","","","","","","","","","","","","","","","","","","","","","","","","","","","","","","","","","","","","","","","","","","","","","","","","","","","","","","","","","","","","","","","","","","","","","","","","","","","","","","","","","","","","","","","","","","","","","","","","","","","","","","","","","","","","","","","","","","","","","","","","","","","","","","","","","","","","","","","","","","","","","","","","","","","","","","","","","","","","","","","","","","","","","","","","","","","","","","","","","","","","","","","","","","","","","","","","","","","","","","","","","","","","","","","","","","","","","","","","","","","","","","","","","","","","","","","","","","","","","","","","","","","","","","","","","","","","","","","","","","","","","","","","","","","","","","","","","","","","","","","","","","","","","","","","","","","","","","","","","","","","","","","","","","","","","","","","","","","","","","","","","","","","","","","","","","","","","","","","","","","","","","","","","","","","","","","","","","","","","","","","","","","","","","","","","","","","","","","","","","","","","","","","","","","","","","","","","","","","","","","","","","","","","","","","","","","","","","","","","","","","","","","","","","","","","","","","","","","","","","","","","","","","","","","","","","","","","","","","","","","","","","","","","","","","","","","","","","","","","","","","","","","","","","","","","","","","","","","","","","","","","","","","","","","","","","","","","","","","","","","","","","","","","","","","","","","","","","","","","","","","","","","","","","","","","","","","","","","","","","","","","","","","","","","","","","","","","","","","","","","","","","","","","","","","","","","","","","","","","","","","","","","","","","","","","","","","","","","","","","","","","","","","","","","","","","","","","","","","","","","","","","","","","","","","","","","","","","","","","","","","","","","","","","","","","","","","","","","","","","","","","","","","","","","","","","","","","","","","","","","","","","","","","","","","","","","","","","","","","","","","","","","","","","","","","","","","","","","","","","","","","","","","","","","","","","","","","","","","","","","","","","","","","","","","","","","","","","","","","","","","","","","","","","","","","","","","","","","","","","","","","","","","","","","","","","","","","","","","","","","","","","","","","","","","","","","","","","","","","","","","","","","","","","","","","","","","","","","","","","","","","","","","","","","","","","","","","","","","","","","","","","","","","","","","","","","","","","","","","","","","","","","","","","","","","","","","","","","","","","","","","","","","","","","","","","","","","","","","","","","","","","","","","","","","","","","","","","","","","","","","","","","","","","","","","","","","","","","","","","","","","","","","","","","","","","","","","","","","","","","","","","","","","","","","","","","","","","","","","","","","","","","","","","","","","","","","","","","","","","","","","","","","","","","","","","","","","","","","","","","","","","","","","","","","","","","","","","","","","","","","","","","","","","","","","","","","","","","","","","","","","","","","","","","","","","","","","","","","","","","","","","","","","","","","","","","","","","","","","","","","","","","","","","","","","","","","","","","","","","","","","","","","","","","","","","","","","","","","","","","","","","","","","","","","","","","","","","","","","","","","","","","","","","","","","","","","","","","","","","","","","","","","","","","","","","","","","","","","","","","","","","","","","","","","","","","","","","","","","","","","","","","","","","","","","","","","","","","","","","","","","","","","","","","","","","","","","","","","","","","","","","","","","","","","","","","","","","","","","","","","","","","","","","","","","","","","","","","","","","","","","","","","","","","","","","","","","","","","","","","","","","","","","","","","","","","","","","","","","","","","","","","","","","","","","","","","","","","","","","","","","","","","","","","","","","","","","","","","","","","","","","","","","","","","","","","","","","","","","","","","","","","","","","","","","","","","","","","","","","","","","","","","","","","","","","","","","","","","","","","","","","","","","","","","","","","","","","","","","","","","","","","","","","","","","","","","","","","","","","","","","","","","","","","","","","","","","","","","","","","","","","","","","","","","","","","","","","","","","","","","","","","","","","","","","","","","","","","","","","","","","","","","","","","","","","","","","","","","","","","","","","","","","","","","","","","","","","","","","","","","","","","","","","","","","","","","","","","","","","","","","","","","","","","","","","","","","","","","","","","","","","","","","","","","","","","","","","","","","","","","","","","","","","","","","","","","","","","","","","","","","","","","","","","","","","","","","","","","","","","","","","","","","","","","","","","","","","","","","","","","","","","","","","","","","","","","","","","","","","","","","","","","","","","","","","","","","","","","","","","","","","","","","","","","","","","","","","","","","","","","","","","","","","","","","","","","","","","","","","","","","","","","","","","","","","","","","","","","","","","","","","","","","","","","","","","","","","","","","","","","","","","","","","","","","","","","","","","","","","","","","","","","","","","","","","","","","","","","","","","","","","","","","","","","","","","","","","","","","","","","","","","","","","","","","","","","","","","","","","","","","","","","","","","","","","","","","","","","","","","","","","","","","","","","","","","","","","","","","","","","","","","","","","","","","","","","","","","","","","","","","","","","","","","","","","","","","","","","","","","","","","","","","","","","","","","","","","","","","","","","","","","","","","","","","","","","","","","","","","","","","","","","","","","","","","","","","","","","","","","","","","","","","","","","","","","","","","","","","","","","","","","","","","","","","","","","","","","","","","","","","","","","","","","","","","","","","","","","","","","","","","","","","","","","","","","","","","","","","","","","","","","","","","","","","","","","","","","","","","","","","","","","","","","","","","","","","","","","","","","","","","","","","","","","","","","","","","","","","","","","","","","","","","","","","","","","","","","","","","","","","","","","","","","","","","","","","","","","","","","","","","","","","","","","","","","","","","","","","","","","","","","","","","","","","","","","","","","","","","","","","","","","","","","","","","","","","","","","","","","","","","","","","","","","","","","","","","","","","","","","","","","","","","","","","","","","","","","","","","","","","","","","","","","","","","","","","","","","","","","","","","","","","","","","","","","","","","","","","","","","","","","","","","","","","","","","","","","","","","","","","","","","","","","","","","","","","","","","","","","","","","","","","","","","","","","","","","","","","","","","","","","","","","","","","","","","","","","","","","","","","","","","","","","","","","","","","","","","","","","","","","","","","","","","","","","","","","","","","","","","","","","","","","","","","","","","","","","","","","","","","","","","","","","","","","","","","","","","","","","","","","","","","","","","","","","","","","","","","","","","","","","","","","","","","","","","","","","","","","","","","","","","","","","","","","","","","","","","","","","","","","","","","","","","","","","","","","","","","","","","","","","","","","","","","","","","","","","","","","","","","","","","","","","","","","","","","","","","","","","","","","","","","","","","","","","","","","","","","","","","","","","","","","","","","","","","","","","","","","","","","","","","","","","","","","","","","","","","","","","","","","","","","","","","","","","","","","","","","","","","","","","","","","","","","","","","","","","","","","","","","","","","","","","","","","","","","","","","","","","","","","","","","","","","","","","","","","","","","","","","","","","","","","","","","","","","","","","","","","","","","","","","","","","","","","","","","","","","","","","","","","","","","","","","","","","","","","",""]
[null,null,null,null,null,null,"","","","","","","","","","","","","","","","","","","","","","","","","","","","","","","","","","","","","","","","","","","","","","","","","","","","","","","","","","","","","","","","","","","","","","","","","","","","","","","","","","","","","","","","","","","","","","","","","","","","","","","","","","","","","","","","","","","","","","","","","","","","","","","","","","","","","","","","","","","","","","","","","","","","","","","","","","","","","","","","","","","","","","","","","","","","","","","","","","","","","","","","","","","","","","","","","","","","","","","","","","","","","","","","","","","","","","","","","","","","","","","","","","","","","","","","","","","","","","","","","","","","","","","","","","","","","","","","","","","","","","","","","","","","","","","","","","","","","","","","","","","","","","","","","","","","","","","","","","","","","","","","","","","","","","","","","","","","","","","","","","","","","","","","","","","","","","","","","","","","","","","","","","","","","","","","","","","","","","","","","","","","","","","","","","","","","","","","","","","","","","","","","","","","","","","","","","","","","","","","","","","","","","","","","","","","","","","","","","","","","","","","","","","","","","","","","","","","","","","","","","","","","","","","","","","","","","","","","","","","","","","","","","","","","","","","","","","","","","","","","","","","","","","","","","","","","","","","","","","","","","","","","","","","","","","","","","","","","","","","","","","","","","","","","","","","","","","","","","","","","","","","","","","","","","","","","","","","","","","","","","","","","","","","","","","","","","","","","","","","","","","","","","","","","","","","","","","","","","","","","","","","","","","","","","","","","","","","","","","","","","","","","","","","","","","","","","","","","","","","","","","","","","","","","","","","","","","","","","","","","","","","","","","","","","","","","","","","","","","","","","","","","","","","","","","","","","","","","","","","","","","","","","","","","","","","","","","","","","","","","","","","","","","","","","","","","","","","","","","","","","","","","","","","","","","","","","","","","","","","","","","","","","","","","","","","","","","","","","","","","","","","","","","","","","","","","","","","","","","","","","","","","","","","","","","","","","","","","","","","","","","","","","","","","","","","","","","","","","","","","","","","","","","","","","","","","","","","","","","","","","","","","","","","","","","","","","","","","","","","","","","","","","","","","","","","","","","","","","","","","","","","","","","","","","","","","","","","","","","","","","","","","","","","","","","","","","","","","","","","","","","","","","","","","","","","","","","","","","","","","","","","","","","","","","","","","","","","","","","","","","","","","","","","","","","","","","","","","","","","","","","","","","","","","","","","","","","","","","","","","","","","","","","","","","","","","","","","","","","","","","","","","","","","","","","","","","","","","","","","","","","","","","","","","","","","","","","","","","","","","","","","","","","","","","","","","","","","","","","","","","","","","","","","","","","","","","","","","","","","","","","","","","","","","","","","","","","","","","","","","","","","","","","","","","","","","","","","","","","","","","","","","","","","","","","","","","","","","","","","","","","","","","","","","","","","","","","","","","","","","","","","","","","","","","","","","","","","","","","","","","","","","","","","","","","","","","","","","","","","","","","","","","","","","","","","","","","","","","","","","","","","","","","","","","","","","","","","","","","","","","","","","","","","","","","","","","","","","","","","","","","","","","","","","","","","","","","","","","","","","","","","","","","","","","","","","","","","","","","","","","","","","","","","","","","","","","","","","","","","","","","","","","","","","","","","","","","","","","","","","","","","","","","","","","","","","","","","","","","","","","","","","","","","","","","","","","","","","","","","","","","","","","","","","","","","","","","","","","","","","","","","","","","","","","","","","","","","","","","","","","","","","","","","","","","","","","","","","","","","","","","","","","","","","","","","","","","","","","","","","","","","","","","","","","","","","","","","","","","","","","","","","","","","","","","","","","","","","","","","","","","","","","","","","","","","","","","","","","","","","","","","","","","","","","","","","","","","","","","","","","","","","","","","","","","","","","","","","","","","","","","","","","","","","","","","","","","","","","","","","","","","","","","","","","","","","","","","","","","","","","","","","","","","","","","","","","","","","","","","","","","","","","","","","","","","","","","","","","","","","","","","","","","","","","","","","","","","","","","","","","","","","","","","","","","","","","","","","","","","","","","","","","","","","","","","","","","","","","","","","","","","","","","","","","","","","","","","","","","","","","","","","","","","","","","","","","","","","","","","","","","","","","","","","","","","","","","","","","","","","","","","","","","","","","","","","","","","","","","","","","","","","","","","","","","","","","","","","","","","","","","","","","","","","","","","","","","","","","","","","","","","","","","","","","","","","","","","","","","","","","","","","","","","","","","","","","","","","","","","","","","","","","","","","","","","","","","","","","","","","","","","","","","","","","","","","","","","","","","","","","","","","","","","","","","","","","","","","","","","","","","","","","","","","","","","","","","","","","","","","","","","","","","","","","","","","","","","","","","","","","","","","","","","","","","","","","","","","","","","","","","","","","","","","","","","","","","","","","","","","","","","","","","","","","","","","","","","","","","","","","","","","","","","","","","","","","","","","","","","","","","","","","","","","","","","","","","","","","","","","","","","","","","","","","","","","","","","","","","","","","","","","","","","","","","","","","","","","","","","","","","","","","","","","","","","","","","","","","","","","","","","","","","","","","","","","","","","","","","","","","","","","","","","","","","","","","","","","","","","","","","","","","","","","","","","","","","","","","","","","","","","","","","","","","","","","","","","","","","","","","","","","","","","","","","","","","","","","","","","","","","","","","","","","","","","","","","","","","","","","","","","","","","","","","","","","","","","","","","","","","","","","","","","","","","","","","","","","","","","","","","","","","","","","","","","","","","","","","","","","","","","","","","","","","","","","","","","","","","","","","","","","","","","","","","","","","","","","","","","","","","","","","","","","","","","","","","","","","","","","","","","","","","","","","","","","","","","","","","","","","","","","","","","","","","","","","","","","","","","","","","","","","","","","","","","","","","","","","","","","","","","","","","","","","","","","","","","","","","","","","","","","","","","","","","","","","","","","","","","","","","","","","","","","","","","","","","","","","","","","","","","","","","","","","","","","","","","","","","","","","","","","","","","","","","","","","","","","","","","","","","","","","","","","","","","","","","","","","","","","","","","","","","","","","","","","","","","","","","","","","","","","","","","","","","","","","","","","","","","","","","","","","","","","","","","","","","","","","","","","","","","","","","","","","","","","","","","","","","","","","","","","","","","","","","","","","","","","","","","","","","","","","","","","","","","","","","","","","","","","","","","","","","","","","","","","","","","","","","","","","","","","","","","","","","","","","","","","","","","","","","","","","","","","","","","","","","","","","","","","","","","","","","","","","","","","","","","","","","","","","","","","","","","","","","","","","","","","","","","","","","","","","","","","","","","","","","","","","","","","","","","","","","","","","","","","","","","","","","","","","","","","","","","","","","","","","","","","","","","","","","","","","","","","","","","","","","","","","","","","","","","","","","","","","","","","","","","","","","","","","","","","","","","","","","","","","","","","","","","","","","","","","","","","","","","","","","","","","","","","","","","","","","","","","","","","","","","","","","","","","","","","","","","","","","","","","","","","","","","","","","","","","","","","","","","","","","","","","","","","","","","","","","","","","","","","","","","","","","","","","","","","","","","","","","","","","","","","","","","","","","","","","","","","","","","","","","","","","","","","","","","","","","","","","","","","","","","","","","","","","","","","","","","","","","","","","","","","","","","","","","","","","","","","","","","","","","","","","","","","","","","","","","","","","","","","","","","","","","","","","","","","","","","","","","","","","","","","","","","","","","","","","","","","","","","","","","","","","","","","","","","","","","","","","","","","","","","","","","","","","","","","","","","","","","","","","","","","","","","","","","","","","","","","","","","","","","","","","","","","","","","","","","","","","","","","","","","","","","","","","","","","","","","","","","","","","","","","","","","","","","","","","","","","","","","","","","","","","","","","","","","","","","","","","","","","","","","","","","","","","","","","","","","","","","","","","","","","","","","","","","","","","","","","","","","","","","","","","","","","","","","","","","","","","","","","","","","","","","","","","","","","","","","","","","","","","","","","","","","","","","","","","","","","","","","","","","","","","","","","","","","","","","","","","","","","","","","","","","","","","","","","","","","","","","","","","","","","","","","","","","","","","","","","","","","","","","","","","","","","","","","","","","","","","","","","","","","","","","","","","","","","","","","","","","","","","","","","","","","","","","","","","","","","","","","","","","","","","","","","","","","","","","","","","","","","","","","","","","","","","","","","","","","","","","","","","","","","","","","","","","","","","","","","","","","","","","","","","","","","","","","","","","","","","","","","","","","","","","","","","","","","","","","","","","","","","","","","","","","","","","","","","","","","","","","","","","","","","","","","","","","","","","","","","","","","","","","","","","","","","","","","","","","","","","","","","","","","","","","","","","","","","","","","","","","","","","","","","","","","","","","","","","","","","","","","","","","","","","","","","","","","","","","","","","","","","","","","","","","","","","","","","","","","","","","","","","","","","","","","","","","","","","","","","","","","","","","","","","","","","","","","","","","","","","","","","","","","","","","","","","","","","","","","","","","","","","","","","","","","","","","","","","","","","","","","","","","","","","","","","","","","","","","","","","","","","","","","","","","","","","","","","","","","","","","","","","","","","","","","","","","","","","","","","","","","","","","","","","","","","","","","","","","","","","","","","","","","","","","","","","","","","","","","","","","","","","","","","","","","","","","","","","","","","","","","","","","","","","","","","","","","","","","","","","","","","","","","","","","","","","","","","","","","","","","","","","","","","","","","","","","","","","","","","","","","","","","","","","","","","","","","","","","","","","","","","","","","","","","","","","","","","","","","","","","","","","","","","","","","","","","","","","","","","","","","","","","","","","","","","","","","","","","","","","","","","","","","","","","","","","","","","","","","","","","","","","","","","","","","","","","","","","","","","","","","","","","","","","","","","","","","","","","","","","","","","","","","","","","","","","","","","","","","","","","","","","","","","","","","","","","","","","","","","","","","","","","","","","","","","","","","","","","","","","","","","","","","","","","","","","","","","","","","","","","","","","","","","","","","","","","","","","","","","","","","","","","","","","","","","","","","","","","","","","","","","","","","","","","","","","","","","","","","","","","","","","","","","","","","","","","","","","","","","","","","","","","","","","","","","","","","","","","","","","","","","","","","","","","","","","","","","","","","","","","","","","","","","","","","","","","","","","","","","","","","","","","","","","","","","","","","","","","","","","","","","","","","","","","","","","","","","","","","","","","","","","","","","","","","","","","","","","","","","","","","","","","","","","","","","","","","","","","","","","","","","","","","","","","","","","","","","","","","","","","","","","","","","","","","","","","","","","","","","","","","","","","","","","","","","","","","","","","","","","","","","","","","","","","","","","","","","","","","","","","","","","","","","","","","","","","","","","","","","","","","","","","","","","","","","","","","","","","","","","","","","","","","","","","","","","","","","","","","","","","","","","","","","","","","","","","","","","","","","","","","","","","","","","","","","","","","","","","","","","","","","","","","","","","","","","","","","","","","","","","","","","","","","","","","","","","","","","","","","","","","","","","","","","","","","","","","","","","","","","","","","","","","","","","","","","","","","","","","","","","","","","","","","","","","","","","","","","","","","","","","","","","","","","","","","","","","","","","","","","","","","","","","","","","","","","","","","","","","","","","","","","","","","","","","","","","","","","","","","","","","","","","","","","","","","","","","","","","","","","","","","","","","","","","","","","","","","","","","","","","","","","","","","","","","","","","","","","","","","","","","","","","","","","","","","","","","","","","","","","","","","","","","","","","","","","","","","","","","","","","","","","","","","","","","","","","","","","","","","","","","","","","","","","","","","","","","","","","","","","","","","","","","","","","","","","","","","","","","","","","","","","","","","","","","","","","","","","","","","","","","","","","","","","",""]
[null,null,null,null,null,null,"","","","","","","","","","","","","","","","","","","","","","","","","","","","","","","","","","","","","","","","","","","","","","","","","","","","","","","","","","","","","","","","","","","","","","","","","","","","","","","","","","","","","","","","","","","","","","","","","","","","","","","","","","","","","","","","","","","","","","","","","","","","","","","","","","","","","","","","","","","","","","","","","","","","","","","","","","","","","","","","","","","","","","","","","","","","","","","","","","","","","","","","","","","","","","","","","","","","","","","","","","","","","","","","","","","","","","","","","","","","","","","","","","","","","","","","","","","","","","","","","","","","","","","","","","","","","","","","","","","","","","","","","","","","","","","","","","","","","","","","","","","","","","","","","","","","","","","","","","","","","","","","","","","","","","","","","","","","","","","","","","","","","","","","","","","","","","","","","","","","","","","","","","","","","","","","","","","","","","","","","","","","","","","","","","","","","","","","","","","","","","","","","","","","","","","","","","","","","","","","","","","","","","","","","","","","","","","","","","","","","","","","","","","","","","","","","","","","","","","","","","","","","","","","","","","","","","","","","","","","","","","","","","","","","","","","","","","","","","","","","","","","","","","","","","","","","","","","","","","","","","","","","","","","","","","","","","","","","","","","","","","","","","","","","","","","","","","","","","","","","","","","","","","","","","","","","","","","","","","","","","","","","","","","","","","","","","","","","","","","","","","","","","","","","","","","","","","","","","","","","","","","","","","","","","","","","","","","","","","","","","","","","","","","","","","","","","","","","","","","","","","","","","","","","","","","","","","","","","","","","","","","","","","","","","","","","","","","","","","","","","","","","","","","","","","","","","","","","","","","","","","","","","","","","","","","","","","","","","","","","","","","","","","","","","","","","","","","","","","","","","","","","","","","","","","","","","","","","","","","","","","","","","","","","","","","","","","","","","","","","","","","","","","","","","","","","","","","","","","","","","","","","","","","","","","","","","","","","","","","","","","","","","","","","","","","","","","","","","","","","","","","","","","","","","","","","","","","","","","","","","","","","","","","","","","","","","","","","","","","","","","","","","","","","","","","","","","","","","","","","","","","","","","","","","","","","","","","","","","","","","","","","","","","","","","","","","","","","","","","","","","","","","","","","","","","","","","","","","","","","","","","","","","","","","","","","","","","","","","","","","","","","","","","","","","","","","","","","","","","","","","","","","","","","","","","","","","","","","","","","","","","","","","","","","","","","","","","","","","","","","","","","","","","","","","","","","","","","","","","","","","","","","","","","","","","","","","","","","","","","","","","","","","","","","","","","","","","","","","","","","","","","","","","","","","","","","","","","","","","","","","","","","","","","","","","","","","","","","","","","","","","","","","","","","","","","","","","","","","","","","","","","","","","","","","","","","","","","","","","","","","","","","","","","","","","","","","","","","","","","","","","","","","","","","","","","","","","","","","","","","","","","","","","","","","","","","","","","","","","","","","","","","","","","","","","","","","","","","","","","","","","","","","","","","","","","","","","","","","","","","","","","","","","","","","","","","","","","","","","","","","","","","","","","","","","","","","","","","","","","","","","","","","","","","","","","","","","","","","","","","","","","","","","","","","","","","","","","","","","","","","","","","","","","","","","","","","","","","","","","","","","","","","","","","","","","","","","","","","","","","","","","","","","","","","","","","","","","","","","","","","","","","","","","","","","","","","","","","","","","","","","","","","","","","","","","","","","","","","","","","","","","","","","","","","","","","","","","","","","","","","","","","","","","","","","","","","","","","","","","","","","","","","","","","","","","","","","","","","","","","","","","","","","","","","","","","","","","","","","","","","","","","","","","","","","","","","","","","","","","","","","","","","","","","","","","","","","","","","","","","","","","","","","","","","","","","","","","","","","","","","","","","","","","","","","","","","","","","","","","","","","","","","","","","","","","","","","","","","","","","","","","","","","","","","","","","","","","","","","","","","","","","","","","","","","","","","","","","","","","","","","","","","","","","","","","","","","","","","","","","","","","","","","","","","","","","","","","","","","","","","","","","","","","","","","","","","","","","","","","","","","","","","","","","","","","","","","","","","","","","","","","","","","","","","","","","","","","","","","","","","","","","","","","","","","","","","","","","","","","","","","","","","","","","","","","","","","","","","","","","","","","","","","","","","","","","","","","","","","","","","","","","","","","","","","","","","","","","","","","","","","","","","","","","","","","","","","","","","","","","","","","","","","","","","","","","","","","","","","","","","","","","","","","","","","","","","","","","","","","","","","","","","","","","","","","","","","","","","","","","","","","","","","","","","","","","","","","","","","","","","","","","","","","","","","","","","","","","","","","","","","","","","","","","","","","","","","","","","","","","","","","","","","","","","","","","","","","","","","","","","","","","","","","","","","","","","","","","","","","","","","","","","","","","","","","","","","","","","","","","","","","","","","","","","","","","","","","","","","","","","","","","","","","","","","","","","","","","","","","","","","","","","","","","","","","","","","","","","","","","","","","","","","","","","","","","","","","","","","","","","","","","","","","","","","","","","","","","","","","","","","","","","","","","","","","","","","","","","","","","","","","","","","","","","","","","","","","","","","","","","","","","","","","","","","","","","","","","","","","","","","","","","","","","","","","","","","","","","","","","","","","","","","","","","","","","","","","","","","","","","","","","","","","","","","","","","","","","","","","","","","","","","","","","","","","","","","","","","","","","","","","","","","","","","","","","","","","","","","","","","","","","","","","","","","","","","","","","","","","","","","","","","","","","","","","","","","","","","","","","","","","","","","","","","","","","","","","","","","","","","","","","","","","","","","","","","","","","","","","","","","","","","","","","","","","","","","","","","","","","","","","","","","","","","","","","","","","","","","","","","","","","","","","","","","","","","","","","","","","","","","","","","","","","","","","","","","","","","","","","","","","","","","","","","","","","","","","","","","","","","","","","","","","","","","","","","","","","","","","","","","","","","","","","","","","","","","","","","","","","","","","","","","","","","","","","","","","","","","","","","","","","","","","","","","","","","","","","","","","","","","","","","","","","","","","","","","","","","","","","","","","","","","","","","","","","","","","","","","","","","","","","","","","","","","","","","","","","","","","","","","","","","","","","","","","","","","","","","","","","","","","","","","","","","","","","","","","","","","","","","","","","","","","","","","","","","","","","","","","","","","","","","","","","","","","","","","","","","","","","","","","","","","","","","","","","","","","","","","","","","","","","","","","","","","","","","","","","","","","","","","","","","","","","","","","","","","","","","","","","","","","","","","","","","","","","","","","","","","","","","","","","","","","","","","","","","","","","","","","","","","","","","","","","","","","","","","","","","","","","","","","","","","","","","","","","","","","","","","","","","","","","","","","","","","","","","","","","","","","","","","","","","","","","","","","","","","","","","","","","","","","","","","","","","","","","","","","","","","","","","","","","","","","","","","","","","","","","","","","","","","","","","","","","","","","","","","","","","","","","","","","","","","","","","","","","","","","","","","","","","","","","","","","","","","","","","","","","","","","","","","","","","","","","","","","","","","","","","","","","","","","","","","","","","","","","","","","","","","","","","","","","","","","","","","","","","","","","","","","","","","","","","","","","","","","","","","","","","","","","","","","","","","","","","","","","","","","","","","","","","","","","","","","","","","","","","","","","","","","","","","","","","","","","","","","","","","","","","","","","","","","","","","","","","","","","","","","","","","","","","","","","","","","","","","","","","","","","","","","","","","","","","","","","","","","","","","","","","","","","","","","","","","","","","","","","","","","","","","","","","","","","","","","","","","","","","","","","","","","","","","","","","","","","","","","","","","","","","","","","","","","","","","","","","","","","","","","","","","","","","","","","","","","","","","","","","","","","","","","","","","","","","","","","","","","","","","","","","","","","","","","","","","","","","","","","","","","","","","","","","","","","","","","","","","","","","","","","","","","","","","","","","","","","","","","","","","","","","","","","","","","","","","","","","","","","","","","","","","","","","","","","","","","","","","","","","","","","","","","","","","","","","","","","","","","","","","","","","","","","","","","","","","","","","","","","","","","","","","","","","","","","","","","","","","","","","","","","","","","","","","","","","","","","","","","","","","","","","","","","","","","","","","","","","","","","","","","","","","","","","","","","","","","","","","","","","","","","","","","","","","","","","","","","","","","","","","","","","","","","","","","","","","","","","","","","","","","","","","","","","","","","","","","","","","","","","","","","","","","","","","","","","","","","","","","","","","","","","","","","","","","","","","","","","","","","","","","","","","","","","","","","","","","","","","","","","","","","","","","","","","","","","","","","","","","","","","","","","","","","","","","","","","","","","","","","","","","","","","","","","","","","","","","","","","","","","","","","","","","","","","","","","","","","","","","","","","","","","","","","","","","","","","","","","","","","","","","","","","","","","","","","","","","","","","","","","","","","","","","","","","","","","","","","","","","","","","","","","","","","","","","","","","","","","","","","","","","","","","","","","","","","","","","","","","","","","","","","","","","","","","","","","","","","","","","","","","","","","","","","","","","","","","","","","","","","","","","","","","","","","","","","","","","","","","","","","","","","","","","","","","","","","","","","","","","","","","","","","","","","","","","","","","","","","","","","","","","","","","","","","","","","","","","","","","","","","","","","","","","","","","","","","","","","","","","","","","","","","","","","","","","","","","","","","","","","","","","","","","","","","","","","","","","","","","","","","","","","","","","","","","","","","","","","","","","","","","","","","","","","","","","","","","","","","","","","","","","","","","","","","","","","","","","","","","","","","","","","","","","","","","","","","","","","","","","","","","","","","","","","","","","","","","","","","","","","","","","","","","","","","","","","","","","","","","","","","","","","","","","","","","","","","","","","","","","","","","","","","","","","","","","","","","","","","","","","","","","","","","","","","","","","","","","","","","","","","","","","","","","","","","","","","","","","","","","","","","","","","","","","","","","","","","","","","","","","","","","","","","","","","","","","","","","","","","","","","","","","","","","","","","","","","","","","","","","","","","","","","","","","","","","","","","","","","","","","","","","","","","","","","","","","","","","","","","","","","","","","","","","","","","","","","","","","","","","","","","","","","","","","","","","","","","","","","","","","","","","","","","","","","","","","","","","","","","","","","","","","","","","","","","","","","","","","","","","","","","","","","","","","","","","","","","","","","","","","","","","","","","","","","","","","","","","","","","","","","","","","","","","","","","","","","","","","","","","","","","","","","","","","","","","","","","","","","","","","","","","","","","","","","","","","","","","","","","","","","","","","","","","","","","","","","","","","","","","","","","","","","","","","","","","","","","","","","","","","","","","","","","","","","","","","","","","","","","","","","","","","","","","","","","","","","","","","","","","","","","","","","","","","","","","","","","","","","","","","","","","","","","","","","","","","","","","","","","","","","","","","","","","","","","","","","","","","","","","","","","","","","","","","","","","","","","","","","","","","","","","","","","","","","","","","","","","","","","","","","","","","","","","","","","","","","","","","","","","","","","","","","","","","","","","","","","","","","","","","","","","","","","","","","","","","","","","","","","","","","","","","","","","","","","","","","","","","","","","","","","","","","","","","","","","","","","","","","","","","","","","","","","","","","","","","","","","","","","","","","","","","","","","","","","","","","","","","","","","","","","","","","","","","","","","","","","","","","","","","","","","","","","","","","","","","","","","","","","","","","","","","","","","","","","","","","","","","","","","","","","","","","","","","","","","","","","","","","","","","","","","","","","","","","","","","","","","","","","","","","","","","","","","","","","","","","","","","","","","","","","","","","","","","","","","","","","","","","","","","","","","","","","","","","","","","","","","","","","","","","","","","","","","","","","","","","","","","","","","","","","","","","",""]
[null,null,null,null,null,null,"","","","","","","","","","","","","","","","","","","","","","","","","","","","","","","","","","","","","","","","","","","","","","","","","","","","","","","","","","","","","","","","","","","","","","","","","","","","","","","","","","","","","","","","","","","","","","","","","","","","","","","","","","","","","","","","","","","","","","","","","","","","","","","","","","","","","","","","","","","","","","","","","","","","","","","","","","","","","","","","","","","","","","","","","","","","","","","","","","","","","","","","","","","","","","","","","","","","","","","","","","","","","","","","","","","","","","","","","","","","","","","","","","","","","","","","","","","","","","","","","","","","","","","","","","","","","","","","","","","","","","","","","","","","","","","","","","","","","","","","","","","","","","","","","","","","","","","","","","","","","","","","","","","","","","","","","","","","","","","","","","","","","","","","","","","","","","","","","","","","","","","","","","","","","","","","","","","","","","","","","","","","","","","","","","","","","","","","","","","","","","","","","","","","","","","","","","","","","","","","","","","","","","","","","","","","","","","","","","","","","","","","","","","","","","","","","","","","","","","","","","","","","","","","","","","","","","","","","","","","","","","","","","","","","","","","","","","","","","","","","","","","","","","","","","","","","","","","","","","","","","","","","","","","","","","","","","","","","","","","","","","","","","","","","","","","","","","","","","","","","","","","","","","","","","","","","","","","","","","","","","","","","","","","","","","","","","","","","","","","","","","","","","","","","","","","","","","","","","","","","","","","","","","","","","","","","","","","","","","","","","","","","","","","","","","","","","","","","","","","","","","","","","","","","","","","","","","","","","","","","","","","","","","","","","","","","","","","","","","","","","","","","","","","","","","","","","","","","","","","","","","","","","","","","","","","","","","","","","","","","","","","","","","","","","","","","","","","","","","","","","","","","","","","","","","","","","","","","","","","","","","","","","","","","","","","","","","","","","","","","","","","","","","","","","","","","","","","","","","","","","","","","","","","","","","","","","","","","","","","","","","","","","","","","","","","","","","","","","","","","","","","","","","","","","","","","","","","","","","","","","","","","","","","","","","","","","","","","","","","","","","","","","","","","","","","","","","","","","","","","","","","","","","","","","","","","","","","","","","","","","","","","","","","","","","","","","","","","","","","","","","","","","","","","","","","","","","","","","","","","","","","","","","","","","","","","","","","","","","","","","","","","","","","","","","","","","","","","","","","","","","","","","","","","","","","","","","","","","","","","","","","","","","","","","","","","","","","","","","","","","","","","","","","","","","","","","","","","","","","","","","","","","","","","","","","","","","","","","","","","","","","","","","","","","","","","","","","","","","","","","","","","","","","","","","","","","","","","","","","","","","","","","","","","","","","","","","","","","","","","","","","","","","","","","","","","","","","","","","","","","","","","","","","","","","","","","","","","","","","","","","","","","","","","","","","","","","","","","","","","","","","","","","","","","","","","","","","","","","","","","","","","","","","","","","","","","","","","","","","","","","","","","","","","","","","","","","","","","","","","","","","","","","","","","","","","","","","","","","","","","","","","","","","","","","","","","","","","","","","","","","","","","","","","","","","","","","","","","","","","","","","","","","","","","","","","","","","","","","","","","","","","","","","","","","","","","","","","","","","","","","","","","","","","","","","","","","","","","","","","","","","","","","","","","","","","","","","","","","","","","","","","","","","","","","","","","","","","","","","","","","","","","","","","","","","","","","","","","","","","","","","","","","","","","","","","","","","","","","","","","","","","","","","","","","","","","","","","","","","","","","","","","","","","","","","","","","","","","","","","","","","","","","","","","","","","","","","","","","","","","","","","","","","","","","","","","","","","","","","","","","","","","","","","","","","","","","","","","","","","","","","","","","","","","","","","","","","","","","","","","","","","","","","","","","","","","","","","","","","","","","","","","","","","","","","","","","","","","","","","","","","","","","","","","","","","","","","","","","","","","","","","","","","","","","","","","","","","","","","","","","","","","","","","","","","","","","","","","","","","","","","","","","","","","","","","","","","","","","","","","","","","","","","","","","","","","","","","","","","","","","","","","","","","","","","","","","","","","","","","","","","","","","","","","","","","","","","","","","","","","","","","","","","","","","","","","","","","","","","","","","","","","","","","","","","","","","","","","","","","","","","","","","","","","","","","","","","","","","","","","","","","","","","","","","","","","","","","","","","","","","","","","","","","","","","","","","","","","","","","","","","","","","","","","","","","","","","","","","","","","","","","","","","","","","","","","","","","","","","","","","","","","","","","","","","","","","","","","","","","","","","","","","","","","","","","","","","","","","","","","","","","","","","","","","","","","","","","","","","","","","","","","","","","","","","","","","","","","","","","","","","","","","","","","","","","","","","","","","","","","","","","","","","","","","","","","","","","","","","","","","","","","","","","","","","","","","","","","","","","","","","","","","","","","","","","","","","","","","","","","","","","","","","","","","","","","","","","","","","","","","","","","","","","","","","","","","","","","","","","","","","","","","","","","","","","","","","","","","","","","","","","","","","","","","","","","","","","","","","","","","","","","","","","","","","","","","","","","","","","","","","","","","","","","","","","","","","","","","","","","","","","","","","","","","","","","","","","","","","","","","","","","","","","","","","","","","","","","","","","","","","","","","","","","","","","","","","","","","","","","","","","","","","","","","","","","","","","","","","","","","","","","","","","","","","","","","","","","","","","","","","","","","","","","","","","","","","","","","","","","","","","","","","","","","","","","","","","","","","","","","","","","","","","","","","","","","","","","","","","","","","","","","","","","","","","","","","","","","","","","","","","","","","","","","","","","","","","","","","","","","","","","","","","","","","","","","","","","","","","","","","","","","","","","","","","","","","","","","","","","","","","","","","","","","","","","","","","","","","","","","","","","","","","","","","","","","","","","","","","","","","","","","","","","","","","","","","","","","","","","","","","","","","","","","","","","","","","","","","","","","","","","","","","","","","","","","","","","","","","","","","","","","","","","","","","","","","","","","","","","","","","","","","","","","","","","","","","","","","","","","","","","","","","","","","","","","","","","","","","","","","","","","","","","","","","","","","","","","","","","","","","","","","","","","","","","","","","","","","","","","","","","","","","","","","","","","","","","","","","","","","","","","","","","","","","","","","","","","","","","","","","","","","","","","","","","","","","","","","","","","","","","","","","","","","","","","","","","","","","","","","","","","","","","","","","","","","","","","","","","","","","","","","","","","","","","","","","","","","","","","","","","","","","","","","","","","","","","","","","","","","","","","","","","","","","","","","","","","","","","","","","","","","","","","","","","","","","","","","","","","","","","","","","","","","","","","","","","","","","","","","","","","","","","","","","","","","","","","","","","","","","","","","","","","","","","","","","","","","","","","","","","","","","","","","","","","","","","","","","","","","","","","","","","","","","","","","","","","","","","","","","","","","","","","","","","","","","","","","","","","","","","","","","","","","","","","","","","","","","","","","","","","","","","","","","","","","","","","","","","","","","","","","","","","","","","","","","","","","","","","","","","","","","","","","","","","","","","","","","","","","","","","","","","","","","","","","","","","","","","","","","","","","","","","","","","","","","","","","","","","","","","","","","","","","","","","","","","","","","","","","","","","","","","","","","","","","","","","","","","","","","","","","","","","","","","","","","","","","","","","","","","","","","","","","","","","","","","","","","","","","","","","","","","","","","","","","","","","","","","","","","","","","","","","","","","","","","","","","","","","","","","","","","","","","","","","","","","","","","","","","","","","","","","","","","","","","","","","","","","","","","","","","","","","","","","","","","","","","","","","","","","","","","","","","","","","","","","","","","","","","","","","","","","","","","","","","","","","","","","","","","","","","","","","","","","","","","","","","","","","","","","","","","","","","","","","","","","","","","","","","","","","","","","","","","","","","","","","","","","","","","","","","","","","","","","","","","","","","","","","","","","","","","","","","","","","","","","","","","","","","","","","","","","","","","","","","","","","","","","","","","","","","","","","","","","","","","","","","","","","","","","","","","","","","","","","","","","","","","","","","","","","","","","","","","","","","","","","","","","","","","","","","","","","","","","","","","","","","","","","","","","","","","","","","","","","","","","","","","","","","","","","","","","","","","","","","","","","","","","","","","","","","","","","","","","","","","","","","","","","","","","","","","","","","","","","","","","","","","","","","","","","","","","","","","","","","","","","","","","","","","","","","","","","","","","","","","","","","","","","","","","","","","","","","","","","","","","","","","","","","","","","","","","","","","","","","","","","","","","","","","","","","","","","","","","","","","","","","","","","","","","","","","","","","","","","","","","","","","","","","","","","","","","","","","","","","","","","","","","","","","","","","","","","","","","","","","","","","","","","","","","","","","","","","","","","","","","","","","","","","","","","","","","","","","","","","","","","","","","","","","","","","","","","","","","","","","","","","","","","","","","","","","","","","","","","","","","","","","","","","","","","","","","","","","","","","","","","","","","","","","","","","","","","","","","","","","","","","","","","","","","","","","","","","","","","","","","","","","","","","","","","","","","","","","","","","","","","","","","","","","","","","","","","","","","","","","","","","","","","","","","","","","","","","","","","","","","","","","","","","","","","","","","","","","","","","","","","","","","","","","","","","","","","","","","","","","","","","","","","","","","","","","","","","","","","","","","","","","","","","","","","","","","","","","","","","","","","","","","","","","","","","","","","","","","","","","","","","","","","","","","","","","","","","","","","","","","","","","","","","","","","","","","","","","","","","","","","","","","","","","","","","","","","","","","","","","","","","","","","","","","","","","","","","","","","","","","","","","","","","","","","","","","","","","","","","","","","","","","","","","","","","","","","","","","","","","","","","","","","","","","","","","","","","","","","","","","","","","","","","","","","","","","","","","","","","","","","","","","","","","","","","","","","","","","","","","","","","","","","","","","","","","","","","","","","","","","","","","","","","","","","","","","","","","","","","","","","","","","","","","","","","","","","","","","","","","","","","","","","","","","","","","","","","","","","","","","","","","","","","","","","","","","","","","","","","","","","","","","","","","","","","","","","","","","","","","","","","","","","","","","","","","","","","","","","","","","","","","","","","","","","","","","","","","","","","","","","","","","","","","","","","","","","","","","","","","","","","","","","","","","","","","","","","","","","","","","","","","","","","","","","","","","","","","","","","","","","","","","","","","","","","","","","","","","","","","","","","","","","","","","","","","","","","","","","","","","","","","","","","","","","","","","","","","","","","","","","","","","","","","","","","","","","","","","","","","","","","","","","","","","","","","","","","","","","","","","","","","","","","","","","","","","","","","","","","","","","","","","","","","","","","","","","","","","","","","","","","","","","","","","","","","","","","","","","","","","","","","","","","","","","","","","","","","","","","","","","","","","","","","","","","","","","","","","","","","","","","","","","","","","","","","","","","","","","","","","","","","","","","","","","","","","","","","","","","","","","","","","","","","","","","","","","","","","","","","","","","","","","","","","","","","","","","","","","","","","","","","","","","","","","","","","","","","","","","","","","","","","","","","","","","","","","","","","","","","","","","","","","","","","","","","","","","","","","","","","","","","","","","","","","","","","","","","","","","","","","","","","","","","","","","","","","","","","","","","","","","","","","","","","","","","","","","","","","","","","","","","","","","","","","","","","","","","","","","","","","","","","","","","","","","","","","","","","","","","","","","","","","","","","","","","","","","","","","","","","","","","","","","","","","","","","","","","","","","","","","","","","","","","","","","","","","","","","","","","","","","","","","","","","","","","","","","","","","","","","","","","","","","","","","","","","","","","","","","","","","","","","","","","","","","","","","","","","","","","","","","","","","","","","","","","","","","","","","","","","","","","","","","","","","","","","","","","","","","","","","",""]
[null,null,null,null,null,null,"","","","","","","","","","","","","","","","","","","","","","","","","","","","","","","","","","","","","","","","","","","","","","","","","","","","","","","","","","","","","","","","","","","","","","","","","","","","","","","","","","","","","","","","","","","","","","","","","","","","","","","","","","","","","","","","","","","","","","","","","","","","","","","","","","","","","","","","","","","","","","","","","","","","","","","","","","","","","","","","","","","","","","","","","","","","","","","","","","","","","","","","","","","","","","","","","","","","","","","","","","","","","","","","","","","","","","","","","","","","","","","","","","","","","","","","","","","","","","","","","","","","","","","","","","","","","","","","","","","","","","","","","","","","","","","","","","","","","","","","","","","","","","","","","","","","","","","","","","","","","","","","","","","","","","","","","","","","","","","","","","","","","","","","","","","","","","","","","","","","","","","","","","","","","","","","","","","","","","","","","","","","","","","","","","","","","","","","","","","","","","","","","","","","","","","","","","","","","","","","","","","","","","","","","","","","","","","","","","","","","","","","","","","","","","","","","","","","","","","","","","","","","","","","","","","","","","","","","","","","","","","","","","","","","","","","","","","","","","","","","","","","","","","","","","","","","","","","","","","","","","","","","","","","","","","","","","","","","","","","","","","","","","","","","","","","","","","","","","","","","","","","","","","","","","","","","","","","","","","","","","","","","","","","","","","","","","","","","","","","","","","","","","","","","","","","","","","","","","","","","","","","","","","","","","","","","","","","","","","","","","","","","","","","","","","","","","","","","","","","","","","","","","","","","","","","","","","","","","","","","","","","","","","","","","","","","","","","","","","","","","","","","","","","","","","","","","","","","","","","","","","","","","","","","","","","","","","","","","","","","","","","","","","","","","","","","","","","","","","","","","","","","","","","","","","","","","","","","","","","","","","","","","","","","","","","","","","","","","","","","","","","","","","","","","","","","","","","","","","","","","","","","","","","","","","","","","","","","","","","","","","","","","","","","","","","","","","","","","","","","","","","","","","","","","","","","","","","","","","","","","","","","","","","","","","","","","","","","","","","","","","","","","","","","","","","","","","","","","","","","","","","","","","","","","","","","","","","","","","","","","","","","","","","","","","","","","","","","","","","","","","","","","","","","","","","","","","","","","","","","","","","","","","","","","","","","","","","","","","","","","","","","","","","","","","","","","","","","","","","","","","","","","","","","","","","","","","","","","","","","","","","","","","","","","","","","","","","","","","","","","","","","","","","","","","","","","","","","","","","","","","","","","","","","","","","","","","","","","","","","","","","","","","","","","","","","","","","","","","","","","","","","","","","","","","","","","","","","","","","","","","","","","","","","","","","","","","","","","","","","","","","","","","","","","","","","","","","","","","","","","","","","","","","","","","","","","","","","","","","","","","","","","","","","","","","","","","","","","","","","","","","","","","","","","","","","","","","","","","","","","","","","","","","","","","","","","","","","","","","","","","","","","","","","","","","","","","","","","","","","","","","","","","","","","","","","","","","","","","","","","","","","","","","","","","","","","","","","","","","","","","","","","","","","","","","","","","","","","","","","","","","","","","","","","","","","","","","","","","","","","","","","","","","","","","","","","","","","","","","","","","","","","","","","","","","","","","","","","","","","","","","","","","","","","","","","","","","","","","","","","","","","","","","","","","","","","","","","","","","","","","","","","","","","","","","","","","","","","","","","","","","","","","","","","","","","","","","","","","","","","","","","","","","","","","","","","","","","","","","","","","","","","","","","","","","","","","","","","","","","","","","","","","","","","","","","","","","","","","","","","","","","","","","","","","","","","","","","","","","","","","","","","","","","","","","","","","","","","","","","","","","","","","","","","","","","","","","","","","","","","","","","","","","","","","","","","","","","","","","","","","","","","","","","","","","","","","","","","","","","","","","","","","","","","","","","","","","","","","","","","","","","","","","","","","","","","","","","","","","","","","","","","","","","","","","","","","","","","","","","","","","","","","","","","","","","","","","","","","","","","","","","","","","","","","","","","","","","","","","","","","","","","","","","","","","","","","","","","","","","","","","","","","","","","","","","","","","","","","","","","","","","","","","","","","","","","","","","","","","","","","","","","","","","","","","","","","","","","","","","","","","","","","","","","","","","","","","","","","","","","","","","","","","","","","","","","","","","","","","","","","","","","","","","","","","","","","","","","","","","","","","","","","","","","","","","","","","","","","","","","","","","","","","","","","","","","","","","","","","","","","","","","","","","","","","","","","","","","","","","","","","","","","","","","","","","","","","","","","","","","","","","","","","","","","","","","","","","","","","","","","","","","","","","","","","","","","","","","","","","","","","","","","","","","","","","","","","","","","","","","","","","","","","","","","","","","","","","","","","","","","","","","","","","","","","","","","","","","","","","","","","","","","","","","","","","","","","","","","","","","","","","","","","","","","","","","","","","","","","","","","","","","","","","","","","","","","","","","","","","","","","","","","","","","","","","","","","","","","","","","","","","","","","","","","","","","","","","","","","","","","","","","","","","","","","","","","","","","","","","","","","","","","","","","","","","","","","","","","","","","","","","","","","","","","","","","","","","","","","","","","","","","","","","","","","","","","","","","","","","","","","","","","","","","","","","","","","","","","","","","","","","","","","","","","","","","","","","","","","","","","","","","","","","","","","","","","","","","","","","","","","","","","","","","","","","","","","","","","","","","","","","","","","","","","","","","","","","","","","","","","","","","","","","","","","","","","","","","","","","","","","","","","","","","","","","","","","","","","","","","","","","","","","","","","","","","","","","","","","","","","","","","","","","","","","","","","","","","","","","","","","","","","","","","","","","","","","","","","","","","","","","","","","","","","","","","","","","","","","","","","","","","","","","","","","","","","","","","","","","","","","","","","","","","","","","","","","","","","","","","","","","","","","","","","","","","","","","","","","","","","","","","","","","","","","","","","","","","","","","","","","","","","","","","","","","","","","","","","","","","","","","","","","","","","","","","","","","","","","","","","","","","","","","","","","","","","","","","","","","","","","","","","","","","","","","","","","","","","","","","","","","","","","","","","","","","","","","","","","","","","","","","","","","","","","","","","","","","","","","","","","","","","","","","","","","","","","","","","","","","","","","","","","","","","","","","","","","","","","","","","","","","","","","","","","","","","","","","","","","","","","","","","","","","","","","","","","","","","","","","","","","","","","","","","","","","","","","","","","","","","","","","","","","","","","","","","","","","","","","","","","","","","","","","","","","","","","","","","","","","","","","","","","","","","","","","","","","","","","","","","","","","","","","","","","","","","","","","","","","","","","","","","","","","","","","","","","","","","","","","","","","","","","","","","","","","","","","","","","","","","","","","","","","","","","","","","","","","","","","","","","","","","","","","","","","","","","","","","","","","","","","","","","","","","","","","","","","","","","","","","","","","","","","","","","","","","","","","","","","","","","","","","","","","","","","","","","","","","","","","","","","","","","","","","","","","","","","","","","","","","","","","","","","","","","","","","","","","","","","","","","","","","","","","","","","","","","","","","","","","","","","","","","","","","","","","","","","","","","","","","","","","","","","","","","","","","","","","","","","","","","","","","","","","","","","","","","","","","","","","","","","","","","","","","","","","","","","","","","","","","","","","","","","","","","","","","","","","","","","","","","","","","","","","","","","","","","","","","","","","","","","","","","","","","","","","","","","","","","","","","","","","","","","","","","","","","","","","","","","","","","","","","","","","","","","","","","","","","","","","","","","","","","","","","","","","","","","","","","","","","","","","","","","","","","","","","","","","","","","","","","","","","","","","","","","","","","","","","","","","","","","","","","","","","","","","","","","","","","","","","","","","","","","","","","","","","","","","","","","","","","","","","","","","","","","","","","","","","","","","","","","","","","","","","","","","","","","","","","","","","","","","","","","","","","","","","","","","","","","","","","","","","","","","","","","","","","","","","","","","","","","","","","","","","","","","","","","","","","","","","","","","","","","","","","","","","","","","","","","","","","","","","","","","","","","","","","","","","","","","","","","","","","","","","","","","","","","","","","","","","","","","","","","","","","","","","","","","","","","","","","","","","","","","","","","","","","","","","","","","","","","","","","","","","","","","","","","","","","","","","","","","","","","","","","","","","","","","","","","","","","","","","","","","","","","","","","","","","","","","","","","","","","","","","","","","","","","","","","","","","","","","","","","","","","","","","","","","","","","","","","","","","","","","","","","","","","","","","","","","","","","","","","","","","","","","","","","","","","","","","","","","","","","","","","","","","","","","","","","","","","","","","","","","","","","","","","","","","","","","","","","","","","","","","","","","","","","","","","","","","","","","","","","","","","","","","","","","","","","","","","","","","","","","","","","","","","","","","","","","","","","","","","","","","","","","","","","","","","","","","","","","","","","","","","","","","","","","","","","","","","","","","","","","","","","","","","","","","","","","","","","","","","","","","","","","","","","","","","","","","","","","","","","","","","","","","","","","","","","","","","","","","","","","","","","","","","","","","","","","","","","","","","","","","","","","","","","","","","","","","","","","","","","","","","","","","","","","","","","","","","","","","","","","","","","","","","","","","","","","","","","","","","","","","","","","","","","","","","","","","","","","","","","","","","","","","","","","","","","","","","","","","","","","","","","","","","","","","","","","","","","","","","","","","","","","","","","","","","","","","","","","","","","","","","","","","","","","","","","","","","","","","","","","","","","","","","","","","","","","","","","","","","","","","","","","","","","","","","","","","","","","","","","","","","","","","","","","","","","","","","","","","","","","","","","","","","","","","","","","","","","","","","","","","","","","","","","","","","","","","","","","","","","","","","","","","","","","","","","","","","","","","","","","","","","","","","","","","","","","","","","","","","","","","","","","","","","","","","","","","","","","","","","","","","","","","","","","","","","","","","","","","","","","","","","","","","","","","","","","","","","","","","","","","","","","","","","","","","","","","","","","","","","","","","","","","","","","","","","","","","","","","","","","","","","","","","","","","","","","","","","","","","","","","","","","","","","","","","","","","","","","","","","","","","","","","","","","","","","","","","","","","","","","","","","","","","","","","","","","","","","","","","","","","","","","","","","","","","","","","","","","","","","","","","","","","","","","","","","","","","","","","","","","","","","","","","","","","","","","","","","","","","","","","","","","","","","","","","","","","","","","","","","","","","","","","","","","","","","","","","","","","","","","","","","","","","","","","","","","","","","","","","","","","","","","","","","","","","","","","","","","","","","","","","","","","","","","","","","","","","","","","","","","","","","","","","","","","","","","","","","","","","","","","","","","","","","","","","","","","","","","","","","","","","","","","","","","","","","","","","","","","","","","","","","","","","","","","","","","","","","","","","","","","","","","","","","","","","","","","","","","","","","","","","","","","","","","","","","","","","","","","","","","","","","","","","","","","","","","","","","","","","","","","","","","","","","","","","","","","","","","","","","","","","","","","","","","","","","","","","","","","","","","","","","","","","","","","","","","","","","","","","","","","","","","","","","","","","","","","","","","","","","","","","","","","","","","","","","","","","","","","","","","","","","","","","","","","","","","","","","","","","","","","","","","","","","","","","","","","","","","","","","","","","","","","","","","","","","","","","","","","","","","","","","","","","","","","","","","","","","","","","","","","","","","","","","","","","","","","","","","","","","","","","","","","","","","","","","","","","","","","","","","","","","","","","","","","","","","","","","","","","","","","","","","","","","","","","","","","","","","","","","","","","","","","","","","","","","","","","","","","","","","","","","","","","","","","","","","","","","","","","","","","","","","","","","","","","","","","","","","","","","","","","","","","","","","","","","","","","","","","","","","","","","","","","","","","",""]
[null,null,null,null,null,null,{"$f":"alga_meanRV(G3:G102)","v":50.360437722757752},{"$f":"alga_meanRV(H3:H102)","v":48.809441966263549},55.297128148233092,55.888888888888886,54.859367741211194,43.166666666666664,56.551956033324586,52.772082195961907,47.899634305170984,46.333333333333336,49.566606497389117,54.388888888888886,51.727361366973383,55.888888888888886,49.524529323977738,54.881771284108495,55.5,53.581051092593547,51.536572126625678,56.722222222222221,52.056262445184878,55.155067878290843,53,42.055555555555557,52.306679014190863,53.388888888888886,56.5,49.994811317924722,47.48232422749831,52.150252414716888,48.944444444444443,46.174798759873866,58.833333333333336,49.246056123731741,51.251702072782308,48.267501973374237,59.253308667675888,62.333333333333336,58.186669564902708,55.350818318066302,54.239215254947133,48.455504950982323,55.120365356129355,49.812638705756498,62.944444444444443,53.565851270943554,55.25331618474857,55.388888888888886,55.444444444444443,49.481902181268005,52.5,55.888888888888886,55.444444444444443,50.812138767291238,56.611111111111114,51.246990269952441,48.110317346023031,57.722222222222221,53.252612822644487,57.833333333333336,59.277777777777779,50.551199026725158,56.611111111111114,53.82024878041188,53.555555555555557,{"$f":"alga_meanRV(BT3:BT102)","v":53.43440562327126},51.782405663714243,56.444444444444443,48.260784457218129,56.133032602393762,41.055555555555557,57.333333333333336,57,52.148087685079048,52.68088244601762,49.633436124061198,55.444444444444443,51.542236710163934,52.222222222222221,45.333333333333336,47.595807753692327,54.468520790044735,48.777777777777779,49.035794938116332,54.777777777777779,57.666666666666664,58,58.913100377445666,54,54.343658525090468,56.166666666666664,52.532507123484393,50.423959382578296,47.934955978733647,55.277777777777779,51.160018624306794,41.722222222222221,45.715388736250347,49.391106477260593,51.960058812843897,47.666666666666664,49.730307265717506,53.660278019750812,53.888888888888886,56.333333333333336,49.629409554921807,50.444444444444443,55.963781793471625,60.388888888888886,58.611111111111114,57,52.833333333333336,52.5,55.888888888888886,54.073630734186565,48.689930033836099,54.377795312726398,59.166666666666664,54.377466987326528,57.277777777777779,53.833333333333336,57.472329805745552,50.111111111111114,59.111111111111114,55.108019575082693,51.822731968861632,50.431717936766773,58.555555555555557,53.111111111111114,{"$f":"alga_meanRV(EF3:EF102)","v":55.611111111111114},53.015313541163451,56.166666666666664,54.582153251947979,50.498976714509709,53.222222222222221,53.028104664792302,53.944444444444443,56.444444444444443,47.333333333333336,57.888888888888886,50.782761122084018,56.850598908392662,45.012841821068832,54.300139339183133,58.15264643107222,58.750931971186624,57.166666666666664,49.095298860010743,55.629714048561866,52.094419375461307,52.333333333333336,51.888888888888886,54.020052799753834,55.892911086800318,52.063926005525246,47.111111111111114,50.954462135143444,55.5,52.656299606483799,58.154141355785846,50.136683425511471,55.560074851866077,47.016982764886833,55.111111111111114,50.772038356423359,53.611111111111114,51.194232331939055,54.777777777777779,61.149202220134335,49.259648392688405,54.105162641122519,57.388888888888886,59.380102559411284,47.621730358242473,51.944444444444443,54.277777777777779,46.722222222222221,56.555555555555557,56.777777777777779,56.555555555555557,55.277777777777779,57,50.25441932175363,55.750704325959333,57.055555555555557,50.442367962757722,52.818033858413372,52.744418730134285,53.5,57.166666666666664,54.590657004862592,46.010456283882242,50.354733001275925,{"$f":"alga_meanRV(GR3:GR102)","v":47.419104790615279},47.65866049775051,48.055555555555557,51.658239853286297,55.611111111111114,51.941731167222478,52.053007497099713,54.222222222222221,49.111111111111114,56.037103705006068,56.777777777777779,47.101240251420549,55.444444444444443,58.555555555555557,48.222222222222221,51.055555555555557,49.444444444444443,56.166666666666664,45.750712843756887,50.334218662387357,54.788639393106564,56.055555555555557,51.412502766628485,54.166666666666664,50.333333333333336,54.722222222222221,51.833333333333336,56.777777777777779,51.125973191643965,49.881667184751223,55.833333333333336,51.55157308793418,46.944444444444443,48.721801523423814,53.911449153720959,47.366248600818068,51.666666666666664,46.849405501615315,46.832281370123752,44.968700763757774,50.278493236870169,51.421081934941029,51.403904546277843,48.273199879680107,53.976792721007342,48.277777777777779,49.434227747626593,57.611111111111114,49.90754265518212,50.5839995106789,48.333333333333336,50.642870082626814,61.555555555555557,58.611111111111114,47.894975527363094,53.479785406184092,53.5,49.979214680879508,52.33116283103621,51.732151705185778,54.666666666666664,50.791278056304492,47.555555555555557,53.886027082889569,{"$f":"alga_meanRV(JD3:JD102)","v":54.365535562100554},50.51449644560654,52.055555555555557,51.666666666666664,52.132127013712555,57.611111111111114,48.888888888888886,50.890226946390307,45.833333333333336,52.335689595738259,53.178446609226114,55.305556657111531,55.806071397236323,54.777777777777779,53.554404177764283,51.777777777777779,48.444444444444443,58.111111111111114,53.666666666666664,52.463038252963045,58.5,54.053967445284059,58.676745345728136,50.905593743521543,55.297127755770028,51.944444444444443,53.376817262856221,50.712754526130652,49.597085527764861,56.666666666666664,52.944444444444443,58.555555555555557,51.187919036865871,52.093045880926802,54.611111111111114,53.708906297186907,52.936946022487575,49.97321829825642,56.488531197109715,53.197970970892769,56.166666666666664,55.410384085342812,55.095546776288032,48.94319265170023,55.013121262583724,48.5,56.055555555555557,45.111111111111114,55.222222222222221,56.055555555555557,56.150572763815347,42.888888888888886,54.320919878077341,49.563659486046241,58.611111111111114,53.964549517235731,51.985689294966491,52.092669199743405,62,53,54.573420410203397,56.555555555555557,53.388888888888886,59.777777777777779,{"$f":"alga_meanRV(LP3:LP102)","v":51.371586252302933},52.048809401425565,46.388888888888886,52.214113618328582,54.31877685517,55.048045137588616,53.976135182367607,50.498403422456619,60.388888888888886,54.386052477553513,48.795852438010542,53.5,54.055555555555557,54.722222222222221,50.388850966609958,55.41060937207466,49.5,54.833333333333336,52.888876307103018,52.166666666666664,54.166666666666664,52.622140591213878,49.111111111111114,54.649143743974811,50.706691576385367,54.666666666666664,59.833333333333336,51.777777777777779,59.555555555555557,59.555555555555557,50.611111111111114,52.463037678866243,55.5,58,53.23367336077159,47.482588917100855,49.777777777777779,53.64537110227117,49.788232698567384,54.277777777777779,57.888888888888886,48.222222222222221,59.166666666666664,53.911219621922029,55.944444444444443,49.166666666666664,57.277777777777779,54.067555352549498,57.729483411762509,46.626987389823491,53.574545450715533,57.210835606177184,49.430695616231802,51.555695373206248,47.642909980890636,55.944444444444443,56.555555555555557,56.055555555555557,57.777777777777779,52.811805952894602,55.722222222222221,50.666666666666664,54.495855069141079,54.833333333333336,{"$f":"alga_meanRV(OB3:OB102)","v":51.65308664604467},55.888888888888886,52.585534892797924,51.923239348932185,56.277777777777779,59.12453258511718,49.333333333333336,57.246276822788865,47.166666666666664,47.758207833265359,54.055555555555557,57.666666666666664,57.722222222222221,57.333333333333336,55.944444444444443,53.555555555555557,52.555042092062138,49.679135928531551,51.722222222222221,53.28817785114019,49.318237589578757,59.247262341320493,46.611111111111114,54.71661337654816,51.767824140305379,53.703489835004291,50.236671815461627,59.611111111111114,58.666666666666664,54.024332152491674,48.571741376274595,55.388888888888886,53.35507463865914,50.666666666666664,53.263550706941473,52.444444444444443,55.944444444444443,54.166666666666664,52.555555555555557,53.99841402318944,55.444444444444443,50.187051985372264,45.944444444444443,49.005929166219516,50.160907890190543,59.666666666666664,55.444444444444443,49.444444444444443,50.589302424102648,53.543601613614015,45.722222222222221,52.065011782048501,56.645466569544375,56.944444444444443,58.555555555555557,51.067925365458947,54.777777777777779,54.745633696598148,55.222222222222221,54.111111111111114,48.888888888888886,56.136560369849398,54.055555555555557,60.277777777777779,{"$f":"alga_meanRV(QN3:QN102)","v":55.722222222222221},53.277777777777779,51.8257990220187,58.611111111111114,48.232695091127653,52.214507619431522,55.833333333333336,58.089471254243385,52.27205963932964,49.417920021984962,48.91269994302484,55.5,55.908238647372031,55.201342253407127,55.833333333333336,56.77553530706453,58.111111111111114,55.042944944490252,55.440254845073213,53.055555555555557,49.111111111111114,54.532203789346468,57.152370481536863,49.998893823930224,46.555555555555557,56.722222222222221,54.222222222222221,46.388888888888886,48.555555555555557,55.958764447318487,55.722222222222221,50.895833875641991,53.438114607298758,59.611111111111114,53.060390316400706,51.97075024270773,52.342413900229985,44.570970161050582,56.055555555555557,49.844334222589474,53.56761532363825,51.734981318098335,53.185661118635203,55.338655814487112,55.944444444444443,57.777777777777779,56.388888888888886,47.641784408674376,53.923523024188512,56.611111111111114,57.21185170831609,55.152071900869998,60.444444444444443,52.815922747189688,49.608413061274625,44.5,52.743520216656151,40.888888888888886,48.944444444444443,53.891350599419305,59.166666666666664,54.222222222222221,54.68141991941522,57.388888888888886,{"$f":"alga_meanRV(SZ3:SZ102)","v":54.209186942963157},56.196683452363501,60.606292099838548,57.329758124617143,49.163180937708347,51.600621656920403,45.461493903563458,54.362689471990571,46.180961900337962,50.898640748351085,52.351639374779111,51.666666666666664,54.611111111111114,57.153577482126401,61.333333333333336,50.377196167782138,51.666666666666664,51.90376854251258,55.833532382788718,54.555555555555557,51.333333333333336,51.944444444444443,51.375234082982168,50.168271179751919,41.944444444444443,47.555555555555557,51.764666642735655,55.896820289234455,51.138761736499887,56.611111111111114,53.303016276401678,56.555555555555557,56.590069243446365,55.33192157285675,57.06021724632847,50.282357784324617,58.055555555555557,42.833333333333336,54.722222222222221,53.919720650269923,50.111111111111114,53.096613380466387,55.17527809647796,53.777777777777779,47.669409742436088,48.480653567780323,55.333333333333336,57.444444444444443,49.38896106005263,59.722222222222221,52.029382567477782,52.055555555555557,51.317694068560385,54.166666666666664,51.942450465886196,52.944797530557679,48.277777777777779,58.666666666666664,50.731804622264718,54.497655513601401,45.944444444444443,58.385371190360758,53.055555555555557,53.277777777777779,{"$f":"alga_meanRV(VL3:VL102)","v":52.508181763239364},56.833333333333336,55.833333333333336,51.111111111111114,54.888888888888886,52.222222222222221,49.570648204959561,47.005536999670277,52.668119138137257,55.833333333333336,61.444444444444443,49.611111111111114,50.054696391643624,51.171473633914232,53.490640738951598,56.611111111111114,53.555555555555557,47.725278332031849,47.854457118004007,52.720154614635604,54.884699198553555,54.277777777777779,48.568864994103464,51.5189082320776,47.287148693207634,53.444444444444443,50.692244152627936,52.722222222222221,50.762082071727868,59.166666666666664,51.991807516334255,54.777777777777779,52.06735957815863,55.944444444444443,52.088154814354667,54.222072465309743,58.055555555555557,57.019527739113805,56,52.277777777777779,53.666666666666664,56.807360712968247,53.888888888888886,46.695891612808936,49.911421246623583,52.65392230967668,50.297773342099823,51.944444444444443,56.256119603354136,55.388888888888886,58.888888888888886,52.833333333333336,54.222222222222221,53.722222222222221,46.333333333333336,53.722222222222221,49.30856012896956,53.5,52.150938905857181,56.333333333333336,52.202555417921111,60.055555555555557,52.244935845093629,51.444444444444443,{"$f":"alga_meanRV(XX3:XX102)","v":59.611111111111114},50.849971857875012,62.277777777777779,44.549426767401393,55.445072423465085,57.888888888888886,54.623167042975247,56.944444444444443,53.594491863684866,48.611111111111114,52.592451072961502,55.973571011747794,52.273944764466286,55,53.24418224405472,57.754701527218316,44.444444444444443,52.555555555555557,56.666249513816339,53.480273073684309,42.5,50.9242614845272,54.414681940966496,56.666666666666664,41.944444444444443,56.666666666666664,47.295378134007237,53.775184406091,50.790548654973144,47.990472272125366,54.803436415891866,55.364267240354984,52.077787420340314,49.006443651369779,55.140726286610594,53.947128158187709,57.944444444444443,49.886781159779325,53.055555555555557,54.828845623226442,51.068308769717497,55.444444444444443,55.855679309123268,53.561236747455062,57.611111111111114,54.527918835891192,53.833430353611597,54.289330072216863,47.171119117091884,44,49.712787518564703,50.226246622284151,48.711979255687567,54.557210488373883,55.30095457578237,48.746704467009216,52.225759061204215,54.611111111111114,59,50.675515685280828,46.444444444444443,59,50.431106397711133,51.777777777777779,{"$f":"alga_meanRV(AAJ3:AAJ102)","v":54.986778738189415},56.661216459021631,52.775067244323324,55.26780003603514,49.722222222222221,54.222222222222221,55.228025077186381,54.515325917503588,51.722222222222221,48.106695366037961,53.12077393673755,45.777777777777779,57.888888888888886,52.222222222222221,52.718401354215594,59.166666666666664,51.326634647077348,52.944444444444443,48.166666666666664,56.944444444444443,56.055555555555557,46.388888888888886,50.824110484837348,52.579598454464644,54.073556610095828,49.451660387934552,53.555555555555557,49.246981730917582,53.055555555555557,57.111111111111114,51.946047916109841,41.333333333333336,53.766111229507459,47.033601852989044,57.722222222222221,51.384043423266725,52.793618959612758,56.700235041435569,49.777810611519072,48.611111111111114,53.726604258275827,56.18850901948953,48.037840812757857,55.611111111111114,56.055555555555557,57.298611396197188,52.532945956273849,44.111111111111114,54.777777777777779,54.222222222222221,57.722222222222221,49.107459677036914,53.292685567026346,58.555555555555557,57.833333333333336,54.115867317159122,58.5,55.277777777777779,54.524067720532521,56.839931744913834,52.738996858967923,54.640629576451637,48.388888888888886,58.666666666666664,{"$f":"alga_meanRV(ACV3:ACV102)","v":53.73346129118012},56.681505555091022,52.288621369613878,56.835458177584144,51.634910236922529,57.642115927587355,50.401360293730427,59.611111111111114,52.605920532231131,57.944444444444443,52.444444444444443,51.715695045123923,53.938500476662348,53.99214963688658,55.068022682710151,50.539652488163483,55.333333333333336,56.666666666666664,49.521176162955726,49.34671691160753,58.444444444444443,58,61,50.941463421533349,54.16200831035232,48.832798480136248,53.944444444444443,48.763252092588502,48.758055219207961,53.330695319786543,54.388888888888886,59.833333333333336,52.920634656529948,55.444444444444443,56.722222222222221,55.333333333333336,42.444444444444443,54.5,52.368507428514555,52.936937944404576,54.888516309355808,45.722222222222221,56.93162372536878,55.944444444444443,57.833333333333336,52.409240089345317,57.236139018754393,55.333333333333336,53.925365501230644,54.055430208318427,52.333333333333336,51.383371968263724,50.431622686010684,56.154707742307657,51.228662879656085,50.898640748351092,55.222222222222221,50.338484779760677,52.904832606300268,50.119567850087257,53.555555555555557,56.111111111111114,51.357718921528324,49.186961569796068,{"$f":"alga_meanRV(AFH3:AFH102)","v":54.888888888888886},49.888888888888886,50.888888888888886,58.722222222222221,56.243566636973036,56.833333333333336,57.333333333333336,53.666666666666664,43.489123689380982,56.035341050449318,49.333333333333336,48.777777777777779,46.357602168785355,52.944444444444443,50.725827496351599,50.362315067726868,47,54.333333333333336,54.111111111111114,52.634909982394895,55.782922596579866,53.166666666666664,58.666666666666664,53.230428440844385,55.518789036695175,45.333333333333336,52.077424822750551,51.568184879520146,52.616304184205461,59.055555555555557,56.666666666666664,50.012111844121186,57.467606513540481,60.444444444444443,53.066972341875385,56.205026262691817,58.5,50.880621312413808,54.073641984978579,55.921106161004587,53.749047557321894,51.035604933925406,48.620971975457152,47.389864705810247,48.286892714645624,56.222222222222221,55.171014876855601,50.592016155506208,58.111111111111114,57.611111111111114,54.722222222222221,47.187050818559925,48.97463933922765,51.253511764858438,51.507658273897839,48.268459290911665,52.84186351411342,51.6699909932751,41.222222222222221,48.730078534577224,54.148305297200345,52.760000508702078,48.444444444444443,49.912804996352328,{"$f":"alga_meanRV(AHT3:AHT102)","v":53.730855375878861},45.337977541677191,54.277777777777779,50.5,53.722222222222221,50.944444444444443,57.458862910937746,56.166666666666664,51.401763982818288,49.647441016373207,51.48289631909924,46.611111111111114,46.444444444444443,52.888888888888886,51.932232404948429,55.245589137212818,54.649143743974811,57.709154903446198,55.666666666666664,48.341422147531063,50.63311727178553,56.613159250145742,52.650674823634326,47.174139415610249,54.777777777777779,57.944444444444443,54.294724619119464,47.111111111111114,47.264536792167782,51.388888888888886,52.11491399041207,56.388888888888886,48.533777225014695,51,51.18579480053009,51,57.888888888888886,48.993481476058903,55.444444444444443,54.732454422395286,51.368473891213142,55.833333333333336,54.004066660406053,51.894748033036095,53.409229149776756,53.876685273087645,49.551315156655846,58.559050390060392,50.803604524712895,53.605960978515782,51.2566629371807,57.333333333333336,59.944444444444443,56.333333333333336,51.532610998469664,59.666666666666664,58.388888888888886,57.777777777777779,55,52.109223082238245,51,55,56.611111111111114,52.555555555555557,{"$f":"alga_meanRV(AKF3:AKF102)","v":47.193941717198726},57.222222222222221,49.134560620749731,52.674573505081305,46.813581176103199,51.111111111111114,54.518326902994978,50.370125679473176,48.743143866185321,47.648308939753875,59.333333333333336,53.770631406814054,50.555555555555557,51.206603773361962,53.960806445154631,54.777777777777779,55.388888888888886,52.758463080013271,50.921686673689088,55.5,53.988543966616149,53.722222222222221,48.880947443867996,52.25703691077473,55.944444444444443,49.105317210388648,53.514646811235203,49.469899058573361,55.777777777777779,51.666666666666664,53.555555555555557,49.623568190542215,52.648303750941274,53.24472822240493,56.388888888888886,58.611111111111114,47.29190625375125,52.818033858413372,48.398247622393427,55.944444444444443,54.194615173417972,54.833333333333336,50.591521896314902,57.166062249527414,51.944444444444443,54.277777777777779,54.666666666666664,52.611111111111114,53.430135017613068,49.042923744047343,54.222222222222221,44.611111111111114,50.270325947786695,49.841736701934565,50.866806430800239,59.888888888888886,48.778497165212407,51.241225049438725,55.944444444444443,56.888888888888886,53.795218925462393,55.918758776385062,54.635644242442851,56.763885490469342,{"$f":"alga_meanRV(AMR3:AMR102)","v":50.222222222222221},45.722222222222221,51.918867786190994,45.490199963908353,55.336319542287114,52.699841027597287,56.335150952484831,54.722222222222221,55.555555555555557,61.444444444444443,55.03120122050386,46.5,48.469454036089445,50.757759931206721,51.473422253796507,52.888888888888886,50.3161711923971,45.666666666666664,53.388888888888886,50.876861024605994,48.710726425484296,57.166666666666664,49.83975977715324,47.656937049823306,53.857283852097844,54.944444444444443,50.074021652729328,56.111111111111114,55.388888888888886,50.718642301686998,52.845161972520977,52.777777777777779,53.914980806234503,54.441097409167128,53.726341461923127,58.633753410905427,57.333333333333336,45.055555555555557,55.924147116553058,50.349048448818046,50.246923286013626,46.320932458002694,45.944444444444443,51.833333333333336,49.893981650522456,53.055555555555557,57.833333333333336,55.831746114212947,45.484892215537698,53.277777777777779,53.072810451151199,55.936660145115255,49.430310137095326,54.432701546332474,52.655985576737606,52.944444444444443,40.611111111111114,55.666666666666664,54.268505342344739,53.722222222222221,53.070186494852337,57.111111111111114,51.277206462835274,60.444444444444443,{"$f":"alga_meanRV(APD3:APD102)","v":57.11310174325375},52.077481653275072,52.653561913038587,51.722222222222221,54.195788325949742,54.745150531232248,45.555555555555557,52.277777777777779,54.166666666666664,41.888888888888886,54.393869220628943,51.113868685006373,47.907392293794146,52.680449192535121,49.859707879170884,54.448026204559966,53.725176385110522,53.473691575006377,51.166666666666664,53.055555555555557,58.111111111111114,55.333333333333336,57.888888888888886,47.769014452771927,52.520380870257071,54.799441526988517,55.158512068407767,51.669047277023566,48.157352369091441,52.47153559222982,53.460247308180314,55.066729844891306,49.513395231704415,56,48.645801674567871,52.222222222222221,50.162552669654332,56.666666666666664,54.666666666666664,53.777777777777779,56.555555555555557,53.190448954396508,54.010087297570848,57.333333333333336,60.832117323390712,56.277777777777779,49.595117956458061,56.072585178317382,50.055415175826042,51.966490071176615,45.388888888888886,55.468526139344171,52.130010749698144,48.222222222222221,50.777777777777779,45,55.291762938235408,54.833333333333336,57.277777777777779,53.358831686055495,48.159072952998805,50.200594692629039,59,53.981837571212537,{"$f":"alga_meanRV(ARP3:ARP102)","v":45.869738280991406},55.205470381721902,55.388888888888886,56.111111111111114,54.767756154085404,53.366956778017567,52.03877041027576,54.099298901338983,56.723297692833448,46.601207433500996,55.5,49.512687418023006,52.447265228882053,58.277777777777779,52.492946592396365,54.055555555555557,55.867684688196555,50.24338803086362,54.111111111111114,54.888888888888886,48.611111111111114,53.258667230168854,51.587185493347505,52.722222222222221,54.187195864711008,48.058116949999288,57.163506145184982,49.277777777777779,57.777777777777779,59.555555555555557,54.042563049161231,51.330091750860291,59.071054108729612,59.308663597422033,52.907248662303488,48.677614083632733,56.684181153350345,43.111111111111114,53.611111111111114,55.388888888888886,57.675628377289435,57.111111111111114,53.222222222222221,49.929230990682541,51.111111111111114,52.521262948544894,50.283330509465259,52.434295847271159,46.277777777777779,51.01587165014358,58.141185012679138,58.055555555555557,48.782103929401146,51.772453125235472,47.722222222222221,55.339266190044093,52.162743647704048,45.055555555555557,50.108735113660714,52.636921968680248,57.388888888888886,56.055555555555557,58.611111111111114,48.748861293601607,{"$f":"alga_meanRV(AUB3:AUB102)","v":51.923008769944346},48.97565290399114,55.5,58.563065028019359,54.750606558891818,50.640194948438676,50.860429037803229,56.333333333333336,52.484247647228457,57.722222222222221,51.331810494135489,47.111111111111114,53.5,53.111111111111114,48.296363672187645,54,52.372615565154405,50.219368618989016,47.987912425666138,56.019138726795575,48.148306365919609,57.333333333333336,56.611111111111114,47.655960730607774,52.166666666666664,55.5,49.364606432623269,59.222222222222221,44.722222222222221,48.507622496423288,51.400590104182371,57.782564364669142,57.460105729618576,53.111111111111114,51.258424656012423,53.484001254722216,52.920634922761671,51.491044623591378,55.611111111111114,55.888888888888886,56.555555555555557,53.166666666666664,60.833333333333336,44.555555555555557,53.373185015261015,51.311693674680086,43.222222222222221,53.798263364777839,56,54.555555555555557,45.333333333333336,59.333333333333336,59.944444444444443,55.397790070970245,53.388888888888886,52.087967237195407,55.1882654617051,48.633634480716488,55.833333333333336,54.055555555555557,54.607710798321349,53.543432453480605,55.444444444444443,59.166666666666664,{"$f":"alga_meanRV(AWN3:AWN102)","v":51.502153402774084},52.555555555555557,58.333333333333336,52.053279530965568,54.009006228039553,46.974752101844608,53.388888888888886,58.444444444444443,51.432121216434631,54.055555555555557,54.595120492656285,48.79727450903993,52.722222222222221,55.288621432284259,55.939949032409132,55.444444444444443,51.752396220652017,54,54.522497126736113,55.444444444444443,48.727218946919606,52.856002650897501,54.930981974084247,54.762363230327729,52.772079045274118,49.214508096686423,53.950478520302084,47.695649915648055,46.277777777777779,40.5,54.290117270766096,51.918497361123613,54.055555555555557,56.416690796148409,53.408848905865334,45.833333333333336,54.090884895946573,57.742221667683985,54.222222222222221,54.833333333333336,48.576003890700001,55.388888888888886,54.352568473539044,59.444444444444443,54.944444444444443,48.364201362126749,55.912131203792526,54.277777777777779,54.56562197476002,55.333333333333336,55.617895904480314,48.28293687909197,44.493442327599773,52.783321418998327,52.744853781434273,55.265144938320503,55.920290771149581,50.264080768267114,48.784322368403792,52.555555555555557,59.388888888888886,50.831337164426685,42.277777777777779,47.562497965574835,{"$f":"alga_meanRV(AYZ3:AYZ102)","v":51.15673392290492},51.297531182902816,47.555555555555557,53.471418566708834,52.388969568822077,59.111111111111114,56.944444444444443,51.645463195200961,53.550144111384441,53.530853851313694,55.444444444444443,51.115502269621338,57.277777777777779,53.213999384454723,48.743143866185321,57.996777326951978,50.666666666666664,41.666666666666664,51.222222222222221,47.400229141481255,56.28231742885481,58.388888888888886,55.087549727327847,44.055555555555557,53.444444444444443,52.543062360001677,49.388888888888886,53.444444444444443,54.222222222222221,52.113649842667577,53.874752323920205,47.722222222222221,51.188401449155783,50.570560778154871,52.987669275045718,57.166666666666664,57.888888888888886,57.965816674837711,54.15665329429077,58.222222222222221,48.611111111111114,53.256776386006926,59.222222222222221,50.758156311657089,55.388888888888886,56.762865639030373,60.444444444444443,53.135562677501376,48.722222222222221,55.857791343146218,55.277777777777779,46.944444444444443,52.819144417809717,54.444444444444443,53.894458337101334,55.444444444444443,54.965297985553462,58.555555555555557,57.722222222222221,53.555555555555557,48.588124607466433,53.111111111111114,51.920671448552376,59.555555555555557,{"$f":"alga_meanRV(BBL3:BBL102)","v":53.666666666666664},56.163838789279161,52.731650913606799,64.611111111111114,54.111111111111114,49,54.055555555555557,53.335218723480374,46.555555555555557,57.333333333333336,57.388888888888886,46.857415197139225,54.777777777777779,51.555555555555557,55.777777777777779,48.162270404123902,53.42987800294874,55.888888888888886,48.733207056774802,58.722222222222221,54.391411910573133,51.125875963970465,51.055759743925172,51.055555555555557,56.501403134464354,56.374445486835867,58.611111111111114,47.055555555555557,54.476203597833553,53.943805146315675,52.055555555555557,47.777777777777779,51.643756477725447,55.545230912175228,54.124972321488521,52.781111495249007,57.166666666666664,56.833333333333336,56.166666666666664,54.986758751819387,57.777777777777779,49.4408206155193,60.111111111111114,47.388888888888886,55.833333333333336,50.27531794135885,53.222222222222221,48.9555802844772,45.777777777777779,47.921088100881335,58.666666666666664,50.35775185891729,52.118413655297175,51.690668919678288,57.333333333333336,55.833333333333336,55.888888888888886,53.5,52.888888888888886,55.722222222222221,54.722222222222221,53.444444444444443,57.5,54.666666666666664,{"$f":"alga_meanRV(BDX3:BDX102)","v":50.04865519232785},52.841933406931517,51.555555555555557,56.888888888888886,60.888888888888886,56.428259123926544,50.945083639447908,55.536097349118876,44.722222222222221,51.41565479708504,53.982385235563193,57.222222222222221,53.000294458817052,52.043216048120215,47.722222222222221,50.555555555555557,48.786334012722236,60.245925072731502,52.756395165392284,56,48.254565503205313,53,52.521056409943249,58.111111111111114,50.666666666666664,55.645543314111038,48.33028954669058,48.731357684124525,52.841862152345826,56.420749414441715,51.937424886183585,50.850781313989636,48.406190861692771,52.725490672607869,54.111111111111114,50.855293333986864,52.157661092761145,44.333333333333336,54.464341470151467,56.055555555555557,49.777777777777779,47.802711480185444,49.388888888888886,54.514702471187093,56.611111111111114,50.555555555555557,47,48.678556742403821,51.657314576974414,53.229747605237407,59.666666666666664,57.166666666666664,55.777777777777779,54.388888888888886,52.29668425741022,56.666666666666664,56.0253071228626,56.492537038185283,50.177414034255698,56.670367366860397,51.538199306661568,53.426530439422351,54.222222222222221,58.666666666666664,{"$f":"alga_meanRV(BGJ3:BGJ102)","v":58.743321410476611},54.944444444444443,50.539383608892358,53.709567578506565,50.762866154973281,52.777777777777779,55.333333333333336,61,57.277777777777779,54.055555555555557,49.075081441436524,56.166666666666664,55.611111111111114,51.646856438128601,52.97204142685419,55.055555555555557,53.111111111111114,56.611111111111114,55.200977805945023,54.847075554468105,50.250256641608495,54.770225669799068,51.595404707707708,47.793123996336398,46.478455837592328,51.614755987495798,54.666666666666664,53.722222222222221,51.372024487137324,58.5,57.166666666666664,49.630462442234979,49.468757308101615,56.46724331718606,57.277777777777779,53.845034347567044,40.833333333333336,46.051730080143074,55.279257313996965,47.833333333333336,54.028950229025007,53.974333307063915,53.444444444444443,47.555555555555557,53.935274397503207,54.487505015974506,54.098370629474033,60.4196792511881,52.510385181833584,48.923578715265279,51.166666666666664,53.496027104342822,51.976484936621404,48.205342548363973,60.333333333333336,52.298275236172778,52.833333333333336,53.471419162106095,54.635654802824156,52.084025971794937,57.388888888888886,50.41346822134026,56.037071344259289,52.666666666666664,{"$f":"alga_meanRV(BIV3:BIV102)","v":50.944444444444443},46.388888888888886,40.777777777777779,56.542761817911405,52.611111111111114,50.271087252636264,48.761981104364949,50,54.722222222222221,57.833333333333336,53.888516309355808,49.149641911495813,47.230077823652813,56.059076976346056,53.447919386804017,44.944444444444443,49.378141662746991,48.296869730624067,57.777777777777779,46.515641713856638,56.932095151200542,58.111111111111114,56.046940672717419,51.801131754087038,49.739989201420173,51.969227000311172,58.055555555555557,54.024228480197138,54.496218313197659,54.166666666666664,51.607956962735265,56,54.339485769949029,49.154243815230224,51.7623502044028,54.055555555555557,50.689677105844972,54.666666666666664,57.262231954129646,55.277777777777779,47.258543145599525,55.277777777777779,48.277777777777779,45.353401449189171,52.834764948660037,53.935046733630287,49.877093786101142,48.268499851112878,49.741402754230613,51.481201469262963,55.888888888888886,52.83471175043826,51.417865135306002,58.117282092700052,52,50.690229257547053,59.959063149376789,42.611111111111114,57.277777777777779,57.444444444444443,54.740137704156545,49.222222222222221,57.611111111111114,49.171670995663085,{"$f":"alga_meanRV(BLH3:BLH102)","v":49.137970742934627},54.611111111111114,53.282402743252625,54.829931063846828,57.333333333333336,55.113690171902768,57.666666666666664,49.938135913056598,53.666666666666664,56,54.888888888888886,53.888888888888886,50.064154382110786,56.944444444444443,54.166666666666664,51.281867258756023,50.570751720989591,53.059803390290689,55.973817720637193,52.254178950796025,59.666666666666664,56.666666666666664,50.878095538899487,52.555555555555557,54.745243594369363,54.444444444444443,52.388888888888886,46.388888888888886,58.166666666666664,53.612832216899278,48.069889127492182,54.944444444444443,50.069722058493603,56.277777777777779,53.907341721474282,44.777777777777779,37.111111111111114,54.166666666666664,57.146223863958049,56.833333333333336,54.388888888888886,53.444444444444443,54.705264105610041,51.975178901991136,56,56.222222222222221,56.111111111111114,57.833333333333336,56.206431377787943,56.055555555555557,54.014183753906259,47.303774073116308,53.600219822318337,52.680984042307919,46.277777777777779,49.511947003116724,54.658974200836013,52.333333333333336,57.722222222222221,54.722222222222221,54.833333333333336,52.5,53.977704335640205,55.260033461358795,{"$f":"alga_meanRV(BNT3:BNT102)","v":51.611111111111114},53.857502885686294,55.666666666666664,53.380819907211695,43.888888888888886,50.894447392467448,54.277777777777779,52.565097106441677,51.554383325052335,55,52.588322194358334,50.555555555555557,51.525210073853742,55.436239710732956,53.129583833152523,49.470028300191693,48.337477402222689,55.833333333333336,57.944444444444443,55.944444444444443,51.48290849519281,57.111111111111114,58.055555555555557,51.169548176018679,54.166666666666664,50.3245819960391,48.795982718378603,50.054696391643624,53,50.06882526262622,53.555555555555557,51.262679813723288,54.611111111111114,55.666666666666664,52.049183623862234,48.95595847088169,48.312498501598675,51.111111111111114,51.330397886761325,55.555555555555557,46.990958244090685,44.166666666666664,54.111111111111114,49.722222222222221,56.242309205966095,53.348645094533531,45.722222222222221,57.239538538860415,53.777777777777779,51.209880689922542,48.77063570358203,52.773520594919908,53.421848634535579,53.710975283463988,55.388888888888886,53.582122921678803,57.424378766791357,50.890409806687558,54.222222222222221,58.388888888888886,50.333333333333336,56.333333333333336,54.732435062677467,52.944444444444443,{"$f":"alga_meanRV(BQF3:BQF102)","v":54.333333333333336},56.061277024722784,62.388888888888886,52.422915354957645,54.261502783598139,41.611111111111114,45.888888888888886,47.975557647518357,53.206793632986205,61.222222222222221,54.892689093818987,53.833333333333336,54.657314940526575,53.870333729990655,56.277777777777779,54.502973365630368,48.652232922074909,57.671268214188039,57.980978720449734,46.383995075543368,59.888888888888886,55.777777777777779,55.342944836252812,51.52676462032408,54.479190547564748,53.020212169921095,52.845917399625719,48.553604549807702,58.480406421464181,51.777777777777779,51.525261125409202,52.077778892985407,58.055555555555557,57.166666666666664,53.234710347068621,47.144991815271169,50.611111111111114,51.401129569040954,56.5,56.222222222222221,58.611111111111114,52.943529020715943,50.220060983759602,50.79144803907861,56.078261031487258,53.368287083754211,58.343651810131824,55.333333333333336,45,57.417734555629217,48.260923271710304,55.6361693067348,48.486910909903791,47.684688459501608,53.055555555555557,51.228062865871365,54.166666666666664,47.657780076868583,53.769528159269129,56.666666666666664,52.048986319621342,49.501401660563808,52.680505579852827,54.901222549873893,{"$f":"alga_meanRV(BSR3:BSR102)","v":51.018831124098632},46.345403518584682,49.617080486703443,50.767829191096048,56.666666666666664,49.590598991307033,58.388888888888886,53.555555555555557,50.077846963327751,63.5,61.666666666666664,47.736046292224124,54.227248128860815,54.277777777777779,53.555555555555557,55.055555555555557,56.140095029137683,59.5,43.722222222222221,54.722222222222221,47.5,56.722222222222221,52.945711110713127,57,51.015803629301544,51.861674807583789,49.468624155223765,44.5,54.777777777777779,49.183172195225922,59.055555555555557,55.277777777777779,55.723651946258791,54.4927961534693,52.026901490933852,55.120569995355453,48.719617416755078,52.746919801438928,51.444444444444443,49.756016010727087,51.340699455118639,57.266384603074371,52.25281199975182,59.783268211249101,59.722222222222221,45.968700763757774,54.918279074292833,42,57.166666666666664,52.555555555555557,60.111111111111114,55.022965840776187,55.015486399225843,56.65735399378763,48.98725864671043,55.042493871239714,52.394416098503562,54.055555555555557,53.555555555555557,50.940598260610813,56.594346856009608,57.230159774313137,51.055555555555557,52.783318257250812,{"$f":"alga_meanRV(BVD3:BVD102)","v":50.700483817173421},47,52.277777777777779,57.111111111111114,59.611111111111114,53.89545138683151,54.501777266636353,54.277777777777779,48.790280171228005,52.914376760611248,55.029540778629411,48.741810901948419,54.531834334445975,56.611111111111114,51.277733551201401,53.199732630259781,52.601754527765856,56.736380581004966,50.055555555555557,57.277777777777779,55.444444444444443,52.831368113316088,55.222909935712615,60.555555555555557,57.777777777777779,42.611111111111114,57.611111111111114,53.360049038341053,53,53.105602663965975,51.722222222222221,51.026643917421694,51.818579998632913,38.722222222222221,52.888888888888886,52.222222222222221,53.960806445154631,48.705403368540836,57.111111111111114,54.749552666977529,51.888888888888886,52.202842302352771,50.617412171667802,51.539383352020891,51.598325111235965,54.305042516171618,54.97631060145244,59.880639423565491,53.885102362722705,57.222222222222221,54.627934486367444,46.118394815965381,54.326199138895994,53.388888888888886,55.633439575393631,55.162792787769924,50.933346310495267,48.823647211001337,44.611111111111114,56.380455745432158,57.222222222222221,51.306324969166624,59.166666666666664,51.881018098127647,{"$f":"alga_meanRV(BXP3:BXP102)","v":59.055555555555557},55.178795640354586,53,52.286889204661378,52.212244733499716,53.5,46.333333333333336,53.555555555555557,54.055555555555557,57.444444444444443,48.394429451427577,57.111111111111114,55.722222222222221,53.944444444444443,53.333333333333336,54.506522569427617,57.833333333333336,55.280250971362833,55.931994284627585,56.666666666666664,53.491684408070036,54.405802108753001,47.388888888888886,52.167827097262553,57.111111111111114,54.277777777777779,50.632532372451749,49.011400426353902,50.094768132406912,53.310144819194775,56.555555555555557,51.68389844939653,45.35532028563378,52.222222222222221,53.388888888888886,53.051489660344998,49.695249360888099,55.888888888888886,47.241468967165389,57.333333333333336,53.171727727621501,58.444444444444443,48.854505734638352,60.277777777777779,52.333333333333336,56.166666666666664,55.30399783880312,48.7099270505107,56.7128230771159,52.920479411024772,61.388888888888886,46.611111111111114,51.166666666666664,51.89978747186732,50.944444444444443,43.611111111111114,46.984017362635115,47.666666666666664,50.53549121807324,56.777777777777779,54.277777777777779,52.956949651167932,56.777777777777779,56.055555555555557,{"$f":"alga_meanRV(CAB3:CAB102)","v":58.055555555555557},54.666666666666664,53.12453136714732,58.611111111111114,55.982236454867824,50.264252504642137,54.397515240528101,45.833333333333336,49.602201608289178,56.555555555555557,53.444444444444443,56.061176253483055,57.143728408709499,57.611111111111114,52.333333333333336,55.888888888888886,56.440607619174585,49.944444444444443,54.722222222222221,58.555555555555557,48.14018278553457,45.277777777777779,57.111111111111114,53.555555555555557,52.765519677025736,58.611111111111114,56.277777777777779,54.111111111111114,55.611111111111114,48.97557392347062,61.444444444444443,56.388888888888886,56.055555555555557,49.952129324501158,51.222222222222221,55.342477318749914,57.944444444444443,50.97517589307639,57.833333333333336,54.027651927296816,55.643554632577988,50.333333333333336,50.944444444444443,55.437052717137405,50.981643147993339,47.420526398561101,59.222222222222221,54.166666666666664,58.444444444444443,56.060081009506007,51.333333333333336,58.277777777777779,56.833333333333336,56.833333333333336,53.338337833329824,55.611111111111114,52.777777777777779,51.563794521584072,51.525332499004335,52.944444444444443,54.888888888888886,50.283627120842503,51.368110913413446,57.611111111111114,{"$f":"alga_meanRV(CCN3:CCN102)","v":53.44095734837601},55.927451563447939,43.888888888888886,55.065570678742326,40.722222222222221,50.88886906476074,58.444444444444443,49.510078769512781,56.611111111111114,54.666666666666664,52.341506837229311,53.641373194358593,52.108385087360901,54.111111111111114,50.283040285251332,51.152359942711769,44.944444444444443,52.100037095124179,51.990470933403593,51.213229662763666,47.5,54.777777777777779,54.015429561195496,55.222222222222221,50.055555555555557,56.666666666666664,56.833333333333336,54.722222222222221,50.947749125562645,53.333333333333336,54.347197611674133,57.19045060925891,57.944444444444443,53.954194307585077,51.401889038363485,51.339721305314498,51.275977969838607,51.781396556796963,50.352402802911399,52.611111111111114,52.944444444444443,48.241397155925299,59.666666666666664,52.895599547714355,56,46.333333333333336,44.888888888888886,56.424161892099079,54.527761835376197,49.403965831577253,50.518908482157954,53.812137740450304,54.124621602483323,58.779163896368978,54.611111111111114,50.229256332569747,54.027277119579431,56.5,56,55.5,49.908438032890537,54.666666666666664,57.055555555555557,50.333333333333336,{"$f":"alga_meanRV(CEZ3:CEZ102)","v":47.5},56.305735657953896,54.082041484462053,49.403640889549628,54.5,48.423566051110349,52.888888888888886,60.5,54.611111111111114,58.463393315053104,50.401242583551067,60.222222222222221,49.242666050492545,43.333333333333336,48.222222222222221,50.441495181847735,58.416544891576876,59.277777777777779,60.444444444444443,49.399353643406705,49.204698456831494,46.388888888888886,55.888888888888886,42.388888888888886,56.55990816094792,48.932238403651915,52.507359756478259,47.444444444444443,50.599408043905264,52.130328741724988,53.697727461361282,57.233859793002893,49.709604461095296,51.374459285557322,52,50.766520965970074,57.235445817486088,55.333333333333336,54.722222222222221,54.228578974909944,56.555555555555557,49.388383392883568,49.724197752270612,53.722222222222221,57.333333333333336,57.166666666666664,52.111111111111114,52.021808946120103,56.555555555555557,50.666666666666664,51.860963899418294,54.61112965867445,53.248869179800252,60.555555555555557,55.49053802765458,53.216875475653893,54.022777337824145,52.777777777777779,43.111111111111114,51.638416253158638,54.888888888888886,56.5,59.666666666666664,47.888888888888886,{"$f":"alga_meanRV(CHL3:CHL102)","v":50.451658454987637},52.063142865345519,53.611111111111114,53.209414453007597,50.555555555555557,54.140790370424334,52.676743636645178,54.164854153860716,53.198779090378657,56.944444444444443,53.940723932881404,54.944444444444443,56.611111111111114,56.611111111111114,48.388888888888886,54.619037001075476,50.166666666666664,59.611111111111114,48.947376529022385,52.335586007871349,56.783504102279366,48.00006551528184,54.777777777777779,56.055555555555557,46.222222222222221,48.67411530994125,51.587185493347505,53.166666666666664,59.280960442154424,52.417632982967767,55.388888888888886,57.015426456013152,53,56.111111111111114,53.888888888888886,52.722222222222221,53.025482479970798,50.269754114446869,49.222222222222221,55.611111111111114,52.666666666666664,50.315720679690394,45.777777777777779,60.166666666666664,55.111111111111114,52.822636539160484,49.753839357022542,54.277777777777779,59.777777777777779,55.418791326362822,54.720118441127788,52.057767799601407,47.48933946494563,48.977359907673048,56.087038386952401,47.055555555555557,57.14750838229304,47.074882776309103,49.243807080135092,57.944444444444443,55.897435782374387,49.494480157211278,54.795273656730629,60.888888888888886,{"$f":"alga_meanRV(CJX3:CJX102)","v":51.987379776982543},53.5,57.514231446233566,54.864433516903631,53.783267051366323,57.277777777777779,47.905622997253936,54.389956937318402,46.611111111111114,51.91197163569376,47.055555555555557,59.111111111111114,58.021291719731913,48.102224388191708,45.902459002860411,49.16054362063025,45.777777777777779,55.387614533326314,49.342376293976457,53.78534361034454,52.463053051191807,50.173476719160568,53.084916383811333,52.06257411313603,53.960806445154631,58.333333333333336,43.722222222222221,53.8197024715124,48.01454804474924,42.611111111111114,47.285324613891873,54.722222222222221,45.222222222222221,50.768841633735747,59.166666666666664,56.763455576032911,50.18175492843072,55.24659773038497,54.388888888888886,54.166666666666664,58.567820193238454,57.166666666666664,53.175673378573265,52.595108855560788,44.833333333333336,57.277777777777779,54.262347689635099,56.038794684025419,52.055555555555557,55.844721554311626,52.637806651783258,56.888888888888886,58.444444444444443,58.555555555555557,51.696966133521691,45.555555555555557,57.024474933083638,57.722222222222221,50.847485286402815,55.333333333333336,51.266294791072113,58.277777777777779,57.555555555555557,52.121129839739012,{"$f":"alga_meanRV(CMJ3:CMJ102)","v":55.944444444444443},52.504970500481797,56,53.950373703772016,56.055555555555557,57.160645903293371,58.611111111111114,54.722222222222221,55.944444444444443,47.726105411766113,50.705207211921056,55.444444444444443,58.611111111111114,54.764161978509009,56.388888888888886,54.722222222222221,50.542843614070279,49.666666666666664,61.055555555555557,53.333333333333336,52.944444444444443,55,49.689818465212696,48.277777777777779,57.111111111111114,54.5,56.5,54.333333333333336,48.777777777777779,56.055555555555557,42.833333333333336,56.225905624352379,57.333333333333336,51.666666666666664,50.632532372451749,59.166666666666664,53.722222222222221,49.54167206898795,53.553079614655672,54.222222222222221,55.388888888888886,49.58139341065813,57.833333333333336,55.214479257980834,59.722222222222221,50.539767322583117,53.5,55.481957245437499,55.388888888888886,56.666666666666664,56.166666666666664,59.777777777777779,51.222222222222221,43.944444444444443,56,49.868887294242278,57.54822783242227,57.833333333333336,53.290717873907141,52.222222222222221,55.555555555555557,51.347945851182104,50.928893187644476,48.227212173064615,{"$f":"alga_meanRV(COV3:COV102)","v":52.079975771596075},54.722222222222221,48.277777777777779,53.43379330281708,54.040647918877227,54.631476072712623,47.944444444444443,50.5,60.222222222222221,52.388888888888886,53.125344681894319,48.485593304099744,53.055555555555557,52.00756258833637,55.063373944266722,55.830501329946188,51.833333333333336,50.777668043124557,56.388888888888886,57.433187611285888,57,54.14081794183361,52.055555555555557,52.5,46.833333333333336,44.39804395334933,50.611111111111114,58.5,51.612644276111752,51.13980529276936,53.5,54.228062344726034,53.903649635726602,56.055555555555557,56.611111111111114,55.666666666666664,51.413546317224913,51.309409044453631,53.101532134039843,60.222222222222221,53.953010681257744,54.888888888888886,55.222222222222221,50.874293748726537,51.611111111111114,57.222222222222221,54.833333333333336,51.864893935454248,51.547805046714934,46.111111111111114,51.336168914528457,51.611111111111114,46,51.379579693093383,49.312501349109731,46.333333333333336,56.733735230637059,53.388888888888886,51.555555555555557,52.305708112726606,47.095824118399783,54.114640836652079,47.888888888888886,52.944444444444443,{"$f":"alga_meanRV(CRH3:CRH102)","v":53.160992766992152},52.618553376722261,61.333333333333336,46.333333333333336,55.555555555555557,53.946767926296857,56.722222222222221,49.440347423388452,58.388888888888886,59,55.244117831116384,51.934156231935162,50.888888888888886,46.611111111111114,47.611111111111114,56.111111111111114,53.911356765777342,55.444444444444443,44.786355614130656,54.12224870182748,51.122277499512194,50.736429226116094,56.296728200169923,56.744784463498313,53.249104714205799,43.5,52.073440619946751,49.833333333333336,55.777777777777779,52.222222222222221,44.555555555555557,56.209617673679389,47.804380472511298,49.010188745990867,49.553193778144283,48.555555555555557,40.444444444444443,52.464832627129326,42.799015584656047,52.111111111111114,52.422670000117577,52.292914171366043,49.903305425057198,52.694510101240809,53.722222222222221,47.555555555555557,56.111111111111114,48.3067093401935,53.728171411360535,58.222222222222221,50.166666666666664,54.166666666666664,55,47.27609823690667,52.603178397503754,47.269976802325132,56.193729065873647,50.357369278206356,56.111111111111114,52.055555555555557,55.501827647933482,47.434928123217368,48.599538058221142,49.111111111111114,{"$f":"alga_meanRV(CTT3:CTT102)","v":54.823714000100686},58.944444444444443,49.272861827416286,51.388888888888886,51.405652632093492,57.166666666666664,54.469329874846778,59.055555555555557,49.317363234311806,51.893979605708736,55.95911641544884,47.694603525032896,48.785115247262148,51.833333333333336,53.305735824757207,52.833333333333336,49.762844898742792,53.385196002943289,52.777777777777779,56.104001950312849,58.030292908566331,52.076046567330124,53.178420074857087,46.333333333333336,52.273953565776537,48.92706860480483,50.963582722133751,45.166666666666664,53.317364369696712,55.518505810815427,52.777777777777779,55.444444444444443,46.166666666666664,51.2295368864363,60.722222222222221,58.767396469770773,53.797160363501156,59.121904643765319,52.897544842018711,54.888888888888886,54.829635985379134,53.884198182835135,58.555555555555557,53.333333333333336,47.66742731208079,57.158868496148393,58.437068202117288,53.166666666666664,60.222222222222221,55.5,55.864955552589194,45.777777777777779,59.611111111111114,48.112797157412807,53.238413535374967,53.686162172455283,51.675551944122454,53.337580576703054,48.721761786371836,41.166666666666664,57.111111111111114,49.500026051274972,50.901851780025247,54.777777777777779,{"$f":"alga_meanRV(CWF3:CWF102)","v":50.503803574541507},57,45.485229239106211,54.833333333333336,50.246925371500197,52.652840348132642,50.879136027575051,51.257498704702286,60.5,54.888888888888886,47.215818942659013,57.055555555555557,51.65349802945348,52.444444444444443,52.175278635042709,62.777777777777779,52.888888888888886,57.777777777777779,53.444444444444443,48.888894344963916,59.222222222222221,58.111111111111114,48.915411099641055,52.832273806332978,51.722222222222221,55.944444444444443,58.722222222222221,62.777777777777779,52.888888888888886,53.50915390217228,52.4145834402959,50.915662304238083,51.055555555555557,44.055555555555557,57.277777777777779,57.777777777777779,57.888888888888886,51.253874292229654,49.111111111111114,50.888888888888886,52.333333333333336,54.277777777777779,51.833333333333336,53.807181665559966,57.833333333333336,59.833333333333336,56.57747464524958,55.833333333333336,50.082520038881704,59.111111111111114,54.269050852540744,49.222222222222221,55.888888888888886,50.43197266146359,52.379325288887948,55.833333333333336,54.556729101033277,47.865277671243149,47.568015874159855,55.833333333333336,52.081726576438733,53.148207159536206,48.077002467295216,52.019860802802036,{"$f":"alga_meanRV(CYR3:CYR102)","v":56.777777777777779},53.694628715182631,51.962416114241705,50.309400817576908,53.333333333333336,52.555555555555557,57.607040144726319,55.85529345494799,45.833333333333336,53.990641771705761,54.556729101033277,46.444444444444443,46.403278730490698,56.833333333333336,52.222222222222221,52.940340649509835,57.889894147345409,51.653941222681851,47,52.722222222222221,56.277777777777779,50,53.994894917297692,52.108312622033672,53.388888888888886,51.5,49.853048192734235,53.555555555555557,58.5,52.371211917923667,53.826325748963761,52.888888888888886,50.334560628506644,56.722222222222221,49.513779670782519,59.0395595708248,57.388888888888886,52.674573505081305,55.166666666666664,48.958384794010307,61.444444444444443,53.972700837507503,52.678617752182056,52.949635214939512,47.697451839499294,50.039182923000809,58.611111111111114,57.222222222222221,55.833333333333336,51.544290080799982,52.559865012098982,53.516881238476216,51.551198773742442,56.055555555555557,56.570750162505014,54.052710833995555,54.767396172136138,52.726316236109966,51.555555555555557,51.333333333333336,44.095915412885944,42.111111111111114,59.555555555555557,53.888156039213804,{"$f":"alga_meanRV(DBD3:DBD102)","v":53.383205215244885},49.119622512203058,58.388888888888886,54.944444444444443,48.525152746845642,52.151971483301701,51.375597605840539,55.774975425175484,52.522142935685352,54.5,52.490537745875422,52.066921719825096,55.388888888888886,50.277777777777779,53.500275907660111,54.888888888888886,56.333333333333336,46.722222222222221,54.722222222222221,58.235472889022809,48.937385765768745,43.166666666666664,48.284388628588808,49.444444444444443,47.111111111111114,57.750655748700105,52.5,50.643755222069963,51.666666666666664,52.170250772994251,46.152361572337291,49.097922453277619,52.867371326534425,50.764162748092112,51.055555555555557,51.444707367881421,55.196860692137967,52.142298175544738,50.444444444444443,54.508261994367047,52.727687435869747,56.777777777777779,48.222222222222221,57,50.131864470843894,46,52.5,50.119150940006342,51.220058762672302,57.944444444444443,51.959820698666391,53.990960329064833,57.777777777777779,54.459824381118032,49.029155230146621,54.888888888888886,55.722222222222221,43.388888888888886,51.895659225706822,47.429460864215507,50.242764415398128,53.388888888888886,50.059813377174692,52.682503202344002,{"$f":"alga_meanRV(DDP3:DDP102)","v":45.625592344627094},56.226150728498425,53.870334530113297,56.069463591717472,57,52.637807219228982,55.461403941312284,52.708058392603867,54.682407264838666,53.123275623827261,57.333333333333336,52.295905412252118,51.777777777777779,53.630524187671469,49.658975210968578,50.769011523746762,57.111111111111114,49.551701390788288,49.332134083359406,56.777777777777779,50.477766429541091,56.424548912782043,58.722222222222221,44.555555555555557,48.529595904673371,55.189080207889077,59.166666666666664,54.777777777777779,45.111111111111114,58.833333333333336,58.055555555555557,55.388888888888886,53.271590621292916,49.817250012650241,50.888888888888886,45.777777777777779,56.416060697349081,46.166666666666664,56.32354127668831,52.333333333333336,49.552088212835983,54,57.179720854298722,54.833333333333336,57.555555555555557,48.040842383565185,50.944444444444443,56.111111111111114,57.444444444444443,54.460171525170828,51.057181129813443,43.888888888888886,56.777777777777779,45.932801607427081,53.318422035485391,54.611111111111114,50.148483711442879,44.777777777777779,50.888888888888886,56.111111111111114,56.722222222222221,55.705867400544342,53.63751854219975,57.722222222222221,{"$f":"alga_meanRV(DGB3:DGB102)","v":57.445644371816371},50.818985941448467,48.773439797568557,53.468877773719356,45.166666666666664,59.055555555555557,50.444444444444443,48.948344188065285,57.888888888888886,55.555555555555557,56.873068320044887,53.202467492976567,59.722222222222221,52.030657953476506,53.472347553682852,47.5,49.490598763175321,51.987399386357396,51.349068057777316,58.111111111111114,52.888888888888886,50.8440400772499,50.849412280197463,52.944444444444443,54.135562677501376,48.796278775851256,52.787496684277905,52.426892599664285,53.641342939564424,53.777777777777779,55.538738302130987,52.277777777777779,59.055555555555557,51.466245777336923,56.777777777777779,53.351421803888549,48.333333333333336,45.983375701572172,54.82449567381164,50.839556961827959,57.444444444444443,59.222222222222221,46.277777777777779,52.460518666955551,57.444444444444443,53.015803367711158,53.363882994512124,48.388888888888886,55.054942830874324,53.109450237403486,51.408332590071886,50.444444444444443,50.328975438499604,53.268674849437645,42.111111111111114,58.444444444444443,52.337724806743282,52.277777777777779,50.813884400989039,52.670571334483668,51.277777777777779,61,57.112325203489796,53.460239584927372,{"$f":"alga_meanRV(DIN3:DIN102)","v":56.5},54.932284763206049,51.144558988984947,56.807360737668461,57.333333333333336,53.155846527618436,53.21010475399698,54.722222222222221,49.387397101618063,58.35154420811827,46.791298798408015,53.964923562581887,55.706545978461371,55.888888888888886,56.555555555555557,46.166742481040778,53.73268516444346,46.555555555555557,53.611111111111114,52.720031071782465,50.210508179023755,57.341506182849244,49.388888888888886,57.945495871493904,48.83945894326061,53.444444444444443,54.722222222222221,53.944444444444443,55.246585854906378,53.388888888888886,49.229257262409838,53,48.394201247383336,52.777777777777779,56.111111111111114,54.925253033564566,52,51.611111111111114,54.888888888888886,49.055555555555557,45,51.407705189533537,57.833333333333336,52.653921728450172,46.661964715103892,47.722222222222221,61,54.421120125977495,56.582124531751738,54,58.026162141211834,51.915318600991903,58.555555555555557,54.085901072412888,57.888888888888886,55.888888888888886,56.777777777777779,47.822413475427453,49.919210596670396,50.229537882313686,51.866292645610571,57.277777777777779,49.166666666666664,53.5,{"$f":"alga_meanRV(DKZ3:DKZ102)","v":54.388888888888886},46.610998887549187,54.444444444444443,52.403483593537423,48.37012758807014,52.944444444444443,48.166666666666664,50.413195494810424,62.333333333333336,52.5,58.333333333333336,49.065871624626105,54.653976220361557,48.396851139958784,50.795859928605701,51.222222222222221,56.743414430212638,58.888888888888886,51.573456725461909,56.555555555555557,55.166666666666664,51.222222222222221,52.468067635251799,53.52291516128475,52.860076563253578,54.622413507072828,60.237188920449853,51.423004633198353,52.277777777777779,54.678381046423048,57.308459863811827,56.471999318399725,49.403862884549866,53.395650309534481,50.5,54.666666666666664,49.306825913119738,56.652804019968215,56.444444444444443,57,50.819975677271245,54.222222222222221,59.388888888888886,55.5,50.813061279383241,50.666666666666664,50.624644629084905,54.849034836940163,51.462404714581858,57.222222222222221,55.388888888888886,54.777777777777779,54.888888888888886,53.372387787075866,54.388888888888886,53,51.405758303748456,52.57619399503227,57.450547787564318,48.958540103352142,48.937389646568789,48.055555555555557,56.111111111111114,46.595030992694696,{"$f":"alga_meanRV(DNL3:DNL102)","v":56.111111111111114},53.759499445783803,56.709156237897929,54.185517221215882,51.928579470505312,51.637171968624074,53.099289265161445,43.370895630490494,48.838614094622862,53.948812409886777,48.418782845438322,53.670109574979143,54,47.676672548351654,55.333333333333336,42.444444444444443,55.555555555555557,46.868824316333047,47.78899977406023,52.046895016715261,57.555771803107518,53.879068342277577,54.944444444444443,55.202069680924261,52.470391717592975,55.944444444444443,56.111111111111114,55.554384864246146,52.215933151817289,48.722222222222221,51.771262706961188,49.22626120243217,50.226220467677095,57.388888888888886,57.166666666666664,56.971722839212099,51.848262433784726,51.818033858413372,56.055555555555557,48.936321460880094,58.345175744032787,53.222222222222221,46.444444444444443,53.812137740450304,55.397443401506706,53.722222222222221,59.111111111111114,54.470725230201651,55.817597562847951,56.833333333333336,57.833333333333336,45.388888888888886,52.058860483082213,53.126991387692918,48.5,55.833333333333336,56.005928482709756,40.888888888888886,51.868345751594489,49.322777049463873,53.987785681055989,53.300039607427671,53.722222222222221,52.888888888888886,{"$f":"alga_meanRV(DPX3:DPX102)","v":56.555555555555557},55.197708411297839,54.111111111111114,48.5,61.065577833702314,51.888888888888886,57.908439631270085,52.078724564431717,52.722222222222221,48.91686418521104,52.944444444444443,54.722222222222221,56,47.356185319356641,55.944444444444443,52.307093129148647,45.233322975095803,55.680628487238202,46.277912243724948,56.111111111111114,52.690321529365505,57.222222222222221,49.152124899644768,52.706147654429913,51.810765621194619,54.322874003951,53.346307355810261,53.11111661552679,49.912830038259443,55.5,50.159864687825085,49.506886593377537,48.450763584977075,54.518668578424531,57.979224897352573,53.195646819094883,53.277777777777779,51.483319983450428,56.275015682122849,52.715724745080955,53.381814319905523,57.222939431844594,50.719310411721089,58,55.388888888888886,51.534323934329365,48.320014499895755,53.945070098843594,56.055555555555557,56.111111111111114,49.811262220813397,46.800421595813106,49.375239281171389,55.10150039998085,48.663076170154831,56.05426318189437,52.537399838888604,54.277777777777779,46.747907212431912,55.888888888888886,53.142448041198612,52.912806094568715,48.948629868997294,51.92451171637029,{"$f":"alga_meanRV(DSJ3:DSJ102)","v":52.304459457807724},54.222222222222221,53.488284319577488,52.59607648655016,49.933751336899761,54.937396590558301,57.373129998814385,50.772038943862242,54.824317605088702,54.777777777777779,51.769526916817284,50.944444444444443,56.608436468973508,54.082343625600267,57.722222222222221,51.003053680775047,51.165576865287377,48.888888888888886,51.042746488625802,46.444444444444443,56.111111111111114,53.136098790274389,55.269537219562082,55.086123591304585,55.277777777777779,56.848158099375219,50.082903999596589,53.076925622379221,53.055555555555557,52.689564654635781,58.166666666666664,53.277777777777779,51.75011096255313,56,49.935911337464091,57.388888888888886,52.26400309709777,53.305671852910848,46.067065309890637,42.055555555555557,57.333333333333336,56.5,55.318382211776694,55.166666666666664,54.043274961808756,48.626945146703122,53.521056409943249,56.722222222222221,56.780114307646905,53.985332476676071,54.529744459811432,54.518789036695175,53,52.822519977982353,49.234085998701026,53.666666666666664,54.611111111111114,54.777777777777779,57.222222222222221,47.189608406877156,50.607969297383335,55.888888888888886,50.875522392063004,46.444444444444443,{"$f":"alga_meanRV(DUV3:DUV102)","v":49.888888888888886},54.833333333333336,55.319514420703968,60.376367120296031,42.222222222222221,58.5,52,54.550317362206982,44.833333333333336,47.339478769798717,53.41801558432055,51.858380068686593,58.197395607930126,53.722222222222221,44.666666666666664,55.277777777777779,50.429065310166592,49.828855424228678,47.238022420454449,56.555555555555557,49.651227490464471,56.277777777777779,53.50780414386432,56.023915660582162,57.388888888888886,53.055555555555557,54.277777777777779,56.518271094987014,45.898123820441583,51.330402183319499,51.771507614485273,43.333333333333336,56.611111111111114,52.585388488540907,55.964955620572596,49.830995594781648,49.446312798252322,53.055555555555557,55.963346487405268,49.065136471755565,50.060816960244139,54.833333333333336,52.680505843569613,53.608447528095468,49.529612550455141,50.954921047536111,51.44343762085731,49.555555555555557,50.938215869114728,53.555555555555557,52.031410132649718,46.444444444444443,54.194742985627819,54.833333333333336,50.944444444444443,51.518398256063499,50.064154382110786,49.646381957745874,47.225589304833889,54.798274330533189,57.611111111111114,53.113030691538007,50.690659962165618,51.611111111111114,{"$f":"alga_meanRV(DXH3:DXH102)","v":57.166666666666664},58.444444444444443,55.555555555555557,55.222222222222221,53.386761868038008,52.267446022153784,54.395970258950328,56.055555555555557,57.944444444444443,48.825761903829211,56.166666666666664,47.982053384341988,53.878111052797152,56.055555555555557,49.155390473725625,56.944444444444443,55.448808462839402,52.169569521607315,52.587973279509782,50.570560778154871,51.250757214069509,53.222222222222221,54.233304889729794,58.277777777777779,53.888888888888886,51.277777777777779,47.036652048671471,51.235263751122311,55.435876085374211,58,56.888888888888886,54.861334729091716,48.001644819698463,48.365790665420505,57.222222222222221,50.5,56.055555555555557,49.975975237424464,56.166666666666664,49.066474116861585,55.990330852512244,48.801017792598614,50.23961827764694,55.819109734521838,47.055555555555557,49.509004278954727,51.567818620225779,52.833333333333336,48.946618745706004,53.055555555555557,48.277777777777779,50.388888888888886,54,49.103852450587148,57.333333333333336,45.777777777777779,58.218760159852167,49.621404917395175,51.241585342643759,58.444444444444443,57.676023027973443,56.696654638356407,52.425795317646283,49.333333333333336,{"$f":"alga_meanRV(DZT3:DZT102)","v":52.813978466759977},55.342934888144256,55.722222222222221,50.371163623197049,53.376357602590964,47.65714814832485,55.416664163902091,53.555555555555557,51.618787915483949,55.333333333333336,51.127708348436876,56.666666666666664,54.751882295006538,54.222222222222221,51.111111111111114,53.555555555555557,53.5,50,56.111111111111114,51.442668549719059,54.888888888888886,53.837642072289391,54.944444444444443,47.299263660309585,51.38775316504308,51.265854767273055,53.368835410520255,54.555555555555557,49.862156404805809,54.163413783344026,55.892122322629852,53.917589351375014,53.444444444444443,54.777777777777779,47.277777777777779,53.737321750138101,60.555555555555557,47.214005136981456,53.277777777777779,54,48.71858387980469,52.072093779740079,51.264537205068279,55.611111111111114,53.277777777777779,43.777777777777779,50.340835221717548,53.105519096574184,49.722222222222221,49.722222222222221,53.077382836698916,51.746469133657925,52.522142935685352,48.049298184125242,53.944481474190518,52.944444444444443,52.842964644359441,55.46310329790731,56.997813009385169,51.596771393306454,56.042484695233007,55.888888888888886,53.281765625213197,55.444444444444443,{"$f":"alga_meanRV(ECF3:ECF102)","v":51.859960206611312},54.111111111111114,54.111111111111114,55.944444444444443,51.692991254282056,49.960172790902625,53.555555555555557,46.169546817685671,42.666666666666664,53.441109901181363,46.782356259810875,49.268282816923076,58.386818030819363,51.900804994050766,52.69987467771309,55.944444444444443,53.829926212420894,52.809594631642668,49.399695855361209,50.867298728984167,54.409697275995462,50.688110172442343,50.268661329929387,52.041137505788733,52.013276293245958,57.722222222222221,47.69897293367174,54.129473719439616,54.014929500121305,53.166666666666664,55.179783233190307,49.222222222222221,54.422332542400561,56.111111111111114,57.888888888888886,52.611111111111114,56.333333333333336,56.166666666666664,53.76380291603904,54.934647964873278,57.222222222222221,55.342235453183434,52.625236332439862,50.388888888888886,55.555555555555557,48.784322901928526,46.344451589988012,55.388888888888886,51.104104371314577,59.166666666666664,52.769916033183385,60.333333333333336,52.854917198372235,51.274755848779755,56,51.461947685158925,56.222222222222221,53.411411086395702,51.478716984750235,53.475256311336551,55.057941327780114,52.610424334481053,56.722222222222221,58.444444444444443,{"$f":"alga_meanRV(EER3:EER102)","v":52.888888888888886},61.363671513168839,51.261504076970262,50.234621119641467,58,59.722222222222221,49.222222222222221,50.186483369957529,53.41277021425298,54.388888888888886,53.055555555555557,57.222222222222221,49.666623380868259,55.111111111111114,53.362920071905016,52.666666666666664,52.324113185487967,54.967228717197628,59.111111111111114,56.833333333333336,51.640629785313415,54.541986206330449,57.444444444444443,48.786972589011647,58.388888888888886,57.944444444444443,57.111111111111114,54.783206595124497,56.293848759976591,61.777777777777779,59.166666666666664,52.777777777777779,52.75601523926003,50.381993726238456,51.689882676460428,50.733826048362062,56.833333333333336,53.333333333333336,58.722222222222221,55.5,49.333333333333336,60.555555555555557,58.441129499272087,49.416868234508748,60.833333333333336,52.812265750189113,54.281548985401955,61.555555555555557,55.595864200756843,53.833333333333336,58.187699493722853,55.937063199076071,52.430185501337036,45.166666666666664,60.777777777777779,51.888888888888886,53.444444444444443,52.091245994595155,57.028363050795029,48.555555555555557,53.926340903646832,48.09845150983017,52.111111111111114,55.277777777777779,{"$f":"alga_meanRV(EHD3:EHD102)","v":46.546272830600188},48.833333333333336,49.421195999998638,52.996415888229791,52.888888888888886,47.944444444444443,51.360950055808175,51.722222222222221,47.833333333333336,56,51.055555555555557,50.238023722407256,42.777777777777779,53.555555555555557,55.045369444818625,57.702027283542748,52.446009124057795,54.166666666666664,49.28434068412659,55.722222222222221,53.969424495361437,58.444444444444443,55.944444444444443,51.888888888888886,48.081102704379695,46.078914609603423,51.777777777777779,53.611111111111114,52.611111111111114,51.91208597152157,55.388888888888886,53.747145197575897,44.833333333333336,51.540150857996942,51.852463721910198,54.975795428732518,59.777777777777779,51.813242336726461,53.263196625323012,49.749633707135985,47.734257152383549,48.327793501744878,50.439739697033218,56.235451483599114,51.045671545212535,55.055555555555557,48.446949173415483,52.269890843338004,50.444444444444443,53.44095734837601,52.611111111111114,55.034992077157931,54.524210084872458,56.833333333333336,58.030292936124333,56.111111111111114,52.833333333333336,55.387507372947262,51.637458831700776,53.944444444444443,56.444444444444443,56.722222222222221,52,55.555555555555557,{"$f":"alga_meanRV(EJP3:EJP102)","v":53.555555555555557},52.706147654429913,52.07167646911423,47,50.082903999596589,48.550376165471306,53.759857737500141,54.111111111111114,51.436614459252283,57.333333333333336,55.324259122728378,54.554677731509905,50.526571174651657,52.472009797279064,53.388888888888886,53.214029836592971,57.333333333333336,53.896579418084222,54.09311086543908,52.927678993470863,57.388888888888886,53.944444444444443,56.069468557971696,55.277777777777779,54.402042738666232,49.1532799310718,58.444444444444443,58.563065028019359,50.25031141203462,52.283946791156218,50.669242391210922,54.958008698263633,45.252653768336387,57.388888888888886,52.444444444444443,51.493738531206958,58.944444444444443,51.055555555555557,47.579212420504646,53.210804038894466,48.206453945862343,49.723912032427364,55.198071483223757,60.166666666666664,54.666666666666664,49.250414808923225,54.145193241175996,56.666666666666664,52.762281947176241,50.520090081896264,58.341831087702275,53.123212067764598,57.166666666666664,52.183217403309371,55.833333333333336,54.520012274726099,52.746287618095636,55.888888888888886,54.666666666666664,54.292465765420104,56.90334698291867,58.277777777777779,45.222222222222221,44.722222222222221,{"$f":"alga_meanRV(EMB3:EMB102)","v":57.081541573445925},55.387618672207523,53.532772408515719,56.833333333333336,56.666666666666664,55.99910340861944,56.613954519852307,52.823612689153521,55.444444444444443,46.944444444444443,54.74670168260544,58.611111111111114,60.444444444444443,49.777504575123288,50.801313821518967,52.277777777777779,47,54.666666666666664,53,48.951484133568876,58.111111111111114,54.09024780304199,57.833333333333336,45.376261411680609,50.522592812718202,51.874748034268123,51.678623945400389,50.247849213218373,56.277777777777779,44.388888888888886,59.388888888888886,55.487869793774053,50.742832772002082,49.055555555555557,57.222222222222221,52.876099589166515,59.055555555555557,59.611111111111114,56.444444444444443,55.333333333333336,52.969350150549168,52.751841343965673,58.166666666666664,50.388888888888886,55.018979811249849,51.251206174589306,54.671297858228584,50.120771279647059,56.67202559481332,57.777777777777779,49.009812205206053,54.681646674385661,51,57.207158410924272,49.111111111111114,53.728171411360535,56.666666666666664,57.188278296015447,52.190227257258357,49.944444444444443,50.192105413831101,50.300030812069799,56.722222222222221,56.632768806724712,{"$f":"alga_meanRV(EON3:EON102)","v":53.419187879025486},52.195353469765003,50.250684410665059,47.238351787133944,50.7112550129482,53.611111111111114,57.277777777777779,45.722222222222221,52.944444444444443,57.905621531183932,52.777777777777779,52.333333333333336,56.65661414736563,55.388888888888886,43.777777777777779,51.079952881206481,54,56.277777777777779,55.684938192705459,44.111111111111114,55.697889223138027,49.668877017744684,55.599198528654227,57.388888888888886,55.555555555555557,54.976162713490261,52.151571868509286,53.888888888888886,57.727158229730584,54.833333333333336,57.111111111111114,53.124621005606514,50.372809616046574,54.824687277270826,52.388888888888886,51.666666666666664,57.116262006731716,52.530504706676318,52.944444444444443,52.196286001691597,61.722222222222221,53.777777777777779,58.821196771524882,53.388888888888886,48.841307922918269,55.337970679759977,49.503035258254073,56.233554472776127,50.541994516859056,55.722222222222221,46.277777777777779,53.624185082354501,52.245333226792091,60.388888888888886,54.690710974743695,50.793588122542502,58.163847330935113,56.515597816434379,52.564528825931298,42.388888888888886,51.277777777777779,54.555555555555557,52.166666666666664,57.388888888888886,{"$f":"alga_meanRV(EQZ3:EQZ102)","v":53.907179278898553},54,49.707180578540616,53.5,56.452402445722669,56.802371717482274,56.777777777777779,51.611111111111114,56.055555555555557,52.72315768466818,61.444444444444443,49.666666666666664,54.555555555555557,53.555555555555557,57.111111111111114,45.555555555555557,56.388888888888886,52.64173520649279,54.47786685187701,47.38582771134449,56.888888888888886,53.135813789312692,55.390680176942922,54.321839498753469,50.686529449241846,47.423773866765764,51.990952053159859,56.111111111111114,57.888888888888886,53.425443188075697,49.212581558522551,50.832792157485528,60.555555555555557,52.127056257487084,57.166666666666664,53.388888888888886,41,55.659187188406108,52.888888888888886,57.5,52.664660140868619,56.666666666666664,54.722222222222221,41.055555555555557,50.850781313989636,51.944444444444443,50.742230108859786,53.722222222222221,56.666666666666664,52.32429177333519,48.833333333333336,51.166666666666664,56.544476489712807,46.949998909583734,50.098457249056125,51.94516859801962,46.566783793883538,44.611111111111114,54.777777777777779,55.037207813769889,53.247801335685999,56.657714645249058,47.512341655186837,44.833333333333336,{"$f":"alga_meanRV(ETL3:ETL102)","v":53.140090718924732},54.766591093227213,50.132943415496619,49.111111111111114,52.5,51.819090276554135,59.153586954360861,58.722222222222221,56.722222222222221,51.639514596149347,56.058696943891491,51.555320253366681,59.166666666666664,52.575331329095633,57.333333333333336,52.200020650208337,54.591028435949241,54.624278341661267,56.5,47.833333333333336,54.636952678912735,54.166666666666664,55,51.505532747946617,48.808459470718226,52.01541853429957,49.708906572590976,55.941095675455216,57.222222222222221,58.388888888888886,54.187195864711008,43.277777777777779,58.5,58.555555555555557,46.722222222222221,53.853122972905368,49.5,41.888888888888886,57.833333333333336,44.973555666406568,53.611111111111114,56.444444444444443,57,54.666666666666664,52.112063009059867,53.322141038771441,51.30718176857345,57.888888888888886,51.870702095541759,52.454315113723041,54.191410263942352,49.29492220544924,53.666666666666664,41.722222222222221,53.404280974225074,47.111111111111114,57.444444444444443,56.602421163467113,52.944444444444443,57.38569996203244,51.9626804354846,52.75564491954988,48.200604313367741,58.616396554679781,{"$f":"alga_meanRV(EVX3:EVX102)","v":56},57.340234465620469,55.444444444444443,56.62593450867729,48.888888888888886,54.249448804709971,50.5,58.611111111111114,58.055555555555557,59.252561728080273,52.5,57.091644507558108,60.5,54.777777777777779,51.888888888888886,49.165326695824177,58.388888888888886,50.055555555555557,53.043367788363653,54.888888888888886,54.611111111111114,51.722222222222221,54.611111111111114,52.110074803908915,49.570932038502114,57.804305168759498,54.098932323894495,50.785326110968967,54.636023621969997,49.064951638696797,47.217583245794721,56.611111111111114,58,48.944444444444443,47.464245764756171,52.029776671508749,47.710803267430222,55.111111111111114,53.611111111111114,55.611111111111114,53.555555555555557,57.222222222222221,54.666666666666664,48.388888888888886,57.864190462887727,46.444444444444443,52.792040598457689,55.942099578724331,46.90027641064416,52,54.055555555555557,54.888888888888886,53.938104086085609,57.444444444444443,51.333333333333336,54.833333333333336,46.333333333333336,55.111111111111114,54.166666666666664,40.5,50.055555555555557,48.888993473971738,53.637463546077576,51.783971634633104,{"$f":"alga_meanRV(EYJ3:EYJ102)","v":49.038403498913425},52.792842331230823,53,56.919141658091675,55.388888888888886,57.277777777777779,54.028221427614511,49.295916925057973,51.3880059739529,54.611111111111114,50.751966818877733,55.5,54.697424594739324,52.966674529175627,51.907178977667897,49.984761570602956,47.917287471878453,60.444444444444443,52.266314121736031,55.822837000663817,52.978971063342492,52.216299608380936,55.590536982220812,47.374999294371342,47.065524513615095,50.666666666666664,49.798572650416105,53.501466734075294,47.149439721068845,48.332550277285243,46.400513190571786,50.254793117445324,49.004007858052127,50.723543428489847,44.611111111111114,57.504037643855177,57.166666666666664,51.438808673048328,55.444444444444443,53.350496160596769,54.722222222222221,62.055555555555557,51.850408873735546,52.821727423114723,53.924035118392524,52.128978111487008,55.849849227932474,53.388888888888886,57.743088075278173,45.555555555555557,58.944444444444443,56.611111111111114,49.09789343022473,53.826503493204456,56.780647232377241,51.111111111111114,54.733825855010068,53.969424495361437,43.833333333333336,55.245236198897402,51.055555555555557,56,54.435337293461188,51.406989935344662,{"$f":"alga_meanRV(FAV3:FAV102)","v":53.344628968772795},38.666666666666664,52.340395682992494,55.907885302206033,49.225955568015735,56.611111111111114,55.388888888888886,52.5,55.611111111111114,54.468171974490097,51.652640263951739,49.946850527299098,46.055555555555557,51.777777777777779,57.722222222222221,51.243180294687917,52.766528885611699,52.556316888435262,51.334485924119441,51.408634844592207,51.333333333333336,51.871069999211294,51.505060257478817,51.484168568487007,50.762082071727868,55.5,55.722222222222221,59.777777777777779,50.626373530962347,48.777777777777779,57.607956487207893,47.146546436108309,51.694707676391793,54.557568083664471,44.555555555555557,53.888888888888886,53.366730806047158,48.831639840532489,51.875490262816776,55.166666666666664,49.083866349106131,53.461947426959064,53.555555555555557,60.055555555555557,52.166666666666664,55.405748162607068,44.666666666666664,50.472508851912885,58.666666666666664,55.333333333333336,53.523994659201769,55.945550544355449,48.096818151164335,57.611111111111114,55.405523887728251,53.5,63.444444444444443,52.611111111111114,51.688974990832158,58.388888888888886,53.333333333333336,57.666666666666664,58.555555555555557,60.5,{"$f":"alga_meanRV(FDH3:FDH102)","v":51.847478213088749},50.74273431382592,53.289001647171354,56.666666666666664,57.722222222222221,51.718794057097583,58.888888888888886,48.336152301429216,52.04521384993911,57.777777777777779,44.555555555555557,44.055555555555557,59.152126192732261,56.166666666666664,47.937002745457121,58.055555555555557,55.541406258003384,53.942809394875916,55.055555555555557,52.277777777777779,54.49555142518134,52.5,53.722222222222221,52.166666666666664,47.777777777777779,54.599198221600034,51.56342883090268,58.277777777777779,55.166666666666664,52.756190238026335,48.594184802714608,53.5,49.44055917131049,60.555555555555557,53.861699835974463,54.888888888888886,49.333333333333336,51.483087733593692,52.333333333333336,50.323883695097706,54.144676206901096,53.761341170777641,49.49640998221723,58,52.346305190790055,55.303018728040307,57.777777777777779,49.555555555555557,51.297457514030143,53.388888888888886,50.797887115549422,57.388888888888886,51.145030217438489,53.945907791330164,54.060597506987364,55.536238413517594,58.584834204241005,54.135189189445157,44,51.833333333333336,60.435972023113877,51.388888888888886,54.666666666666664,55.456207950681275,{"$f":"alga_meanRV(FFT3:FFT102)","v":58.334578700584174},56.111111111111114,55.421588618104643,56.000450757842572,45.333333333333336,49.475207307161504,54.833333333333336,57.888888888888886,45,53.444444444444443,53.438872998998249,44.055555555555557,54.777777777777779,53.444444444444443,55.333333333333336,60.552870546548696,53.687008020832423,48.808242733167887,52.444444444444443,55.791288985556712,49.027152768077208,55.444444444444443,53.5810027803658,55.116258033396576,50.353439859315685,46.111111111111114,49.247645878087432,47.989808732930001,57.522578755370077,53.070478501665335,52.888888888888886,53.426530439422351,53.658754319166242,45.9551586370618,49.201405778903606,57.222222222222221,50.343443117255134,52.389513848602824,54.768009833568627,56.555555555555557,47.5,53.27882089075765,51.342935749857169,50.914799601841928,58.555555555555557,55.066123257896635,52.777777777777779,56.346219614664051,46.913536889887673,52.190864472593688,58.149820464329572,55.923279208926594,50.88051115437252,55.931994284627585,54.265671600902564,55.912485285164522,54.388888888888886,54.001930364351523,55,51.535550531612486,54.531833214728117,45.82611526451462,50.649961771320335,52.244935845093629,{"$f":"alga_meanRV(FIF3:FIF102)","v":52},51.346989933276973,48.944444444444443,53.604413504099561,58.444444444444443,46.668143806422364,55.701232605961508,57.611111111111114,51.331538796358238,55.444444444444443,50.442367962757722,48.017094876276715,49.456380142953527,52.86739320409783,49.055555555555557,54.611111111111114,56.444444444444443,57.333333333333336,51.551198773742442,55.973183942893272,48.333333333333336,52.462684440095266,57.111111111111114,46.388888888888886,51.666666666666664,57.777777777777779,49.943099710684137,57.722222222222221,53.722222222222221,53.777777777777779,55.444444444444443,49.28014143336577,53,47.166666666666664,56.629966541696497,49.318310515319439,51.46624635304525,53.392145911655334,53,52.684753006593638,58.5,47.777777777777779,53.096256161639957,51.555555555555557,50.376454266297621,54.847675939736732,54.833333333333336,55.896820289234455,53.047448452028455,54.150719897236449,46.555555555555557,53.429505312350969,55.061025325739642,58.388888888888886,50.88639840634869,52.254471612927041,48.833333333333336,50.53549121807324,55.944444444444443,52.106232950337613,50.510823825255294,52.697906944219,50.711402925082261,54.388888888888886,{"$f":"alga_meanRV(FKR3:FKR102)","v":53.666666666666664},58.555555555555557,57.944444444444443,55.518398628544396,53.936658292039944,52.444444444444443,55.555555555555557,55.920485325024302,53.833333333333336,56.64477010822683,52.611111111111114,56.111111111111114,51.055555555555557,55.444444444444443,50.410262754618287,52.888888888888886,53.302596134267247,51.383736744057465,48.833333333333336,58.444444444444443,51.209375433580242,56.277777777777779,54.780025589375896,50.030409113940621,50.489679952747764,53.000277163329038,55.5,57.444444444444443,53.577582909043386,39,52.398391017620639,55.210811737623345,54.356299376865223,52.225759061204215,48.574816239595847,43.222222222222221,50.021934831327634,48.366766847259711,47.662598759755639,47.833333333333336,54.891412607392844,54.056030633492654,47,49.444444444444443,54.009366512167588,54.222222222222221,53.777777777777779,46.342009774787797,53.127977013796176,48.706386512897986,54.65768326057227,57.222222222222221,50.986327746215586,50.6188469090309,50.912136133668852,53.5,47.985584983075483,53.866941740302295,48.284890461012004,55.300155188134205,45.777777777777779,57.277777777777779,59.777777777777779,47.277777777777779,{"$f":"alga_meanRV(FND3:FND102)","v":54.611111111111114},54.777777777777779,58.5,51.298883355476114,50.480459232614855,56.921340851713843,53.166666666666664,48.495399859398354,50.673383111678781,52.687423912653998,49.83750862116689,51.888888888888886,54.495839952087508,54.306416582462958,52.155031236198589,49.486754516326378,53.315150809949124,49.613060802737088,52.833333333333336,55.53628538070901,59.611111111111114,54.666666666666664,45.042508127788174,53.496946981794466,58.5,53.114817063878668,48.977410214950929,54.944444444444443,50.666666666666664,52.590164804312934,56.555555555555557,52.00360100202218,50.10843014211931,53.555555555555557,50.575687423186949,58.777777777777779,45.111111111111114,53.055555555555557,55.083661631671987,54.166666666666664,57.055555555555557,51.971138016862426,53.833333333333336,54.536668457488709,52.666666666666664,47.333333333333336,57.166666666666664,49.166666666666664,40.555555555555557,54.055430208318427,50.715472316359687,53.722222222222221,56.004517755981482,54.555555555555557,49.591511795721516,48.556385211867763,61.555555555555557,53.388888888888886,53.055555555555557,43,50.945910674195403,54.595120492656285,55.888888888888886,58.388888888888886,{"$f":"alga_meanRV(FPP3:FPP102)","v":52.677370874396978},47.666666666666664,52.066921719825096,54.097258499386299,58.277777777777779,57.333333333333336,57.166666666666664,51.05717884385512,50.108174568498782,55.5,50.129870487204741,44.277777777777779,53.341927719965874,50.871616087646807,55.055555555555557,53.194432652988127,54.333333333333336,53.10439021978685,57.777777777777779,56.380467202146178,56.944444444444443,54.082113279821321,56.611111111111114,52.088100411901991,48.603566683847241,53,50.350626541780443,51.277777777777779,49.564532630123523,55.243994928029593,52.722222222222221,58.055555555555557,49.663496491312308,57.140092375113454,52.301029616169188,55.806651422459694,55.888888888888886,56.722222222222221,54.717861482212975,53.820568756756565,51.740743362726363,56.235111335348442,51.270912526640046,56.777777777777779,57.722222222222221,48.261119691355212,50.550255880348736,51.19759672438704,48.795902224659798,58,55.055555555555557,49.277777777777779,57.666666666666664,46.979350203585554,45.104543988347615,48.333333333333336,57.234710160519775,59.055555555555557,57.166666666666664,50.909254736253537,53.640023804696106,52.710594278579578,53.388888888888886,50.725938134619618,{"$f":"alga_meanRV(FSB3:FSB102)","v":53.776018637351577},54.417143895669646,51.833333333333336,56.444444444444443,58.111111111111114,57.222222222222221,53.001255915513141,44.172888245271601,50.09878719399822,54.777777777777779,46.928901416324067,59.521847444043907,53.820962103814431,52.754490067079551,57.111111111111114,49.388888888888886,44.944444444444443,54.111111111111114,53.166666666666664,47.626760007606372,51.116682964960773,49.72498660775878,55.189071499261949,52.730184283905885,52.546182500811838,55.888888888888886,43.333333333333336,50.286848644182584,57.277777777777779,52.108312622033672,49.332134083359406,54.514854370805352,51.035521818963474,50.5,51.864890693163979,52.653175350989187,54.652840630109736,51.234710286306701,54.777777777777779,52.631854296570879,51.535167680126932,55.280250971362825,51.111111111111114,49.722222222222221,48.777777777777779,55.024484027331624,46.954461051994471,58.166666666666664,49.51706916411004,54.241577882574191,53.555555555555557,45.444444444444443,59.708219954293035,48.722222222222221,53.075373401911719,52.337724806743282,51.257945757231468,56.022768677796783,52.018127573840133,52.5,54.055555555555557,55.419175716341698,53.055555555555557,54.274068149590022,{"$f":"alga_meanRV(FUN3:FUN102)","v":56.5},48.244953121580949,55.277777777777779,57.888888888888886,53.722222222222221,55.36888966753358,56.166666666666664,44.984995721848321,53.498638455218369,53.091902694481227,44.946494592772773,56.004515853182056,57.444444444444443,50.305173179878665,54.005012883462172,54.646508120920458,56.888888888888886,54.487869572746916,55.111111111111114,54.388888888888886,51.555555555555557,58.5,57.666666666666664,52.833333333333336,56,53.666666666666664,53.057398018867261,59.333333333333336,50.664312572821011,46.444444444444443,55.305683959213255,48.459887380159465,52.039703741434053,49.199344159828883,54.085901347690395,55.941093776613606,53.222222222222221,51.019784702011478,53.803165873397738,54.777777777777779,49.055761695939729,53.722222222222221,48.406190861692764,59.055555555555557,58.277777777777779,50.462888536620277,52.724014333105572,52.555555555555557,54.722222222222221,47.678100091606801,58,56.858599869388328,43.222222222222221,43.944444444444443,53.211389622359683,52.83716419168794,53.944444444444443,56.494411358073762,57.5,57.277777777777779,49.429757913201428,47.655699879475293,52.388888888888886,52.360779778532134,{"$f":"alga_meanRV(FWZ3:FWZ102)","v":54.722222222222221},52.652840348132642,55,56.056869599892039,49.548954916742822,52.875719516350237,47.636626647737359,50.722222222222221,57.111111111111114,53.997431348001108,56.222222222222221,55.944444444444443,50.732315492768912,50.091247649754706,52.318746668193484,56.611111111111114,45.944444444444443,61.555555555555557,52.943169179540291,57.198454351328742,55.629714048561866,50.944444444444443,52.368291083063923,54.222222222222221,55.944444444444443,54.777777777777779,55.5,53,46.055555555555557,56.611111111111114,57.365220265292933,51.111111111111114,53.062772846936454,52.101351773938077,57.901375776714744,48.055555555555557,53.355456752416323,57.682225512391675,52.538199624696603,48.833333333333336,51.611111111111114,53.853037053783915,56.666666666666664,49.590909212616587,54.893099374938792,49.82848610139385,59.166666666666664,55.388888888888886,46.944444444444443,56.277777777777779,52.070226394643903,52.813610236486568,47.555555555555557,57.222222222222221,55.388888888888886,54.547503874848104,55.210337129575628,57.004176496219394,52.040081583330007,50.42090131865919,52.73765103593793,53.666666666666664,48.277777777777779,49.135075668371151,{"$f":"alga_meanRV(FZL3:FZL102)","v":54.166666666666664},52.552345996140843,54.081402886564632,44.171865447410447,51.487138998786264,54.5,52.207725789840332,47.625561591096165,46.410604562735394,56.975733873236095,59.055555555555557,57.603383275409243,53.658214153586215,54.111111111111114,57.080742351962499,50.677495950967383,51.290022063463311,48.045908188052358,62.555555555555557,54.046843138492875,52.657482397981319,53.795651039845957,53.509153902172272,49.789532370044157,45.888888888888886,53.55828997901969,53.611111111111114,58,44.333333333333336,54.890464226057325,57.111111111111114,58.833333333333336,51.39617958114377,49.192425708801586,55.888888888888886,49.740475706913152,49.493146482431492,54.5,48.791740984333835,54.611111111111114,58.555555555555557,55.944444444444443,54.61515251391782,54.486731189850452,55.388888888888886,54.163486412056663,57.166666666666664,49.382011537039489,45.777777777777779,53.017684445853632,54.297510739327478,49.280143510031394,55.5,53.566616892105039,52.039704544599346,56.666666666666664,55.65358289638003,51.556040257578466,54,51.852806913703823,57.333333333333336,54.276326565738572,52.508257769868102,47.055555555555557,{"$f":"alga_meanRV(GBX3:GBX102)","v":55.944444444444443},49.035699287723524,56.222222222222221,40.555555555555557,53.724325102759607,54.174273116729978,55.277777777777779,51.135381426390303,59.104449509205274,49.478359083586639,59.722222222222221,53.555555555555557,49.363774858816754,54.110085573776523,56.055555555555557,57.111111111111114,49.24963200510885,51.703623453947849,53.166666666666664,56.555555555555557,50.718246170842768,55.944444444444443,53.222222222222221,52.400483421660788,48.454936443096138,57.859355522711013,55.418398836570674,54.722222222222221,57.222222222222221,52.277777777777779,57.233478480454977,55.888159854636001,55.743453818802138,50.752576559391954,59.166666666666664,57.360525041556848,55.944444444444443,52.237897043471968,55.112181312321717,53.364534146652083,52.639892273794352,56.234002622313902,54.798948023042513,50.450764732955726,54.611111111111114,54.166666666666664,43.87090309787235,50.854827867034686,54.762077351635334,59.777777777777779,54.714701676913329,52.655985438101979,54.798274330533189,47.762015957561147,57.444444444444443,56.111111111111114,52.464542396951508,55.305326573073323,49.545356858607811,56,50.666666666666664,47.611111111111114,48.777777777777779,59.444444444444443,{"$f":"alga_meanRV(GEJ3:GEJ102)","v":57.166666666666664},58.888888888888886,53.5,55.315880187566677,53.318372438308607,57.055555555555557,51.321251252203211,57,52.220833435953182,55.861319124682318,45.654190601030315,57.910651620764689,48.285753418468317,47.980266104404052,41.111111111111114,41.444444444444443,54.777777777777779,44.833333333333336,50.641933994543507,53.055555555555557,55.833333333333336,54.334375348638346,55.732150679319886,52.618553376722261,56.777777777777779,55.444444444444443,51.722222222222221,47.509918606813343,53.08215189734252,51.339865626805931,53.555555555555557,49.5,53.804060254979845,50.31209612381781,56.234700479360278,54.61536804361613,55.210079192518656,53.772438276076123,57.167809190582602,55.388888888888886,50.277777777777779,45.933167193745575,55.777777777777779,52.611549238063141,53.223886117446987,51.703100595053257,51.567180688319532,44.055555555555557,60.777777777777779,52.573718067171981,54.833333333333336,54.663677250358859,47.545594430187684,49.5,46.611111111111114,47.635793141978219,56.591118366525144,52.971137745474081,50.555555555555557,55.089428123968432,55.277777777777779,47.994387705329132,54.546466701813564,54.960848917241677,{"$f":"alga_meanRV(GGV3:GGV102)","v":52.684534912454446},56.166666666666664,55.944444444444443,59.111111111111114,54.270541765388494,55.936290400780315,49.08516090405908,54.527527044480358,50.155032315772033,52.25735252556079,53.268197797527371,50.333333333333336,49.277777777777779,47.172935726816227,44.696486871783208,49.992025423913837,50.827652136134063,49.730104582083811,52.833333333333336,54.444444444444443,47.648310996018296,53.722222222222221,45.611111111111114,51.40658268924404,52.944444444444443,55.944444444444443,56.444444444444443,53.920113002987172,49.669616110416079,57.5,50.828416776607199,56,56.888888888888886,47.509886999529712,53.76380291603904,53.5,55.916739092173572,53.02019404235913,55.833333333333336,52.315514134750465,54.744784744792696,54.833333333333336,47.611111111111114,47.845871325600598,52.978101979339378,51.403141460670874,57.008701215700576,45.444444444444443,57,52.771244765140608,50.995896385127999,55.722222222222221,45.444444444444443,53.302125928454238,50.506046412845954,52.555555555555557,53.722222222222221,48.166666666666664,53.61535787074672,57.055555555555557,57.222222222222221,51.777777777777779,58.888888888888886,44.055555555555557,{"$f":"alga_meanRV(GJH3:GJH102)","v":61.5},54.094904487982276,47.684628572882616,55.087403511451527,48.006357181612458,51.113650098307616,53.553323117608159]

{"sheet":"Tabelle3","index":2,"n_rows":0,"n_cols":0,"rows_kept":0,"cut":false,"hidden":false,"merged":[]}